BEGIN:VCALENDAR
VERSION:2.0
PRODID:-//Mountain City Church - ECPv6.15.19//NONSGML v1.0//EN
CALSCALE:GREGORIAN
METHOD:PUBLISH
X-WR-CALNAME:Mountain City Church
X-ORIGINAL-URL:https://mountaincity.church
X-WR-CALDESC:Events for Mountain City Church
REFRESH-INTERVAL;VALUE=DURATION:PT1H
X-Robots-Tag:noindex
X-PUBLISHED-TTL:PT1H
BEGIN:VTIMEZONE
TZID:America/Anchorage
BEGIN:DAYLIGHT
TZOFFSETFROM:-0900
TZOFFSETTO:-0800
TZNAME:AKDT
DTSTART:20230312T110000
END:DAYLIGHT
BEGIN:STANDARD
TZOFFSETFROM:-0800
TZOFFSETTO:-0900
TZNAME:AKST
DTSTART:20231105T100000
END:STANDARD
BEGIN:DAYLIGHT
TZOFFSETFROM:-0900
TZOFFSETTO:-0800
TZNAME:AKDT
DTSTART:20240310T110000
END:DAYLIGHT
BEGIN:STANDARD
TZOFFSETFROM:-0800
TZOFFSETTO:-0900
TZNAME:AKST
DTSTART:20241103T100000
END:STANDARD
BEGIN:DAYLIGHT
TZOFFSETFROM:-0900
TZOFFSETTO:-0800
TZNAME:AKDT
DTSTART:20250309T110000
END:DAYLIGHT
BEGIN:STANDARD
TZOFFSETFROM:-0800
TZOFFSETTO:-0900
TZNAME:AKST
DTSTART:20251102T100000
END:STANDARD
END:VTIMEZONE
BEGIN:VEVENT
DTSTART;TZID=America/Anchorage:20240518T100000
DTEND;TZID=America/Anchorage:20240518T130000
DTSTAMP:20260422T161435
CREATED:20231229T214536Z
LAST-MODIFIED:20231229T214536Z
UID:10002314-1716026400-1716037200@mountaincity.church
SUMMARY:Gathering Hike
DESCRIPTION:The Gathering will be meeting at Winner Creek Trail at 10AM for a hike! \nWe will be meeting afterwards for Lunch after\, and everyone pays for their own. Restaurant TBD. \nFor any questions\, please contact Josh Velez at jvelez@mountaincity.church \n 
URL:https://mountaincity.church/events/gathering-hike-2/
LOCATION:Winner Creek Trail\, Tram Circle\, Girdwood\, 99587\, United States
END:VEVENT
END:VCALENDAR