BEGIN:VCALENDAR
VERSION:2.0
PRODID:-//Mountain City Church - ECPv6.15.19//NONSGML v1.0//EN
CALSCALE:GREGORIAN
METHOD:PUBLISH
X-WR-CALNAME:Mountain City Church
X-ORIGINAL-URL:https://mountaincity.church
X-WR-CALDESC:Events for Mountain City Church
REFRESH-INTERVAL;VALUE=DURATION:PT1H
X-Robots-Tag:noindex
X-PUBLISHED-TTL:PT1H
BEGIN:VTIMEZONE
TZID:America/Anchorage
BEGIN:DAYLIGHT
TZOFFSETFROM:-0900
TZOFFSETTO:-0800
TZNAME:AKDT
DTSTART:20250309T110000
END:DAYLIGHT
BEGIN:STANDARD
TZOFFSETFROM:-0800
TZOFFSETTO:-0900
TZNAME:AKST
DTSTART:20251102T100000
END:STANDARD
BEGIN:DAYLIGHT
TZOFFSETFROM:-0900
TZOFFSETTO:-0800
TZNAME:AKDT
DTSTART:20260308T110000
END:DAYLIGHT
BEGIN:STANDARD
TZOFFSETFROM:-0800
TZOFFSETTO:-0900
TZNAME:AKST
DTSTART:20261101T100000
END:STANDARD
BEGIN:DAYLIGHT
TZOFFSETFROM:-0900
TZOFFSETTO:-0800
TZNAME:AKDT
DTSTART:20270314T110000
END:DAYLIGHT
BEGIN:STANDARD
TZOFFSETFROM:-0800
TZOFFSETTO:-0900
TZNAME:AKST
DTSTART:20271107T100000
END:STANDARD
END:VTIMEZONE
BEGIN:VEVENT
DTSTART;TZID=America/Anchorage:20260422T180000
DTEND;TZID=America/Anchorage:20260422T184500
DTSTAMP:20260420T052814
CREATED:20251226T164757Z
LAST-MODIFIED:20260330T182843Z
UID:10003588-1776880800-1776883500@mountaincity.church
SUMMARY:Wednesday Night Meal
DESCRIPTION:6 – 6:45pm | Cost – Adults: $10\, Kids: $6 \nOur Wednesday night fellowship dinners follow our Awana program scheduling.
URL:https://mountaincity.church/events/wednesday-night-meal-6/2026-04-22/
LOCATION:Cafeteria
CATEGORIES:Meal
END:VEVENT
BEGIN:VEVENT
DTSTART;TZID=America/Anchorage:20260422T184500
DTEND;TZID=America/Anchorage:20260422T201500
DTSTAMP:20260420T052814
CREATED:20251226T165120Z
LAST-MODIFIED:20251226T165120Z
UID:10003619-1776883500-1776888900@mountaincity.church
SUMMARY:Awana
DESCRIPTION:Awana is a global ministry that focuses on learning God’s Word in a fun atmosphere. Each week\, Awana provides consistent\, positive teaching and training that stresses strong moral and spiritual values. Focusing on child discipleship\, our students learn about the reality of God and the truths of the Bible and to know\, love and serve Christ. \nPuggles (2yo-3 y0)\, Cubbies (3yo -5yo)\, Sparks (Kindergarten – 2nd) \, and T&T (3rd-5th) meet on Wednesday nights. Trek (6th-8th) meet on Sunday nights at 5pm. \nCost: $50 per clubber; includes uniform and book. Register at https://rock.mountaincity.church/page/826?EventOccurrenceId=38
URL:https://mountaincity.church/events/awana-5/2026-04-22/
CATEGORIES:Kids
END:VEVENT
BEGIN:VEVENT
DTSTART;TZID=America/Anchorage:20260426T103000
DTEND;TZID=America/Anchorage:20260426T113000
DTSTAMP:20260420T052814
CREATED:20251223T204815Z
LAST-MODIFIED:20251223T204815Z
UID:10003513-1777199400-1777203000@mountaincity.church
SUMMARY:Baptism 101
DESCRIPTION:Baptism is a public celebration of your decision to follow Jesus. That’s a BIG DEAL! In the Bible\, Jesus tells anyone who follows Him to get baptized. Because of that\, here at Mountain City Church\, we encourage everyone who has decided to follow Jesus to get baptized. Take our Baptism 101 class to learn more about what it means to be baptized. For more details or to register\, go to mountaincity.church/baptism.
URL:https://mountaincity.church/events/baptism-101/2026-04-26/
LOCATION:Mountain City Church Room 111\, 6401 E Northern lights BLVD\, Anchorage\, AK\, 99504\, United States
CATEGORIES:Kids,Men,Seniors,Women,Young Adults,Youth
END:VEVENT
BEGIN:VEVENT
DTSTART;TZID=America/Anchorage:20260426T170000
DTEND;TZID=America/Anchorage:20260426T183000
DTSTAMP:20260420T052814
CREATED:20250907T021603Z
LAST-MODIFIED:20260320T061004Z
UID:10003276-1777222800-1777228200@mountaincity.church
SUMMARY:AWANA - Trek
DESCRIPTION:Trek is designed to help 6-8th graders own their faith by exploring big life questions and studying the Bible. The program uses a three-year curriculum focused on the questions “Who am I?”\, “Why am I here?”\, and “Who’s with me?” to guide students in their faith journey.  \nTrek meets on Sunday nights at 5pm. \nCost: $50 per student; includes book and uniform. Register at https://rock.mountaincity.church/page/826?EventOccurrenceId=38 \n 
URL:https://mountaincity.church/events/awana-trek/2026-04-26/
CATEGORIES:Youth
END:VEVENT
BEGIN:VEVENT
DTSTART;TZID=America/Anchorage:20260428T103000
DTEND;TZID=America/Anchorage:20260428T120000
DTSTAMP:20260420T052814
CREATED:20260225T220356Z
LAST-MODIFIED:20260225T220357Z
UID:10003550-1777372200-1777377600@mountaincity.church
SUMMARY:Tiny Kid Playdate
DESCRIPTION:If you have a tiny kid (infant to 4 yr old)\, we’d like to invite you to join us for a playdate from 10:30-noon in the Auditorium Lobby at Mountain City Church. For more information\, email Briana Harris at bharris@mountaincity.church.
URL:https://mountaincity.church/events/tiny-kid-playdate-8-2/2026-04-28/
LOCATION:Auditorium Lobby
CATEGORIES:Tiny Kids,Women
END:VEVENT
BEGIN:VEVENT
DTSTART;TZID=America/Anchorage:20260429T180000
DTEND;TZID=America/Anchorage:20260429T184500
DTSTAMP:20260420T052814
CREATED:20251226T164757Z
LAST-MODIFIED:20260330T182843Z
UID:10003589-1777485600-1777488300@mountaincity.church
SUMMARY:Wednesday Night Meal
DESCRIPTION:6 – 6:45pm | Cost – Adults: $10\, Kids: $6 \nOur Wednesday night fellowship dinners follow our Awana program scheduling.
URL:https://mountaincity.church/events/wednesday-night-meal-6/2026-04-29/
LOCATION:Cafeteria
CATEGORIES:Meal
END:VEVENT
BEGIN:VEVENT
DTSTART;TZID=America/Anchorage:20260429T184500
DTEND;TZID=America/Anchorage:20260429T201500
DTSTAMP:20260420T052814
CREATED:20251226T183606Z
LAST-MODIFIED:20251226T183608Z
UID:10003620-1777488300-1777493700@mountaincity.church
SUMMARY:Awana - Glow Night
DESCRIPTION:Awana is a global ministry that focuses on learning God’s Word in a fun atmosphere. Each week\, Awana provides consistent\, positive teaching and training that stresses strong moral and spiritual values. Focusing on child discipleship\, our students learn about the reality of God and the truths of the Bible and to know\, love and serve Christ. \nPuggles (2yo-3 y0)\, Cubbies (3yo -5yo)\, Sparks (Kindergarten – 2nd) \, and T&T (3rd-5th) meet on Wednesday nights. Trek (6th-8th) meet on Sunday nights at 5pm. \nCost: $50 per clubber; includes uniform and book. Register at https://rock.mountaincity.church/page/826?EventOccurrenceId=38
URL:https://mountaincity.church/events/awana-5-5/
CATEGORIES:Kids
END:VEVENT
END:VCALENDAR