BEGIN:VCALENDAR
VERSION:2.0
PRODID:-//Mountain City Church - ECPv6.15.19//NONSGML v1.0//EN
CALSCALE:GREGORIAN
METHOD:PUBLISH
X-WR-CALNAME:Mountain City Church
X-ORIGINAL-URL:https://mountaincity.church
X-WR-CALDESC:Events for Mountain City Church
REFRESH-INTERVAL;VALUE=DURATION:PT1H
X-Robots-Tag:noindex
X-PUBLISHED-TTL:PT1H
BEGIN:VTIMEZONE
TZID:America/Anchorage
BEGIN:DAYLIGHT
TZOFFSETFROM:-0900
TZOFFSETTO:-0800
TZNAME:AKDT
DTSTART:20230312T110000
END:DAYLIGHT
BEGIN:STANDARD
TZOFFSETFROM:-0800
TZOFFSETTO:-0900
TZNAME:AKST
DTSTART:20231105T100000
END:STANDARD
BEGIN:DAYLIGHT
TZOFFSETFROM:-0900
TZOFFSETTO:-0800
TZNAME:AKDT
DTSTART:20240310T110000
END:DAYLIGHT
BEGIN:STANDARD
TZOFFSETFROM:-0800
TZOFFSETTO:-0900
TZNAME:AKST
DTSTART:20241103T100000
END:STANDARD
BEGIN:DAYLIGHT
TZOFFSETFROM:-0900
TZOFFSETTO:-0800
TZNAME:AKDT
DTSTART:20250309T110000
END:DAYLIGHT
BEGIN:STANDARD
TZOFFSETFROM:-0800
TZOFFSETTO:-0900
TZNAME:AKST
DTSTART:20251102T100000
END:STANDARD
BEGIN:DAYLIGHT
TZOFFSETFROM:-0900
TZOFFSETTO:-0800
TZNAME:AKDT
DTSTART:20260308T110000
END:DAYLIGHT
BEGIN:STANDARD
TZOFFSETFROM:-0800
TZOFFSETTO:-0900
TZNAME:AKST
DTSTART:20261101T100000
END:STANDARD
END:VTIMEZONE
BEGIN:VEVENT
DTSTART;TZID=America/Anchorage:20250212T180000
DTEND;TZID=America/Anchorage:20250212T184500
DTSTAMP:20260421T153533
CREATED:20240828T194357Z
LAST-MODIFIED:20250417T223223Z
UID:10002550-1739383200-1739385900@mountaincity.church
SUMMARY:Wednesday Night Meal
DESCRIPTION:6 – 6:45pm | Cost: $6 kids\, $8 adults \nOur Wednesday night fellowship dinners follow our Awana program scheduling.
URL:https://mountaincity.church/events/wednesday-night-meal-3/2025-02-12/
LOCATION:Cafeteria
CATEGORIES:Meal
ATTACH;FMTTYPE=image/jpeg:https://mountaincity.church/wp-content/uploads/2024/08/Wed_Meal.jpg
END:VEVENT
BEGIN:VEVENT
DTSTART;TZID=America/Anchorage:20250211T103000
DTEND;TZID=America/Anchorage:20250211T120000
DTSTAMP:20260421T153533
CREATED:20250111T145539Z
LAST-MODIFIED:20250111T145539Z
UID:10003095-1739269800-1739275200@mountaincity.church
SUMMARY:Tiny Kid Play Date
DESCRIPTION:If you have a tiny kid (infant to 4 yr old)\, we’d like to invite you to join us for a playdate from 10:30-noon in the Auditorium Lobby at Mountain City Church. For more information\, email Briana Harris at bharris@mountaincity.church.
URL:https://mountaincity.church/events/tiny-kid-play-date-3/
LOCATION:Auditorium Lobby
CATEGORIES:Kids,Tiny Kids,Women
END:VEVENT
BEGIN:VEVENT
DTSTART;TZID=America/Anchorage:20250209T190000
DTEND;TZID=America/Anchorage:20250209T203000
DTSTAMP:20260421T153533
CREATED:20250108T220105Z
LAST-MODIFIED:20250108T220105Z
UID:10003026-1739127600-1739133000@mountaincity.church
SUMMARY:Galentines and Guys Night
DESCRIPTION:A night of fun\, laughter\, and great company with the ladies or the boys. For more details\, please contact Josh Velez at Jvelez@mountaincity.church.
URL:https://mountaincity.church/events/galentines-and-guys-night/
LOCATION:Mountain City Student Union
CATEGORIES:Young Adults
END:VEVENT
BEGIN:VEVENT
DTSTART;TZID=America/Anchorage:20250209T093000
DTEND;TZID=America/Anchorage:20250209T103000
DTSTAMP:20260421T153533
CREATED:20250108T220227Z
LAST-MODIFIED:20250108T220227Z
UID:10003027-1739093400-1739097000@mountaincity.church
SUMMARY:Tiny Kid Open House
DESCRIPTION:At our Open House events\, parents will have the opportunity to tour the classroom and observe our Sunday programming\, meet volunteers from each age group to ask questions\, and explore ways to get involved. The goal is to create a collaborative environment\, offering an upgraded parent Q&A experience where families can connect and learn more about what our Tiny Kid ministry is all about. For more information\, email Briana Harris at bharris@mountaincity.church.
URL:https://mountaincity.church/events/tiny-kid-open-house/
LOCATION:Room 105
CATEGORIES:Men,Tiny Kids,Women
END:VEVENT
BEGIN:VEVENT
DTSTART;VALUE=DATE:20250207
DTEND;VALUE=DATE:20250210
DTSTAMP:20260421T153533
CREATED:20250108T215950Z
LAST-MODIFIED:20250108T215950Z
UID:10003025-1738886400-1739145599@mountaincity.church
SUMMARY:YTH Winter Retreat
DESCRIPTION:The Youth Winter Retreat is an exciting getaway designed for fun\, adventure\, and spiritual growth\, offering 6th through 12th grade students a chance to connect with others and deepen their faith. With engaging activities\, meaningful discussions\, and outdoor adventures\, it’s an unforgettable experience that strengthens both friendships and faith.
URL:https://mountaincity.church/events/yth-winter-retreat/
LOCATION:Little Beaver Bible Camp\, 858 S Beaver Lake Rd.\, Wasilla\, 99623\, United States
CATEGORIES:Youth
END:VEVENT
BEGIN:VEVENT
DTSTART;TZID=America/Anchorage:20250205T184500
DTEND;TZID=America/Anchorage:20250205T201500
DTSTAMP:20260421T153533
CREATED:20250108T220522Z
LAST-MODIFIED:20250417T223037Z
UID:10003032-1738781100-1738786500@mountaincity.church
SUMMARY:Awana
DESCRIPTION:Learn more at mountaincity.church/kids/#awana
URL:https://mountaincity.church/events/awana-3/2025-02-05/
LOCATION:CMC Gym
CATEGORIES:Kids,Youth
END:VEVENT
BEGIN:VEVENT
DTSTART;TZID=America/Anchorage:20250205T180000
DTEND;TZID=America/Anchorage:20250205T184500
DTSTAMP:20260421T153533
CREATED:20240828T194357Z
LAST-MODIFIED:20250417T223223Z
UID:10002549-1738778400-1738781100@mountaincity.church
SUMMARY:Wednesday Night Meal
DESCRIPTION:6 – 6:45pm | Cost: $6 kids\, $8 adults \nOur Wednesday night fellowship dinners follow our Awana program scheduling.
URL:https://mountaincity.church/events/wednesday-night-meal-3/2025-02-05/
LOCATION:Cafeteria
CATEGORIES:Meal
ATTACH;FMTTYPE=image/jpeg:https://mountaincity.church/wp-content/uploads/2024/08/Wed_Meal.jpg
END:VEVENT
BEGIN:VEVENT
DTSTART;TZID=America/Anchorage:20250202T170000
DTEND;TZID=America/Anchorage:20250202T183000
DTSTAMP:20260421T153533
CREATED:20250108T215015Z
LAST-MODIFIED:20250108T215015Z
UID:10003023-1738515600-1738521000@mountaincity.church
SUMMARY:Kids Volunteer Bonanza
DESCRIPTION:All Kids Ministry volunteers (Tiny\, Little\, Jr.\, and Big) are invited to come to a night of fellowship\, training\, and celebration of what the Lord has done! Supper\, prizes\, and childcare will be provided. Register at www.mountaincity.church/kids.
URL:https://mountaincity.church/events/kids-volunteer-bonanza/
LOCATION:Mountain City Student Union
CATEGORIES:Men,Tiny Kids,Women
END:VEVENT
BEGIN:VEVENT
DTSTART;TZID=America/Anchorage:20250202T121500
DTEND;TZID=America/Anchorage:20250202T124500
DTSTAMP:20260421T153534
CREATED:20250108T215634Z
LAST-MODIFIED:20250108T215634Z
UID:10003024-1738498500-1738500300@mountaincity.church
SUMMARY:Winter Groups Launch Meet & Greet
DESCRIPTION:Come meet our group leaders right after service! And then join a group! Groups are a place where people have the opportunity to pursue authentic relationships and spiritual growth. All you have to do is show up\, join in\, and be real. Groups are starting back up February 2.
URL:https://mountaincity.church/events/winter-groups-launch-meet-greet/
LOCATION:Big Gym
CATEGORIES:Groups,Men,Seniors,Women,Young Adults
END:VEVENT
BEGIN:VEVENT
DTSTART;TZID=America/Anchorage:20250201T130000
DTEND;TZID=America/Anchorage:20250201T151500
DTSTAMP:20260421T153534
CREATED:20250108T214531Z
LAST-MODIFIED:20250108T214531Z
UID:10003022-1738414800-1738422900@mountaincity.church
SUMMARY:AWANA Grand Prix
DESCRIPTION:The Awana Grand Prix is an exciting event where children design and race their own wooden cars\, fostering creativity\, teamwork\, and friendly competition. Pick up your car in January\, the cost is $10 per person. Workshop Day will be held on January 29th from 6:50pm to 8:15pm in the CMC gym. The session is designed to provide assistance with car construction and troubleshooting\, ensuring participants are well-prepared for the Awana Grand Prix. The event schedule includes check-in and car inspection from 12pm to 1pm (with late registration available)\, followed by a welcome and announcements from 1pm to 1:15pm\, and race heats from 1:15pm to 3:15pm.
URL:https://mountaincity.church/events/awana-grand-prix/
LOCATION:CMC Gym
CATEGORIES:Kids
END:VEVENT
BEGIN:VEVENT
DTSTART;TZID=America/Anchorage:20250129T184500
DTEND;TZID=America/Anchorage:20250129T201500
DTSTAMP:20260421T153534
CREATED:20250108T220522Z
LAST-MODIFIED:20250417T223037Z
UID:10003031-1738176300-1738181700@mountaincity.church
SUMMARY:Awana
DESCRIPTION:Learn more at mountaincity.church/kids/#awana
URL:https://mountaincity.church/events/awana-3/2025-01-29/
LOCATION:CMC Gym
CATEGORIES:Kids,Youth
END:VEVENT
BEGIN:VEVENT
DTSTART;TZID=America/Anchorage:20250129T180000
DTEND;TZID=America/Anchorage:20250129T184500
DTSTAMP:20260421T153534
CREATED:20240828T194357Z
LAST-MODIFIED:20250417T223223Z
UID:10002548-1738173600-1738176300@mountaincity.church
SUMMARY:Wednesday Night Meal
DESCRIPTION:6 – 6:45pm | Cost: $6 kids\, $8 adults \nOur Wednesday night fellowship dinners follow our Awana program scheduling.
URL:https://mountaincity.church/events/wednesday-night-meal-3/2025-01-29/
LOCATION:Cafeteria
CATEGORIES:Meal
ATTACH;FMTTYPE=image/jpeg:https://mountaincity.church/wp-content/uploads/2024/08/Wed_Meal.jpg
END:VEVENT
BEGIN:VEVENT
DTSTART;TZID=America/Anchorage:20250128T103000
DTEND;TZID=America/Anchorage:20250128T120000
DTSTAMP:20260421T153534
CREATED:20250108T213049Z
LAST-MODIFIED:20250108T213049Z
UID:10003017-1738060200-1738065600@mountaincity.church
SUMMARY:Tiny Kid Play Date
DESCRIPTION:If you have a tiny kid (infant to 4 yr old)\, we’d like to invite you to join us for a playdate from 10:30-noon in the Auditorium Lobby at Mountain City Church. For more information\, email Briana Harris at bharris@mountaincity.church.
URL:https://mountaincity.church/events/tiny-kid-play-date-2/
LOCATION:Auditorium Lobby
CATEGORIES:Kids,Tiny Kids,Women
END:VEVENT
BEGIN:VEVENT
DTSTART;TZID=America/Anchorage:20250127T183000
DTEND;TZID=America/Anchorage:20250127T203000
DTSTAMP:20260421T153534
CREATED:20250108T214212Z
LAST-MODIFIED:20250108T214304Z
UID:10003021-1738002600-1738009800@mountaincity.church
SUMMARY:Chick Chat
DESCRIPTION:Chick Chat is a vibrant multi-generational community where women connect\, share experiences\, and have meaningful conversations. For more information\, email Betty Stooksbury at bettyacwm@gmail.com.
URL:https://mountaincity.church/events/chick-chat/
LOCATION:Mountain City Student Union
CATEGORIES:Seniors,Women,Young Adults
END:VEVENT
BEGIN:VEVENT
DTSTART;TZID=America/Anchorage:20250126T121500
DTEND;TZID=America/Anchorage:20250126T130000
DTSTAMP:20260421T153534
CREATED:20250108T213843Z
LAST-MODIFIED:20250108T213843Z
UID:10003020-1737893700-1737896400@mountaincity.church
SUMMARY:Gospel Project Alaska: Training on the Bless App
DESCRIPTION:Join us after service for a short presentation on using the Bless Every Home app for Gospel Project Alaska\, followed by hands-on training. A light lunch will be provided. Please note\, there will be no childcare available\, but teens or capable youth are welcome to attend. For more information\, contact John Cunningham at jcunningham@mountaincity.church.
URL:https://mountaincity.church/events/gospel-project-alaska-training-on-the-bless-app/
LOCATION:Room 207
CATEGORIES:Men,Seniors,Women,Young Adults
END:VEVENT
BEGIN:VEVENT
DTSTART;TZID=America/Anchorage:20250126T093000
DTEND;TZID=America/Anchorage:20250126T223000
DTSTAMP:20260421T153534
CREATED:20250108T213536Z
LAST-MODIFIED:20250108T213536Z
UID:10003019-1737883800-1737930600@mountaincity.church
SUMMARY:Group Leader Training
DESCRIPTION:You don’t have to be perfect to lead a group. And you don’t need to be a Bible scholar to be used by God to lead others. Group leaders create a place where people can be real and grow. They get front-row seats to the faith journeys of others and find that their faith grows along the way. For more information\, visit mountaincity.church/groups-lead.
URL:https://mountaincity.church/events/group-leader-training-6/
LOCATION:Room 210
CATEGORIES:Groups,Men,Seniors,Women,Young Adults
END:VEVENT
BEGIN:VEVENT
DTSTART;TZID=America/Anchorage:20250122T184500
DTEND;TZID=America/Anchorage:20250122T201500
DTSTAMP:20260421T153534
CREATED:20250108T220522Z
LAST-MODIFIED:20250417T223037Z
UID:10003030-1737571500-1737576900@mountaincity.church
SUMMARY:Awana
DESCRIPTION:Learn more at mountaincity.church/kids/#awana
URL:https://mountaincity.church/events/awana-3/2025-01-22/
LOCATION:CMC Gym
CATEGORIES:Kids,Youth
END:VEVENT
BEGIN:VEVENT
DTSTART;TZID=America/Anchorage:20250122T180000
DTEND;TZID=America/Anchorage:20250122T184500
DTSTAMP:20260421T153534
CREATED:20240828T194357Z
LAST-MODIFIED:20250417T223223Z
UID:10002547-1737568800-1737571500@mountaincity.church
SUMMARY:Wednesday Night Meal
DESCRIPTION:6 – 6:45pm | Cost: $6 kids\, $8 adults \nOur Wednesday night fellowship dinners follow our Awana program scheduling.
URL:https://mountaincity.church/events/wednesday-night-meal-3/2025-01-22/
LOCATION:Cafeteria
CATEGORIES:Meal
ATTACH;FMTTYPE=image/jpeg:https://mountaincity.church/wp-content/uploads/2024/08/Wed_Meal.jpg
END:VEVENT
BEGIN:VEVENT
DTSTART;TZID=America/Anchorage:20250119T093000
DTEND;TZID=America/Anchorage:20250119T223000
DTSTAMP:20260421T153534
CREATED:20250108T213407Z
LAST-MODIFIED:20250108T213407Z
UID:10003018-1737279000-1737325800@mountaincity.church
SUMMARY:Group Leader Training
DESCRIPTION:You don’t have to be perfect to lead a group. And you don’t need to be a Bible scholar to be used by God to lead others. Group leaders create a place where people can be real and grow. They get front-row seats to the faith journeys of others and find that their faith grows along the way. For more information\, visit mountaincity.church/groups-lead.
URL:https://mountaincity.church/events/group-leader-training-5/
LOCATION:Room 210
CATEGORIES:Groups,Men,Seniors,Women,Young Adults
END:VEVENT
BEGIN:VEVENT
DTSTART;TZID=America/Anchorage:20250118T170000
DTEND;TZID=America/Anchorage:20250118T190000
DTSTAMP:20260421T153534
CREATED:20250106T233803Z
LAST-MODIFIED:20250106T233830Z
UID:10003014-1737219600-1737226800@mountaincity.church
SUMMARY:Ties and Tiaras
DESCRIPTION:All things glitterized and sparkly for fathers and girls in kindergarten through 5th grade! \n~Dinner\, Dancing\, Photo Booth and Live Princesses~ \nRegister for this event!
URL:https://mountaincity.church/events/ties-and-tiaras/
LOCATION:CMC Gym
END:VEVENT
BEGIN:VEVENT
DTSTART;TZID=America/Anchorage:20250115T184500
DTEND;TZID=America/Anchorage:20250115T201500
DTSTAMP:20260421T153534
CREATED:20250108T220522Z
LAST-MODIFIED:20250417T223037Z
UID:10003029-1736966700-1736972100@mountaincity.church
SUMMARY:Awana
DESCRIPTION:Learn more at mountaincity.church/kids/#awana
URL:https://mountaincity.church/events/awana-3/2025-01-15/
LOCATION:CMC Gym
CATEGORIES:Kids,Youth
END:VEVENT
BEGIN:VEVENT
DTSTART;TZID=America/Anchorage:20250115T180000
DTEND;TZID=America/Anchorage:20250115T184500
DTSTAMP:20260421T153534
CREATED:20240828T194357Z
LAST-MODIFIED:20250417T223223Z
UID:10002546-1736964000-1736966700@mountaincity.church
SUMMARY:Wednesday Night Meal
DESCRIPTION:6 – 6:45pm | Cost: $6 kids\, $8 adults \nOur Wednesday night fellowship dinners follow our Awana program scheduling.
URL:https://mountaincity.church/events/wednesday-night-meal-3/2025-01-15/
LOCATION:Cafeteria
CATEGORIES:Meal
ATTACH;FMTTYPE=image/jpeg:https://mountaincity.church/wp-content/uploads/2024/08/Wed_Meal.jpg
END:VEVENT
BEGIN:VEVENT
DTSTART;TZID=America/Anchorage:20250114T103000
DTEND;TZID=America/Anchorage:20250114T120000
DTSTAMP:20260421T153534
CREATED:20250108T212603Z
LAST-MODIFIED:20250108T212603Z
UID:10003016-1736850600-1736856000@mountaincity.church
SUMMARY:Tiny Kid Play Date
DESCRIPTION:If you have a tiny kid (infant to 4 yr old)\, we’d like to invite you to join us for a playdate from 10:30-noon in the Auditorium Lobby at Mountain City Church. For more information\, email Briana Harris at bharris@mountaincity.church.
URL:https://mountaincity.church/events/tiny-kid-play-date/
LOCATION:Auditorium Lobby
CATEGORIES:Kids,Tiny Kids,Women
END:VEVENT
BEGIN:VEVENT
DTSTART;VALUE=DATE:20250110
DTEND;VALUE=DATE:20250113
DTSTAMP:20260421T153534
CREATED:20250108T211806Z
LAST-MODIFIED:20250108T211806Z
UID:10003015-1736467200-1736726399@mountaincity.church
SUMMARY:The Gathering Winter Retreat
DESCRIPTION:The Vision 2025 Young Adult Retreat will take place from January 10-12 at Victory Bible Camp. The theme for this retreat is “Renew the Mind.” The cost is $140. For more information\, please contact Josh Velez at Jvelez@mountaincity.church.
URL:https://mountaincity.church/events/the-gathering-winter-retreat/
LOCATION:Victory Bible Camp\, 64741 Victory Rd\, Sutton-Alpine\, AK\, 99674\, United States
CATEGORIES:Young Adults
END:VEVENT
BEGIN:VEVENT
DTSTART;TZID=America/Anchorage:20250108T184500
DTEND;TZID=America/Anchorage:20250108T201500
DTSTAMP:20260421T153534
CREATED:20250108T220522Z
LAST-MODIFIED:20250417T223037Z
UID:10003028-1736361900-1736367300@mountaincity.church
SUMMARY:Awana
DESCRIPTION:Learn more at mountaincity.church/kids/#awana
URL:https://mountaincity.church/events/awana-3/2025-01-08/2/
LOCATION:CMC Gym
CATEGORIES:Kids,Youth
END:VEVENT
BEGIN:VEVENT
DTSTART;TZID=America/Anchorage:20250108T180000
DTEND;TZID=America/Anchorage:20250108T184500
DTSTAMP:20260421T153534
CREATED:20240828T194357Z
LAST-MODIFIED:20250417T223223Z
UID:10002545-1736359200-1736361900@mountaincity.church
SUMMARY:Wednesday Night Meal
DESCRIPTION:6 – 6:45pm | Cost: $6 kids\, $8 adults \nOur Wednesday night fellowship dinners follow our Awana program scheduling.
URL:https://mountaincity.church/events/wednesday-night-meal-3/2025-01-08/
LOCATION:Cafeteria
CATEGORIES:Meal
ATTACH;FMTTYPE=image/jpeg:https://mountaincity.church/wp-content/uploads/2024/08/Wed_Meal.jpg
END:VEVENT
BEGIN:VEVENT
DTSTART;TZID=America/Anchorage:20250108T080000
DTEND;TZID=America/Anchorage:20250108T170000
DTSTAMP:20260421T153534
CREATED:20250108T220522Z
LAST-MODIFIED:20250417T223037Z
UID:10003135-1736323200-1736355600@mountaincity.church
SUMMARY:Awana
DESCRIPTION:Learn more at mountaincity.church/kids/#awana
URL:https://mountaincity.church/events/awana-3/2025-01-08/1/
LOCATION:CMC Gym
CATEGORIES:Kids,Youth
END:VEVENT
BEGIN:VEVENT
DTSTART;TZID=America/Anchorage:20250101T180000
DTEND;TZID=America/Anchorage:20250101T184500
DTSTAMP:20260421T153534
CREATED:20240828T194357Z
LAST-MODIFIED:20250417T223223Z
UID:10003129-1735754400-1735757100@mountaincity.church
SUMMARY:Wednesday Night Meal
DESCRIPTION:6 – 6:45pm | Cost: $6 kids\, $8 adults \nOur Wednesday night fellowship dinners follow our Awana program scheduling.
URL:https://mountaincity.church/events/wednesday-night-meal-3/2025-01-01/
LOCATION:Cafeteria
CATEGORIES:Meal
ATTACH;FMTTYPE=image/jpeg:https://mountaincity.church/wp-content/uploads/2024/08/Wed_Meal.jpg
END:VEVENT
BEGIN:VEVENT
DTSTART;TZID=America/Anchorage:20241225T190000
DTEND;TZID=America/Anchorage:20241225T203000
DTSTAMP:20260421T153534
CREATED:20241204T002306Z
LAST-MODIFIED:20241204T002337Z
UID:10003012-1735153200-1735158600@mountaincity.church
SUMMARY:No Church
DESCRIPTION:Merry Christmas! There is no Wednesday night service.
URL:https://mountaincity.church/events/no-church-3/
CATEGORIES:Kids,Meal,Men,Seniors,Women,Young Adults,Youth
END:VEVENT
BEGIN:VEVENT
DTSTART;TZID=America/Anchorage:20241225T180000
DTEND;TZID=America/Anchorage:20241225T184500
DTSTAMP:20260421T153534
CREATED:20240828T194357Z
LAST-MODIFIED:20250417T223223Z
UID:10003128-1735149600-1735152300@mountaincity.church
SUMMARY:Wednesday Night Meal
DESCRIPTION:6 – 6:45pm | Cost: $6 kids\, $8 adults \nOur Wednesday night fellowship dinners follow our Awana program scheduling.
URL:https://mountaincity.church/events/wednesday-night-meal-3/2024-12-25/
LOCATION:Cafeteria
CATEGORIES:Meal
ATTACH;FMTTYPE=image/jpeg:https://mountaincity.church/wp-content/uploads/2024/08/Wed_Meal.jpg
END:VEVENT
END:VCALENDAR