BEGIN:VCALENDAR
VERSION:2.0
PRODID:-//Mountain City Church - ECPv6.15.19//NONSGML v1.0//EN
CALSCALE:GREGORIAN
METHOD:PUBLISH
X-WR-CALNAME:Mountain City Church
X-ORIGINAL-URL:https://mountaincity.church
X-WR-CALDESC:Events for Mountain City Church
REFRESH-INTERVAL;VALUE=DURATION:PT1H
X-Robots-Tag:noindex
X-PUBLISHED-TTL:PT1H
BEGIN:VTIMEZONE
TZID:America/Anchorage
BEGIN:DAYLIGHT
TZOFFSETFROM:-0900
TZOFFSETTO:-0800
TZNAME:AKDT
DTSTART:20250309T110000
END:DAYLIGHT
BEGIN:STANDARD
TZOFFSETFROM:-0800
TZOFFSETTO:-0900
TZNAME:AKST
DTSTART:20251102T100000
END:STANDARD
BEGIN:DAYLIGHT
TZOFFSETFROM:-0900
TZOFFSETTO:-0800
TZNAME:AKDT
DTSTART:20260308T110000
END:DAYLIGHT
BEGIN:STANDARD
TZOFFSETFROM:-0800
TZOFFSETTO:-0900
TZNAME:AKST
DTSTART:20261101T100000
END:STANDARD
BEGIN:DAYLIGHT
TZOFFSETFROM:-0900
TZOFFSETTO:-0800
TZNAME:AKDT
DTSTART:20270314T110000
END:DAYLIGHT
BEGIN:STANDARD
TZOFFSETFROM:-0800
TZOFFSETTO:-0900
TZNAME:AKST
DTSTART:20271107T100000
END:STANDARD
END:VTIMEZONE
BEGIN:VEVENT
DTSTART;TZID=America/Anchorage:20260217T100000
DTEND;TZID=America/Anchorage:20260217T120000
DTSTAMP:20260420T180435
CREATED:20251223T213539Z
LAST-MODIFIED:20251223T213919Z
UID:10003520-1771322400-1771329600@mountaincity.church
SUMMARY:Tiny Kid Playdate
DESCRIPTION:If you have a tiny kid (infant to 4 yr old)\, we’d like to invite you to join us for a playdate from 10:30-noon in the Auditorium Lobby at Mountain City Church. For more information\, email Briana Harris at bharris@mountaincity.church.
URL:https://mountaincity.church/events/tiny-kid-playdate-8/2026-02-17/
LOCATION:Auditorium Lobby
CATEGORIES:Tiny Kids,Women
END:VEVENT
BEGIN:VEVENT
DTSTART;TZID=America/Anchorage:20260215T170000
DTEND;TZID=America/Anchorage:20260215T183000
DTSTAMP:20260420T180435
CREATED:20250907T021603Z
LAST-MODIFIED:20260320T061004Z
UID:10003266-1771174800-1771180200@mountaincity.church
SUMMARY:AWANA - Trek
DESCRIPTION:Trek is designed to help 6-8th graders own their faith by exploring big life questions and studying the Bible. The program uses a three-year curriculum focused on the questions “Who am I?”\, “Why am I here?”\, and “Who’s with me?” to guide students in their faith journey.  \nTrek meets on Sunday nights at 5pm. \nCost: $50 per student; includes book and uniform. Register at https://rock.mountaincity.church/page/826?EventOccurrenceId=38 \n 
URL:https://mountaincity.church/events/awana-trek/2026-02-15/
CATEGORIES:Youth
END:VEVENT
BEGIN:VEVENT
DTSTART;VALUE=DATE:20260213
DTEND;VALUE=DATE:20260217
DTSTAMP:20260420T180435
CREATED:20251224T022157Z
LAST-MODIFIED:20251224T022157Z
UID:10003551-1770940800-1771286399@mountaincity.church
SUMMARY:Kids Winter Camp
DESCRIPTION:Through evidence\, discussion\, and discovery\, kids will explore foundational biblical truths\, see how they are challenged\, and learn how to defend their faith with grace and confidence. The cost is $270. Email kids@moutnaincity.church to ask about scholarship opportunities.
URL:https://mountaincity.church/events/kids-winter-camp-3/
LOCATION:Little Beaver Bible Camp\, 858 S Beaver Lake Rd.\, Wasilla\, 99623\, United States
CATEGORIES:Kids
END:VEVENT
BEGIN:VEVENT
DTSTART;TZID=America/Anchorage:20260211T184500
DTEND;TZID=America/Anchorage:20260211T201500
DTSTAMP:20260420T180435
CREATED:20251226T165120Z
LAST-MODIFIED:20251226T165120Z
UID:10003610-1770835500-1770840900@mountaincity.church
SUMMARY:Awana
DESCRIPTION:Awana is a global ministry that focuses on learning God’s Word in a fun atmosphere. Each week\, Awana provides consistent\, positive teaching and training that stresses strong moral and spiritual values. Focusing on child discipleship\, our students learn about the reality of God and the truths of the Bible and to know\, love and serve Christ. \nPuggles (2yo-3 y0)\, Cubbies (3yo -5yo)\, Sparks (Kindergarten – 2nd) \, and T&T (3rd-5th) meet on Wednesday nights. Trek (6th-8th) meet on Sunday nights at 5pm. \nCost: $50 per clubber; includes uniform and book. Register at https://rock.mountaincity.church/page/826?EventOccurrenceId=38
URL:https://mountaincity.church/events/awana-5/2026-02-11/
CATEGORIES:Kids
END:VEVENT
BEGIN:VEVENT
DTSTART;TZID=America/Anchorage:20260211T180000
DTEND;TZID=America/Anchorage:20260211T184500
DTSTAMP:20260420T180435
CREATED:20251226T164757Z
LAST-MODIFIED:20260330T182843Z
UID:10003579-1770832800-1770835500@mountaincity.church
SUMMARY:Wednesday Night Meal
DESCRIPTION:6 – 6:45pm | Cost – Adults: $10\, Kids: $6 \nOur Wednesday night fellowship dinners follow our Awana program scheduling.
URL:https://mountaincity.church/events/wednesday-night-meal-6/2026-02-11/
LOCATION:Cafeteria
CATEGORIES:Meal
END:VEVENT
BEGIN:VEVENT
DTSTART;TZID=America/Anchorage:20260208T170000
DTEND;TZID=America/Anchorage:20260208T183000
DTSTAMP:20260420T180435
CREATED:20250907T021603Z
LAST-MODIFIED:20260320T061004Z
UID:10003265-1770570000-1770575400@mountaincity.church
SUMMARY:AWANA - Trek
DESCRIPTION:Trek is designed to help 6-8th graders own their faith by exploring big life questions and studying the Bible. The program uses a three-year curriculum focused on the questions “Who am I?”\, “Why am I here?”\, and “Who’s with me?” to guide students in their faith journey.  \nTrek meets on Sunday nights at 5pm. \nCost: $50 per student; includes book and uniform. Register at https://rock.mountaincity.church/page/826?EventOccurrenceId=38 \n 
URL:https://mountaincity.church/events/awana-trek/2026-02-08/
CATEGORIES:Youth
END:VEVENT
BEGIN:VEVENT
DTSTART;TZID=America/Anchorage:20260208T141500
DTEND;TZID=America/Anchorage:20260208T180000
DTSTAMP:20260420T180435
CREATED:20251224T054416Z
LAST-MODIFIED:20251224T055232Z
UID:10003556-1770560100-1770573600@mountaincity.church
SUMMARY:Young Adult Superbowl Party
DESCRIPTION:Young adults. let’s watch the Super Bowl together on the big screen! Bring a side\, drinks\, or a dessert. For more information\, email Anthony Purpero at apurpero@mountaincity.church.
URL:https://mountaincity.church/events/young-adult-superbowl-party/
LOCATION:Mountain City Student Union
CATEGORIES:Young Adults
END:VEVENT
BEGIN:VEVENT
DTSTART;TZID=America/Anchorage:20260207T130000
DTEND;TZID=America/Anchorage:20260207T151500
DTSTAMP:20260420T180435
CREATED:20251226T173047Z
LAST-MODIFIED:20251227T160923Z
UID:10003623-1770469200-1770477300@mountaincity.church
SUMMARY:AWANA Grand Prix
DESCRIPTION:Save the date! If you have a child in Sparks or T&T\, have them talk to their Awana leader about how to sign up and be a part of the AWANA Grand Prix.
URL:https://mountaincity.church/events/awana-grand-prix-2/
LOCATION:CMC Gym
CATEGORIES:Kids
END:VEVENT
BEGIN:VEVENT
DTSTART;VALUE=DATE:20260206
DTEND;VALUE=DATE:20260209
DTSTAMP:20260420T180435
CREATED:20251224T053923Z
LAST-MODIFIED:20251224T053923Z
UID:10003555-1770336000-1770595199@mountaincity.church
SUMMARY:YTH Winter Camp
DESCRIPTION:Mtn City YTH 6th-12th graders are heading to Little Beaver for Winter Camp! Cost is $215. Scholarships are available. For more information\, email Joseph Ewing at jewing@mountaincity.church.
URL:https://mountaincity.church/events/yth-winter-camp/
LOCATION:Little Beaver Bible Camp\, 858 S Beaver Lake Rd.\, Wasilla\, 99623\, United States
CATEGORIES:Youth
END:VEVENT
BEGIN:VEVENT
DTSTART;TZID=America/Anchorage:20260204T184500
DTEND;TZID=America/Anchorage:20260204T201500
DTSTAMP:20260420T180435
CREATED:20251226T165120Z
LAST-MODIFIED:20251226T165120Z
UID:10003609-1770230700-1770236100@mountaincity.church
SUMMARY:Awana
DESCRIPTION:Awana is a global ministry that focuses on learning God’s Word in a fun atmosphere. Each week\, Awana provides consistent\, positive teaching and training that stresses strong moral and spiritual values. Focusing on child discipleship\, our students learn about the reality of God and the truths of the Bible and to know\, love and serve Christ. \nPuggles (2yo-3 y0)\, Cubbies (3yo -5yo)\, Sparks (Kindergarten – 2nd) \, and T&T (3rd-5th) meet on Wednesday nights. Trek (6th-8th) meet on Sunday nights at 5pm. \nCost: $50 per clubber; includes uniform and book. Register at https://rock.mountaincity.church/page/826?EventOccurrenceId=38
URL:https://mountaincity.church/events/awana-5/2026-02-04/
CATEGORIES:Kids
END:VEVENT
BEGIN:VEVENT
DTSTART;TZID=America/Anchorage:20260204T180000
DTEND;TZID=America/Anchorage:20260204T184500
DTSTAMP:20260420T180435
CREATED:20251226T164757Z
LAST-MODIFIED:20260330T182843Z
UID:10003578-1770228000-1770230700@mountaincity.church
SUMMARY:Wednesday Night Meal
DESCRIPTION:6 – 6:45pm | Cost – Adults: $10\, Kids: $6 \nOur Wednesday night fellowship dinners follow our Awana program scheduling.
URL:https://mountaincity.church/events/wednesday-night-meal-6/2026-02-04/
LOCATION:Cafeteria
CATEGORIES:Meal
END:VEVENT
BEGIN:VEVENT
DTSTART;TZID=America/Anchorage:20260203T100000
DTEND;TZID=America/Anchorage:20260203T120000
DTSTAMP:20260420T180435
CREATED:20251223T213539Z
LAST-MODIFIED:20251223T213919Z
UID:10003519-1770112800-1770120000@mountaincity.church
SUMMARY:Tiny Kid Playdate
DESCRIPTION:If you have a tiny kid (infant to 4 yr old)\, we’d like to invite you to join us for a playdate from 10:30-noon in the Auditorium Lobby at Mountain City Church. For more information\, email Briana Harris at bharris@mountaincity.church.
URL:https://mountaincity.church/events/tiny-kid-playdate-8/2026-02-03/
LOCATION:Auditorium Lobby
CATEGORIES:Tiny Kids,Women
END:VEVENT
BEGIN:VEVENT
DTSTART;TZID=America/Anchorage:20260201T170000
DTEND;TZID=America/Anchorage:20260201T200000
DTSTAMP:20260420T180435
CREATED:20251223T212156Z
LAST-MODIFIED:20251223T212156Z
UID:10003516-1769965200-1769976000@mountaincity.church
SUMMARY:Kids Volunteer Bonanza
DESCRIPTION:All Kids Ministry volunteers (Tiny & Kids) are invited to come to a night of fellowship\, training\, and celebration of what the Lord has done! Dinner\, prizes\, and childcare will be provided.
URL:https://mountaincity.church/events/kids-volunteer-bonanza-2/
LOCATION:Mountain City Student Union
END:VEVENT
BEGIN:VEVENT
DTSTART;TZID=America/Anchorage:20260201T170000
DTEND;TZID=America/Anchorage:20260201T183000
DTSTAMP:20260420T180435
CREATED:20250907T021603Z
LAST-MODIFIED:20260320T061004Z
UID:10003264-1769965200-1769970600@mountaincity.church
SUMMARY:AWANA - Trek
DESCRIPTION:Trek is designed to help 6-8th graders own their faith by exploring big life questions and studying the Bible. The program uses a three-year curriculum focused on the questions “Who am I?”\, “Why am I here?”\, and “Who’s with me?” to guide students in their faith journey.  \nTrek meets on Sunday nights at 5pm. \nCost: $50 per student; includes book and uniform. Register at https://rock.mountaincity.church/page/826?EventOccurrenceId=38 \n 
URL:https://mountaincity.church/events/awana-trek/2026-02-01/
CATEGORIES:Youth
END:VEVENT
BEGIN:VEVENT
DTSTART;TZID=America/Anchorage:20260201T103000
DTEND;TZID=America/Anchorage:20260201T113000
DTSTAMP:20260420T180435
CREATED:20251224T053753Z
LAST-MODIFIED:20251224T053753Z
UID:10003554-1769941800-1769945400@mountaincity.church
SUMMARY:MTN City Life Fair
DESCRIPTION:We have a place for everyone to serve and do life with others. This is YOUR opportunity to find your place in a group and on a team. For more information\, email Chris Carter at ccarter@mountaincity.church.
URL:https://mountaincity.church/events/mtn-city-life-fair-2/
LOCATION:Cafeteria
CATEGORIES:Men,Seniors,Women,Young Adults
END:VEVENT
BEGIN:VEVENT
DTSTART;TZID=America/Anchorage:20260128T184500
DTEND;TZID=America/Anchorage:20260128T201500
DTSTAMP:20260420T180435
CREATED:20251226T172800Z
LAST-MODIFIED:20251226T172802Z
UID:10003608-1769625900-1769631300@mountaincity.church
SUMMARY:Awana - Race Night
DESCRIPTION:Awana is a global ministry that focuses on learning God’s Word in a fun atmosphere. Each week\, Awana provides consistent\, positive teaching and training that stresses strong moral and spiritual values. Focusing on child discipleship\, our students learn about the reality of God and the truths of the Bible and to know\, love and serve Christ. \nPuggles (2yo-3 y0)\, Cubbies (3yo -5yo)\, Sparks (Kindergarten – 2nd) \, and T&T (3rd-5th) meet on Wednesday nights. Trek (6th-8th) meet on Sunday nights at 5pm. \nCost: $50 per clubber; includes uniform and book. Register at https://rock.mountaincity.church/page/826?EventOccurrenceId=38
URL:https://mountaincity.church/events/awana-5-2/
CATEGORIES:Kids
END:VEVENT
BEGIN:VEVENT
DTSTART;TZID=America/Anchorage:20260128T184500
DTEND;TZID=America/Anchorage:20260128T201500
DTSTAMP:20260420T180435
CREATED:20251226T165120Z
LAST-MODIFIED:20251226T165120Z
UID:10003624-1769625900-1769631300@mountaincity.church
SUMMARY:Awana
DESCRIPTION:Awana is a global ministry that focuses on learning God’s Word in a fun atmosphere. Each week\, Awana provides consistent\, positive teaching and training that stresses strong moral and spiritual values. Focusing on child discipleship\, our students learn about the reality of God and the truths of the Bible and to know\, love and serve Christ. \nPuggles (2yo-3 y0)\, Cubbies (3yo -5yo)\, Sparks (Kindergarten – 2nd) \, and T&T (3rd-5th) meet on Wednesday nights. Trek (6th-8th) meet on Sunday nights at 5pm. \nCost: $50 per clubber; includes uniform and book. Register at https://rock.mountaincity.church/page/826?EventOccurrenceId=38
URL:https://mountaincity.church/events/awana-5/2026-01-28/
CATEGORIES:Kids
END:VEVENT
BEGIN:VEVENT
DTSTART;TZID=America/Anchorage:20260128T180000
DTEND;TZID=America/Anchorage:20260128T184500
DTSTAMP:20260420T180435
CREATED:20251226T164757Z
LAST-MODIFIED:20260330T182843Z
UID:10003577-1769623200-1769625900@mountaincity.church
SUMMARY:Wednesday Night Meal
DESCRIPTION:6 – 6:45pm | Cost – Adults: $10\, Kids: $6 \nOur Wednesday night fellowship dinners follow our Awana program scheduling.
URL:https://mountaincity.church/events/wednesday-night-meal-6/2026-01-28/
LOCATION:Cafeteria
CATEGORIES:Meal
END:VEVENT
BEGIN:VEVENT
DTSTART;TZID=America/Anchorage:20260126T183000
DTEND;TZID=America/Anchorage:20260126T203000
DTSTAMP:20260420T180435
CREATED:20251224T053540Z
LAST-MODIFIED:20251224T053540Z
UID:10003553-1769452200-1769459400@mountaincity.church
SUMMARY:Chick Chat
DESCRIPTION:Calling women of all ages! Chick Chat is THE point of connection for women of Mountain City Church. Enjoy food\, fellowship\, a message\, connecting with others\, and learning about opportunities to plug in at Mountain City. For more information\, email Betty Stooksbury at bettyacwm@gmail.com.
URL:https://mountaincity.church/events/chick-chat-3/
LOCATION:Mountain City Student Union
CATEGORIES:Women,Young Adults
END:VEVENT
BEGIN:VEVENT
DTSTART;TZID=America/Anchorage:20260125T170000
DTEND;TZID=America/Anchorage:20260125T183000
DTSTAMP:20260420T180435
CREATED:20250907T021603Z
LAST-MODIFIED:20260320T061004Z
UID:10003263-1769360400-1769365800@mountaincity.church
SUMMARY:AWANA - Trek
DESCRIPTION:Trek is designed to help 6-8th graders own their faith by exploring big life questions and studying the Bible. The program uses a three-year curriculum focused on the questions “Who am I?”\, “Why am I here?”\, and “Who’s with me?” to guide students in their faith journey.  \nTrek meets on Sunday nights at 5pm. \nCost: $50 per student; includes book and uniform. Register at https://rock.mountaincity.church/page/826?EventOccurrenceId=38 \n 
URL:https://mountaincity.church/events/awana-trek/2026-01-25/
CATEGORIES:Youth
END:VEVENT
BEGIN:VEVENT
DTSTART;TZID=America/Anchorage:20260125T103000
DTEND;TZID=America/Anchorage:20260125T113000
DTSTAMP:20260420T180435
CREATED:20260119T165913Z
LAST-MODIFIED:20260119T165915Z
UID:10003510-1769337000-1769340600@mountaincity.church
SUMMARY:Baptism 101
DESCRIPTION:Baptism is a public celebration of your decision to follow Jesus. That’s a BIG DEAL! In the Bible\, Jesus tells anyone who follows Him to get baptized. Because of that\, here at Mountain City Church\, we encourage everyone who has decided to follow Jesus to get baptized. Take our Baptism 101 class to learn more about what it means to be baptized. For more details or to register\, go to mountaincity.church/baptism. \nMeet in the kid’s check-in lobby.
URL:https://mountaincity.church/events/baptism-101-2/
CATEGORIES:Kids,Men,Seniors,Women,Young Adults,Youth
END:VEVENT
BEGIN:VEVENT
DTSTART;TZID=America/Anchorage:20260125T090000
DTEND;TZID=America/Anchorage:20260125T090000
DTSTAMP:20260420T180435
CREATED:20251223T203803Z
LAST-MODIFIED:20251223T204340Z
UID:10003394-1769331600-1769331600@mountaincity.church
SUMMARY:Front Door
DESCRIPTION:The Front Door is a 3-week experience with the opportunity to learn more about Mountain City Church. Learn about your God-given purpose and spiritual gifts. Take your next step to become a member of Mountain City Church. Jump right in and make an eternal impact in our church and community by serving at Mountain City Church.
URL:https://mountaincity.church/events/front-door/2026-01-25/
LOCATION:Mountain City Church Room 111\, 6401 E Northern lights BLVD\, Anchorage\, AK\, 99504\, United States
CATEGORIES:Men,Seniors,Women,Young Adults
END:VEVENT
BEGIN:VEVENT
DTSTART;VALUE=DATE:20260123
DTEND;VALUE=DATE:20260126
DTSTAMP:20260420T180435
CREATED:20251224T024123Z
LAST-MODIFIED:20251224T053402Z
UID:10003552-1769126400-1769385599@mountaincity.church
SUMMARY:Young Adult Winter Retreat
DESCRIPTION:The Vision 2026 Young Adult Retreat is a weekend of studying God’s Word\, worshipping\, and growing in our faith together. The theme for this retreat is “Choose This Day.” For more information\, please email Anthony Purpero at apurpero@mountaincity.church.
URL:https://mountaincity.church/events/young-adult-winter-retreat/
LOCATION:Little Beaver Bible Camp\, 858 S Beaver Lake Rd.\, Wasilla\, 99623\, United States
CATEGORIES:Young Adults
END:VEVENT
BEGIN:VEVENT
DTSTART;TZID=America/Anchorage:20260121T184500
DTEND;TZID=America/Anchorage:20260121T201500
DTSTAMP:20260420T180435
CREATED:20251226T165120Z
LAST-MODIFIED:20251226T165120Z
UID:10003607-1769021100-1769026500@mountaincity.church
SUMMARY:Awana
DESCRIPTION:Awana is a global ministry that focuses on learning God’s Word in a fun atmosphere. Each week\, Awana provides consistent\, positive teaching and training that stresses strong moral and spiritual values. Focusing on child discipleship\, our students learn about the reality of God and the truths of the Bible and to know\, love and serve Christ. \nPuggles (2yo-3 y0)\, Cubbies (3yo -5yo)\, Sparks (Kindergarten – 2nd) \, and T&T (3rd-5th) meet on Wednesday nights. Trek (6th-8th) meet on Sunday nights at 5pm. \nCost: $50 per clubber; includes uniform and book. Register at https://rock.mountaincity.church/page/826?EventOccurrenceId=38
URL:https://mountaincity.church/events/awana-5/2026-01-21/
CATEGORIES:Kids
END:VEVENT
BEGIN:VEVENT
DTSTART;TZID=America/Anchorage:20260121T180000
DTEND;TZID=America/Anchorage:20260121T184500
DTSTAMP:20260420T180435
CREATED:20251226T164757Z
LAST-MODIFIED:20260330T182843Z
UID:10003576-1769018400-1769021100@mountaincity.church
SUMMARY:Wednesday Night Meal
DESCRIPTION:6 – 6:45pm | Cost – Adults: $10\, Kids: $6 \nOur Wednesday night fellowship dinners follow our Awana program scheduling.
URL:https://mountaincity.church/events/wednesday-night-meal-6/2026-01-21/
LOCATION:Cafeteria
CATEGORIES:Meal
END:VEVENT
BEGIN:VEVENT
DTSTART;TZID=America/Anchorage:20260120T100000
DTEND;TZID=America/Anchorage:20260120T120000
DTSTAMP:20260420T180435
CREATED:20251223T213539Z
LAST-MODIFIED:20251223T213919Z
UID:10003518-1768903200-1768910400@mountaincity.church
SUMMARY:Tiny Kid Playdate
DESCRIPTION:If you have a tiny kid (infant to 4 yr old)\, we’d like to invite you to join us for a playdate from 10:30-noon in the Auditorium Lobby at Mountain City Church. For more information\, email Briana Harris at bharris@mountaincity.church.
URL:https://mountaincity.church/events/tiny-kid-playdate-8/2026-01-20/
LOCATION:Auditorium Lobby
CATEGORIES:Tiny Kids,Women
END:VEVENT
BEGIN:VEVENT
DTSTART;TZID=America/Anchorage:20260119T170000
DTEND;TZID=America/Anchorage:20260119T170000
DTSTAMP:20260420T180435
CREATED:20251223T210628Z
LAST-MODIFIED:20251226T163439Z
UID:10003515-1768842000-1768842000@mountaincity.church
SUMMARY:Brick & Bond: Dad/Son LEGO Night
DESCRIPTION:Join us for a night of fun\, creativity\, and connection! Dads and sons will team up to build LEGO creations\, share some delicious pizza\, and enjoy a short devotion focused on building strong foundations – both in our faith and in our families. Register here!
URL:https://mountaincity.church/events/brick-bond-dad-son-lego-night/
LOCATION:Mountain City Student Union
CATEGORIES:Kids,Men
END:VEVENT
BEGIN:VEVENT
DTSTART;TZID=America/Anchorage:20260118T170000
DTEND;TZID=America/Anchorage:20260118T183000
DTSTAMP:20260420T180435
CREATED:20250907T021603Z
LAST-MODIFIED:20260320T061004Z
UID:10003262-1768755600-1768761000@mountaincity.church
SUMMARY:AWANA - Trek
DESCRIPTION:Trek is designed to help 6-8th graders own their faith by exploring big life questions and studying the Bible. The program uses a three-year curriculum focused on the questions “Who am I?”\, “Why am I here?”\, and “Who’s with me?” to guide students in their faith journey.  \nTrek meets on Sunday nights at 5pm. \nCost: $50 per student; includes book and uniform. Register at https://rock.mountaincity.church/page/826?EventOccurrenceId=38 \n 
URL:https://mountaincity.church/events/awana-trek/2026-01-18/
CATEGORIES:Youth
END:VEVENT
BEGIN:VEVENT
DTSTART;TZID=America/Anchorage:20260118T090000
DTEND;TZID=America/Anchorage:20260118T090000
DTSTAMP:20260420T180435
CREATED:20251223T203803Z
LAST-MODIFIED:20251223T204340Z
UID:10003393-1768726800-1768726800@mountaincity.church
SUMMARY:Front Door
DESCRIPTION:The Front Door is a 3-week experience with the opportunity to learn more about Mountain City Church. Learn about your God-given purpose and spiritual gifts. Take your next step to become a member of Mountain City Church. Jump right in and make an eternal impact in our church and community by serving at Mountain City Church.
URL:https://mountaincity.church/events/front-door/2026-01-18/
LOCATION:Mountain City Church Room 111\, 6401 E Northern lights BLVD\, Anchorage\, AK\, 99504\, United States
CATEGORIES:Men,Seniors,Women,Young Adults
END:VEVENT
BEGIN:VEVENT
DTSTART;TZID=America/Anchorage:20260114T184500
DTEND;TZID=America/Anchorage:20260114T201500
DTSTAMP:20260420T180435
CREATED:20251226T165120Z
LAST-MODIFIED:20251226T165120Z
UID:10003606-1768416300-1768421700@mountaincity.church
SUMMARY:Awana
DESCRIPTION:Awana is a global ministry that focuses on learning God’s Word in a fun atmosphere. Each week\, Awana provides consistent\, positive teaching and training that stresses strong moral and spiritual values. Focusing on child discipleship\, our students learn about the reality of God and the truths of the Bible and to know\, love and serve Christ. \nPuggles (2yo-3 y0)\, Cubbies (3yo -5yo)\, Sparks (Kindergarten – 2nd) \, and T&T (3rd-5th) meet on Wednesday nights. Trek (6th-8th) meet on Sunday nights at 5pm. \nCost: $50 per clubber; includes uniform and book. Register at https://rock.mountaincity.church/page/826?EventOccurrenceId=38
URL:https://mountaincity.church/events/awana-5/2026-01-14/
CATEGORIES:Kids
END:VEVENT
END:VCALENDAR