BEGIN:VCALENDAR
VERSION:2.0
PRODID:-//Mountain City Church - ECPv6.15.19//NONSGML v1.0//EN
CALSCALE:GREGORIAN
METHOD:PUBLISH
X-WR-CALNAME:Mountain City Church
X-ORIGINAL-URL:https://mountaincity.church
X-WR-CALDESC:Events for Mountain City Church
REFRESH-INTERVAL;VALUE=DURATION:PT1H
X-Robots-Tag:noindex
X-PUBLISHED-TTL:PT1H
BEGIN:VTIMEZONE
TZID:America/Anchorage
BEGIN:DAYLIGHT
TZOFFSETFROM:-0900
TZOFFSETTO:-0800
TZNAME:AKDT
DTSTART:20220313T110000
END:DAYLIGHT
BEGIN:STANDARD
TZOFFSETFROM:-0800
TZOFFSETTO:-0900
TZNAME:AKST
DTSTART:20221106T100000
END:STANDARD
BEGIN:DAYLIGHT
TZOFFSETFROM:-0900
TZOFFSETTO:-0800
TZNAME:AKDT
DTSTART:20230312T110000
END:DAYLIGHT
BEGIN:STANDARD
TZOFFSETFROM:-0800
TZOFFSETTO:-0900
TZNAME:AKST
DTSTART:20231105T100000
END:STANDARD
BEGIN:DAYLIGHT
TZOFFSETFROM:-0900
TZOFFSETTO:-0800
TZNAME:AKDT
DTSTART:20240310T110000
END:DAYLIGHT
BEGIN:STANDARD
TZOFFSETFROM:-0800
TZOFFSETTO:-0900
TZNAME:AKST
DTSTART:20241103T100000
END:STANDARD
END:VTIMEZONE
BEGIN:VEVENT
DTSTART;TZID=America/Anchorage:20231129T184500
DTEND;TZID=America/Anchorage:20231129T201500
DTSTAMP:20260424T173822
CREATED:20230901T000554Z
LAST-MODIFIED:20230901T000554Z
UID:10001757-1701283500-1701288900@mountaincity.church
SUMMARY:AWANA
DESCRIPTION:For more information\, visit www.mountaincity.church/kids. \nTo register\, visit AWdb Web App (approvedworkman.com) !
URL:https://mountaincity.church/events/awana-2/2023-11-29/
CATEGORIES:Kids
END:VEVENT
BEGIN:VEVENT
DTSTART;TZID=America/Anchorage:20231129T180000
DTEND;TZID=America/Anchorage:20231129T184500
DTSTAMP:20260424T173822
CREATED:20231102T040656Z
LAST-MODIFIED:20231102T040657Z
UID:10001457-1701280800-1701283500@mountaincity.church
SUMMARY:Wednesday Night Meal
DESCRIPTION:November 8th\, 2023\nSpaghetti w/ Meatballs\nRoll\nGreen Beans\nSalad\n\nNovember 15th\,\nCowboy BBQ Burgers\nFrench Fries\nColeslaw\n\nNovember 22nd\,2023\nNo Dinner\nThanksgiving\n\nNovember 29th\,2023\nLoaded Baked Potato Soup\nSalad
URL:https://mountaincity.church/events/wednesday-night-meal-2/2023-11-29/
LOCATION:Cafeteria
CATEGORIES:Meal
END:VEVENT
BEGIN:VEVENT
DTSTART;TZID=America/Anchorage:20231122T184500
DTEND;TZID=America/Anchorage:20231122T201500
DTSTAMP:20260424T173822
CREATED:20231102T040914Z
LAST-MODIFIED:20231102T040915Z
UID:10001756-1700678700-1700684100@mountaincity.church
SUMMARY:No AWANA
DESCRIPTION:For more information\, visit www.mountaincity.church/kids. \nTo register\, visit AWdb Web App (approvedworkman.com) !
URL:https://mountaincity.church/events/awana-2-2/
CATEGORIES:Kids
END:VEVENT
BEGIN:VEVENT
DTSTART;TZID=America/Anchorage:20231122T184500
DTEND;TZID=America/Anchorage:20231122T201500
DTSTAMP:20260424T173822
CREATED:20230901T000554Z
LAST-MODIFIED:20230901T000554Z
UID:10002443-1700678700-1700684100@mountaincity.church
SUMMARY:AWANA
DESCRIPTION:For more information\, visit www.mountaincity.church/kids. \nTo register\, visit AWdb Web App (approvedworkman.com) !
URL:https://mountaincity.church/events/awana-2/2023-11-22/
CATEGORIES:Kids
END:VEVENT
BEGIN:VEVENT
DTSTART;TZID=America/Anchorage:20231122T180000
DTEND;TZID=America/Anchorage:20231122T184500
DTSTAMP:20260424T173822
CREATED:20231102T040844Z
LAST-MODIFIED:20231102T040845Z
UID:10001456-1700676000-1700678700@mountaincity.church
SUMMARY:No Wednesday Night Meal
DESCRIPTION:Happy Thanksgiving!
URL:https://mountaincity.church/events/wednesday-night-meal-2-2/
LOCATION:Cafeteria
CATEGORIES:Meal
END:VEVENT
BEGIN:VEVENT
DTSTART;TZID=America/Anchorage:20231122T180000
DTEND;TZID=America/Anchorage:20231122T184500
DTSTAMP:20260424T173822
CREATED:20231102T040656Z
LAST-MODIFIED:20231102T040657Z
UID:10002217-1700676000-1700678700@mountaincity.church
SUMMARY:Wednesday Night Meal
DESCRIPTION:November 8th\, 2023\nSpaghetti w/ Meatballs\nRoll\nGreen Beans\nSalad\n\nNovember 15th\,\nCowboy BBQ Burgers\nFrench Fries\nColeslaw\n\nNovember 22nd\,2023\nNo Dinner\nThanksgiving\n\nNovember 29th\,2023\nLoaded Baked Potato Soup\nSalad
URL:https://mountaincity.church/events/wednesday-night-meal-2/2023-11-22/
LOCATION:Cafeteria
CATEGORIES:Meal
END:VEVENT
BEGIN:VEVENT
DTSTART;TZID=America/Anchorage:20231116T200000
DTEND;TZID=America/Anchorage:20231116T210000
DTSTAMP:20260424T173822
CREATED:20231102T041205Z
LAST-MODIFIED:20231102T041205Z
UID:10002209-1700164800-1700168400@mountaincity.church
SUMMARY:Packing Thanksgiving Food Boxes
DESCRIPTION:Bring your family and help us pack over 500 food boxes for those in need in Anchorage and Alaska! We’ll be packing in the Multi-Purpose Gym starting at 8pm.
URL:https://mountaincity.church/events/packing-thanksgiving-food-boxes/
LOCATION:Multi-Purpose Gym\, 6401 E Northern Lights Blvd\, Anchorage\, AK\, 99504\, United States
END:VEVENT
BEGIN:VEVENT
DTSTART;TZID=America/Anchorage:20231115T184500
DTEND;TZID=America/Anchorage:20231115T201500
DTSTAMP:20260424T173822
CREATED:20230901T000554Z
LAST-MODIFIED:20230901T000554Z
UID:10001755-1700073900-1700079300@mountaincity.church
SUMMARY:AWANA
DESCRIPTION:For more information\, visit www.mountaincity.church/kids. \nTo register\, visit AWdb Web App (approvedworkman.com) !
URL:https://mountaincity.church/events/awana-2/2023-11-15/
CATEGORIES:Kids
END:VEVENT
BEGIN:VEVENT
DTSTART;TZID=America/Anchorage:20231115T180000
DTEND;TZID=America/Anchorage:20231115T184500
DTSTAMP:20260424T173822
CREATED:20231102T040656Z
LAST-MODIFIED:20231102T040657Z
UID:10001455-1700071200-1700073900@mountaincity.church
SUMMARY:Wednesday Night Meal
DESCRIPTION:November 8th\, 2023\nSpaghetti w/ Meatballs\nRoll\nGreen Beans\nSalad\n\nNovember 15th\,\nCowboy BBQ Burgers\nFrench Fries\nColeslaw\n\nNovember 22nd\,2023\nNo Dinner\nThanksgiving\n\nNovember 29th\,2023\nLoaded Baked Potato Soup\nSalad
URL:https://mountaincity.church/events/wednesday-night-meal-2/2023-11-15/
LOCATION:Cafeteria
CATEGORIES:Meal
END:VEVENT
BEGIN:VEVENT
DTSTART;TZID=America/Anchorage:20231111T130000
DTEND;TZID=America/Anchorage:20231111T150000
DTSTAMP:20260424T173822
CREATED:20231102T041315Z
LAST-MODIFIED:20231102T041315Z
UID:10002210-1699707600-1699714800@mountaincity.church
SUMMARY:Operation Christmas Child Packing Party
DESCRIPTION:Bring your family and join us in the Auditorium Lobby at 1pm to pack shoe boxes!
URL:https://mountaincity.church/events/operation-christmas-child-packing-party/
LOCATION:Mountain City Church Auditorium\, 6401 E Northern Lights Blvd\, Anchorage\, AK\, 99504\, United States
END:VEVENT
BEGIN:VEVENT
DTSTART;TZID=America/Anchorage:20231108T184500
DTEND;TZID=America/Anchorage:20231108T201500
DTSTAMP:20260424T173822
CREATED:20230901T000554Z
LAST-MODIFIED:20230901T000554Z
UID:10001754-1699469100-1699474500@mountaincity.church
SUMMARY:AWANA
DESCRIPTION:For more information\, visit www.mountaincity.church/kids. \nTo register\, visit AWdb Web App (approvedworkman.com) !
URL:https://mountaincity.church/events/awana-2/2023-11-08/
CATEGORIES:Kids
END:VEVENT
BEGIN:VEVENT
DTSTART;TZID=America/Anchorage:20231108T180000
DTEND;TZID=America/Anchorage:20231108T184500
DTSTAMP:20260424T173822
CREATED:20231102T040656Z
LAST-MODIFIED:20231102T040657Z
UID:10001454-1699466400-1699469100@mountaincity.church
SUMMARY:Wednesday Night Meal
DESCRIPTION:November 8th\, 2023\nSpaghetti w/ Meatballs\nRoll\nGreen Beans\nSalad\n\nNovember 15th\,\nCowboy BBQ Burgers\nFrench Fries\nColeslaw\n\nNovember 22nd\,2023\nNo Dinner\nThanksgiving\n\nNovember 29th\,2023\nLoaded Baked Potato Soup\nSalad
URL:https://mountaincity.church/events/wednesday-night-meal-2/2023-11-08/
LOCATION:Cafeteria
CATEGORIES:Meal
END:VEVENT
BEGIN:VEVENT
DTSTART;TZID=America/Anchorage:20231101T184500
DTEND;TZID=America/Anchorage:20231101T201500
DTSTAMP:20260424T173822
CREATED:20230901T000554Z
LAST-MODIFIED:20230901T000554Z
UID:10001753-1698864300-1698869700@mountaincity.church
SUMMARY:AWANA
DESCRIPTION:For more information\, visit www.mountaincity.church/kids. \nTo register\, visit AWdb Web App (approvedworkman.com) !
URL:https://mountaincity.church/events/awana-2/2023-11-01/
CATEGORIES:Kids
END:VEVENT
BEGIN:VEVENT
DTSTART;TZID=America/Anchorage:20231101T180000
DTEND;TZID=America/Anchorage:20231101T184500
DTSTAMP:20260424T173822
CREATED:20231102T040656Z
LAST-MODIFIED:20231102T040657Z
UID:10001453-1698861600-1698864300@mountaincity.church
SUMMARY:Wednesday Night Meal
DESCRIPTION:November 8th\, 2023\nSpaghetti w/ Meatballs\nRoll\nGreen Beans\nSalad\n\nNovember 15th\,\nCowboy BBQ Burgers\nFrench Fries\nColeslaw\n\nNovember 22nd\,2023\nNo Dinner\nThanksgiving\n\nNovember 29th\,2023\nLoaded Baked Potato Soup\nSalad
URL:https://mountaincity.church/events/wednesday-night-meal-2/2023-11-01/
LOCATION:Cafeteria
CATEGORIES:Meal
END:VEVENT
BEGIN:VEVENT
DTSTART;TZID=America/Anchorage:20231027T190000
DTEND;TZID=America/Anchorage:20231027T210000
DTSTAMP:20260424T173822
CREATED:20230816T165653Z
LAST-MODIFIED:20230910T164711Z
UID:10001742-1698433200-1698440400@mountaincity.church
SUMMARY:Worship Night
DESCRIPTION:
URL:https://mountaincity.church/events/worship-night/
CATEGORIES:Men,Women,Young Adults,Youth
END:VEVENT
BEGIN:VEVENT
DTSTART;TZID=America/Anchorage:20231025T184500
DTEND;TZID=America/Anchorage:20231025T201500
DTSTAMP:20260424T173822
CREATED:20230901T000554Z
LAST-MODIFIED:20230901T000554Z
UID:10001752-1698259500-1698264900@mountaincity.church
SUMMARY:AWANA
DESCRIPTION:For more information\, visit www.mountaincity.church/kids. \nTo register\, visit AWdb Web App (approvedworkman.com) !
URL:https://mountaincity.church/events/awana-2/2023-10-25/
CATEGORIES:Kids
END:VEVENT
BEGIN:VEVENT
DTSTART;TZID=America/Anchorage:20231025T180000
DTEND;TZID=America/Anchorage:20231025T184500
DTSTAMP:20260424T173822
CREATED:20230402T062655Z
LAST-MODIFIED:20231018T200421Z
UID:10001452-1698256800-1698259500@mountaincity.church
SUMMARY:Wednesday Night Meal
DESCRIPTION:September 27th\, 2023 \n\n\nChicken Pot Pie \n\n\nSalad \n  \n\n\nOctober 4th\, 2023 \n\n\nPork Schnitzel \n\n\nMashed Potatoes w/Gravy \n\n\nVeggies \n\n\nSalad \n\n\n\n\n\nOctober 11th\, 2023 \n\n\nBeef Stew w/Veggies \n\n\nRoll \n\n\nSalad \n\n\n\n\n\nOctober 18th\, 2023 \n\n\nShrimp Corn Chowder \n\n\nW/ Cheddar Biscuit \n\n\nSalad \n\n\n\n\n\nOctober 25th\, 2023 \n\n\nMeat Loaf \n\n\nMashed Potatoes w/Gravy \n\n\nGreen Beans \n\n\nSalad
URL:https://mountaincity.church/events/wednesday-night-meal/2023-10-25/
LOCATION:Cafeteria
CATEGORIES:Meal
END:VEVENT
BEGIN:VEVENT
DTSTART;TZID=America/Anchorage:20231021T090000
DTEND;TZID=America/Anchorage:20231021T163000
DTSTAMP:20260424T173822
CREATED:20230820T055632Z
LAST-MODIFIED:20230823T232252Z
UID:10001743-1697878800-1697905800@mountaincity.church
SUMMARY:Legacy Grandparenting Summit Simulcast
DESCRIPTION:We are hosting the Legacy Grandparenting Summit Simulcast at Mountain City Church on Saturday\, October 21st. If you would like to attend\, please register here. \nMountain City Church – Anchorage\, AK – Legacy Coalition | Brushfire \n 
URL:https://mountaincity.church/events/legacy-grandparenting-summit-simulcast/
CATEGORIES:Men,Seniors,Women
ATTACH;FMTTYPE=image/jpeg:https://mountaincity.church/wp-content/uploads/2023/08/grandparent-summit-logo.jpg
END:VEVENT
BEGIN:VEVENT
DTSTART;TZID=America/Anchorage:20231018T184500
DTEND;TZID=America/Anchorage:20231018T201500
DTSTAMP:20260424T173822
CREATED:20230901T000554Z
LAST-MODIFIED:20230901T000554Z
UID:10001751-1697654700-1697660100@mountaincity.church
SUMMARY:AWANA
DESCRIPTION:For more information\, visit www.mountaincity.church/kids. \nTo register\, visit AWdb Web App (approvedworkman.com) !
URL:https://mountaincity.church/events/awana-2/2023-10-18/
CATEGORIES:Kids
END:VEVENT
BEGIN:VEVENT
DTSTART;TZID=America/Anchorage:20231018T180000
DTEND;TZID=America/Anchorage:20231018T184500
DTSTAMP:20260424T173822
CREATED:20230402T062655Z
LAST-MODIFIED:20231018T200421Z
UID:10001451-1697652000-1697654700@mountaincity.church
SUMMARY:Wednesday Night Meal
DESCRIPTION:September 27th\, 2023 \n\n\nChicken Pot Pie \n\n\nSalad \n  \n\n\nOctober 4th\, 2023 \n\n\nPork Schnitzel \n\n\nMashed Potatoes w/Gravy \n\n\nVeggies \n\n\nSalad \n\n\n\n\n\nOctober 11th\, 2023 \n\n\nBeef Stew w/Veggies \n\n\nRoll \n\n\nSalad \n\n\n\n\n\nOctober 18th\, 2023 \n\n\nShrimp Corn Chowder \n\n\nW/ Cheddar Biscuit \n\n\nSalad \n\n\n\n\n\nOctober 25th\, 2023 \n\n\nMeat Loaf \n\n\nMashed Potatoes w/Gravy \n\n\nGreen Beans \n\n\nSalad
URL:https://mountaincity.church/events/wednesday-night-meal/2023-10-18/
LOCATION:Cafeteria
CATEGORIES:Meal
END:VEVENT
BEGIN:VEVENT
DTSTART;TZID=America/Anchorage:20231011T184500
DTEND;TZID=America/Anchorage:20231011T201500
DTSTAMP:20260424T173822
CREATED:20230901T000554Z
LAST-MODIFIED:20230901T000554Z
UID:10001750-1697049900-1697055300@mountaincity.church
SUMMARY:AWANA
DESCRIPTION:For more information\, visit www.mountaincity.church/kids. \nTo register\, visit AWdb Web App (approvedworkman.com) !
URL:https://mountaincity.church/events/awana-2/2023-10-11/
CATEGORIES:Kids
END:VEVENT
BEGIN:VEVENT
DTSTART;TZID=America/Anchorage:20231011T180000
DTEND;TZID=America/Anchorage:20231011T184500
DTSTAMP:20260424T173822
CREATED:20230402T062655Z
LAST-MODIFIED:20231018T200421Z
UID:10001450-1697047200-1697049900@mountaincity.church
SUMMARY:Wednesday Night Meal
DESCRIPTION:September 27th\, 2023 \n\n\nChicken Pot Pie \n\n\nSalad \n  \n\n\nOctober 4th\, 2023 \n\n\nPork Schnitzel \n\n\nMashed Potatoes w/Gravy \n\n\nVeggies \n\n\nSalad \n\n\n\n\n\nOctober 11th\, 2023 \n\n\nBeef Stew w/Veggies \n\n\nRoll \n\n\nSalad \n\n\n\n\n\nOctober 18th\, 2023 \n\n\nShrimp Corn Chowder \n\n\nW/ Cheddar Biscuit \n\n\nSalad \n\n\n\n\n\nOctober 25th\, 2023 \n\n\nMeat Loaf \n\n\nMashed Potatoes w/Gravy \n\n\nGreen Beans \n\n\nSalad
URL:https://mountaincity.church/events/wednesday-night-meal/2023-10-11/
LOCATION:Cafeteria
CATEGORIES:Meal
END:VEVENT
BEGIN:VEVENT
DTSTART;TZID=America/Anchorage:20231008T110000
DTEND;TZID=America/Anchorage:20231008T123000
DTSTAMP:20260424T173822
CREATED:20230926T040451Z
LAST-MODIFIED:20230926T040451Z
UID:10002201-1696762800-1696768200@mountaincity.church
SUMMARY:Sermon Series: From Now On
DESCRIPTION:A study of spiritual disciplines
URL:https://mountaincity.church/events/sermon-series-from-now-on/2023-10-08/
END:VEVENT
BEGIN:VEVENT
DTSTART;TZID=America/Anchorage:20231007T130000
DTEND;TZID=America/Anchorage:20231007T150000
DTSTAMP:20260424T173822
CREATED:20230927T002014Z
LAST-MODIFIED:20230927T002107Z
UID:10002202-1696683600-1696690800@mountaincity.church
SUMMARY:Medicare Part D
DESCRIPTION:Registration not required.
URL:https://mountaincity.church/events/medicare-part-d/
LOCATION:Room 100\, 6401 E Northern Lights Blvd\, Anchorage\, AK\, 99504\, United States
END:VEVENT
BEGIN:VEVENT
DTSTART;TZID=America/Anchorage:20231004T184500
DTEND;TZID=America/Anchorage:20231004T201500
DTSTAMP:20260424T173822
CREATED:20230901T000554Z
LAST-MODIFIED:20230901T000554Z
UID:10001749-1696445100-1696450500@mountaincity.church
SUMMARY:AWANA
DESCRIPTION:For more information\, visit www.mountaincity.church/kids. \nTo register\, visit AWdb Web App (approvedworkman.com) !
URL:https://mountaincity.church/events/awana-2/2023-10-04/
CATEGORIES:Kids
END:VEVENT
BEGIN:VEVENT
DTSTART;TZID=America/Anchorage:20231004T180000
DTEND;TZID=America/Anchorage:20231004T184500
DTSTAMP:20260424T173822
CREATED:20230402T062655Z
LAST-MODIFIED:20231018T200421Z
UID:10001449-1696442400-1696445100@mountaincity.church
SUMMARY:Wednesday Night Meal
DESCRIPTION:September 27th\, 2023 \n\n\nChicken Pot Pie \n\n\nSalad \n  \n\n\nOctober 4th\, 2023 \n\n\nPork Schnitzel \n\n\nMashed Potatoes w/Gravy \n\n\nVeggies \n\n\nSalad \n\n\n\n\n\nOctober 11th\, 2023 \n\n\nBeef Stew w/Veggies \n\n\nRoll \n\n\nSalad \n\n\n\n\n\nOctober 18th\, 2023 \n\n\nShrimp Corn Chowder \n\n\nW/ Cheddar Biscuit \n\n\nSalad \n\n\n\n\n\nOctober 25th\, 2023 \n\n\nMeat Loaf \n\n\nMashed Potatoes w/Gravy \n\n\nGreen Beans \n\n\nSalad
URL:https://mountaincity.church/events/wednesday-night-meal/2023-10-04/
LOCATION:Cafeteria
CATEGORIES:Meal
END:VEVENT
BEGIN:VEVENT
DTSTART;TZID=America/Anchorage:20231001T110000
DTEND;TZID=America/Anchorage:20231001T123000
DTSTAMP:20260424T173822
CREATED:20230926T040451Z
LAST-MODIFIED:20230926T040451Z
UID:10002200-1696158000-1696163400@mountaincity.church
SUMMARY:Sermon Series: From Now On
DESCRIPTION:A study of spiritual disciplines
URL:https://mountaincity.church/events/sermon-series-from-now-on/2023-10-01/
END:VEVENT
BEGIN:VEVENT
DTSTART;TZID=America/Anchorage:20230930T100000
DTEND;TZID=America/Anchorage:20230930T130000
DTSTAMP:20260424T173822
CREATED:20230919T234240Z
LAST-MODIFIED:20230919T234240Z
UID:10002009-1696068000-1696078800@mountaincity.church
SUMMARY:Gathering- Hike!
DESCRIPTION:
URL:https://mountaincity.church/events/gathering-hike/
CATEGORIES:Young Adults
END:VEVENT
BEGIN:VEVENT
DTSTART;TZID=America/Anchorage:20230927T184500
DTEND;TZID=America/Anchorage:20230927T201500
DTSTAMP:20260424T173822
CREATED:20230901T000554Z
LAST-MODIFIED:20230901T000554Z
UID:10001748-1695840300-1695845700@mountaincity.church
SUMMARY:AWANA
DESCRIPTION:For more information\, visit www.mountaincity.church/kids. \nTo register\, visit AWdb Web App (approvedworkman.com) !
URL:https://mountaincity.church/events/awana-2/2023-09-27/
CATEGORIES:Kids
END:VEVENT
BEGIN:VEVENT
DTSTART;TZID=America/Anchorage:20230927T180000
DTEND;TZID=America/Anchorage:20230927T184500
DTSTAMP:20260424T173822
CREATED:20230402T062655Z
LAST-MODIFIED:20231018T200421Z
UID:10001448-1695837600-1695840300@mountaincity.church
SUMMARY:Wednesday Night Meal
DESCRIPTION:September 27th\, 2023 \n\n\nChicken Pot Pie \n\n\nSalad \n  \n\n\nOctober 4th\, 2023 \n\n\nPork Schnitzel \n\n\nMashed Potatoes w/Gravy \n\n\nVeggies \n\n\nSalad \n\n\n\n\n\nOctober 11th\, 2023 \n\n\nBeef Stew w/Veggies \n\n\nRoll \n\n\nSalad \n\n\n\n\n\nOctober 18th\, 2023 \n\n\nShrimp Corn Chowder \n\n\nW/ Cheddar Biscuit \n\n\nSalad \n\n\n\n\n\nOctober 25th\, 2023 \n\n\nMeat Loaf \n\n\nMashed Potatoes w/Gravy \n\n\nGreen Beans \n\n\nSalad
URL:https://mountaincity.church/events/wednesday-night-meal/2023-09-27/
LOCATION:Cafeteria
CATEGORIES:Meal
END:VEVENT
END:VCALENDAR