BEGIN:VCALENDAR
VERSION:2.0
PRODID:-//Mountain City Church - ECPv6.15.19//NONSGML v1.0//EN
CALSCALE:GREGORIAN
METHOD:PUBLISH
X-WR-CALNAME:Mountain City Church
X-ORIGINAL-URL:https://mountaincity.church
X-WR-CALDESC:Events for Mountain City Church
REFRESH-INTERVAL;VALUE=DURATION:PT1H
X-Robots-Tag:noindex
X-PUBLISHED-TTL:PT1H
BEGIN:VTIMEZONE
TZID:America/Anchorage
BEGIN:DAYLIGHT
TZOFFSETFROM:-0900
TZOFFSETTO:-0800
TZNAME:AKDT
DTSTART:20220313T110000
END:DAYLIGHT
BEGIN:STANDARD
TZOFFSETFROM:-0800
TZOFFSETTO:-0900
TZNAME:AKST
DTSTART:20221106T100000
END:STANDARD
BEGIN:DAYLIGHT
TZOFFSETFROM:-0900
TZOFFSETTO:-0800
TZNAME:AKDT
DTSTART:20230312T110000
END:DAYLIGHT
BEGIN:STANDARD
TZOFFSETFROM:-0800
TZOFFSETTO:-0900
TZNAME:AKST
DTSTART:20231105T100000
END:STANDARD
BEGIN:DAYLIGHT
TZOFFSETFROM:-0900
TZOFFSETTO:-0800
TZNAME:AKDT
DTSTART:20240310T110000
END:DAYLIGHT
BEGIN:STANDARD
TZOFFSETFROM:-0800
TZOFFSETTO:-0900
TZNAME:AKST
DTSTART:20241103T100000
END:STANDARD
BEGIN:DAYLIGHT
TZOFFSETFROM:-0900
TZOFFSETTO:-0800
TZNAME:AKDT
DTSTART:20250309T110000
END:DAYLIGHT
BEGIN:STANDARD
TZOFFSETFROM:-0800
TZOFFSETTO:-0900
TZNAME:AKST
DTSTART:20251102T100000
END:STANDARD
END:VTIMEZONE
BEGIN:VEVENT
DTSTART;TZID=America/Anchorage:20240216T161500
DTEND;TZID=America/Anchorage:20240219T130000
DTSTAMP:20260423T064731
CREATED:20231215T202012Z
LAST-MODIFIED:20240124T002856Z
UID:10002223-1708100100-1708347600@mountaincity.church
SUMMARY:Winter Camp at Little Beaver
DESCRIPTION:We will be having our Winter Camp at Little Beaver Feb 16th-19th. Please arrive at church @ 4:15pm on Friday\, and we will return at 1pm on Monday. \nPlease contact Zach Williams for any questions @ zwilliams@mountaincity.church \nwww.mountaincity.church/kidscamp \n 
URL:https://mountaincity.church/events/winter-camp-at-little-beaver/
LOCATION:AK
END:VEVENT
BEGIN:VEVENT
DTSTART;TZID=America/Anchorage:20240214T184500
DTEND;TZID=America/Anchorage:20240214T201500
DTSTAMP:20260423T064731
CREATED:20230901T000554Z
LAST-MODIFIED:20230901T000554Z
UID:10001768-1707936300-1707941700@mountaincity.church
SUMMARY:AWANA
DESCRIPTION:For more information\, visit www.mountaincity.church/kids. \nTo register\, visit AWdb Web App (approvedworkman.com) !
URL:https://mountaincity.church/events/awana-2/2024-02-14/
LOCATION:AK
CATEGORIES:Kids
END:VEVENT
BEGIN:VEVENT
DTSTART;TZID=America/Anchorage:20240214T180000
DTEND;TZID=America/Anchorage:20240214T184500
DTSTAMP:20260423T064731
CREATED:20231128T225720Z
LAST-MODIFIED:20240514T225108Z
UID:10001468-1707933600-1707936300@mountaincity.church
SUMMARY:Wednesday Night Meal
DESCRIPTION:
URL:https://mountaincity.church/events/wednesday-night-meal-2-3/2024-02-14/
LOCATION:Cafeteria
CATEGORIES:Meal
END:VEVENT
BEGIN:VEVENT
DTSTART;TZID=America/Anchorage:20240213T180000
DTEND;TZID=America/Anchorage:20240213T200000
DTSTAMP:20260423T064731
CREATED:20231228T235249Z
LAST-MODIFIED:20231228T235249Z
UID:10002233-1707847200-1707854400@mountaincity.church
SUMMARY:Gathering Galentine's Day
DESCRIPTION:We are having a Gathering Galentine’s Day “Bring Your Own Dessert” starting at 6pm! \nThis will be a great time of fellowship and togetherness!! \nFor more info please contact Josh Velez @ jvelez@mounaincity.church
URL:https://mountaincity.church/events/gathering-galentines-day/
LOCATION:Mountain City Church\, 6401 E Northern Lights Blvd\, Anchorage\, AK\, 99504\, United States
END:VEVENT
BEGIN:VEVENT
DTSTART;TZID=America/Anchorage:20240211T180000
DTEND;TZID=America/Anchorage:20240211T200000
DTSTAMP:20260423T064731
CREATED:20231228T234935Z
LAST-MODIFIED:20231228T234935Z
UID:10002232-1707674400-1707681600@mountaincity.church
SUMMARY:Gathering Guys Night
DESCRIPTION:We are having a Gathering Guys Night at the church at 6pm! \nFor more info contact Josh Velez at jvelez@mountaincity.church 
URL:https://mountaincity.church/events/gathering-guys-night-2/
LOCATION:AK
END:VEVENT
BEGIN:VEVENT
DTSTART;TZID=America/Anchorage:20240210T083000
DTEND;TZID=America/Anchorage:20240210T150000
DTSTAMP:20260423T064731
CREATED:20231215T222218Z
LAST-MODIFIED:20240123T222304Z
UID:10002226-1707553800-1707577200@mountaincity.church
SUMMARY:Equip America
DESCRIPTION:We will be holding the event in Room 110 from 8:30-3pm. Cost $15 \nThere will also be optional street evangelism/canvassing from 3:15-4:30 \nSign up to attend here.
URL:https://mountaincity.church/events/equip-america-2/
LOCATION:AK
END:VEVENT
BEGIN:VEVENT
DTSTART;TZID=America/Anchorage:20240207T184500
DTEND;TZID=America/Anchorage:20240207T201500
DTSTAMP:20260423T064731
CREATED:20230901T000554Z
LAST-MODIFIED:20230901T000554Z
UID:10001767-1707331500-1707336900@mountaincity.church
SUMMARY:AWANA
DESCRIPTION:For more information\, visit www.mountaincity.church/kids. \nTo register\, visit AWdb Web App (approvedworkman.com) !
URL:https://mountaincity.church/events/awana-2/2024-02-07/
LOCATION:AK
CATEGORIES:Kids
END:VEVENT
BEGIN:VEVENT
DTSTART;TZID=America/Anchorage:20240207T180000
DTEND;TZID=America/Anchorage:20240207T184500
DTSTAMP:20260423T064731
CREATED:20231128T225720Z
LAST-MODIFIED:20240514T225108Z
UID:10001467-1707328800-1707331500@mountaincity.church
SUMMARY:Wednesday Night Meal
DESCRIPTION:
URL:https://mountaincity.church/events/wednesday-night-meal-2-3/2024-02-07/
LOCATION:Cafeteria
CATEGORIES:Meal
END:VEVENT
BEGIN:VEVENT
DTSTART;TZID=America/Anchorage:20240131T184500
DTEND;TZID=America/Anchorage:20240131T201500
DTSTAMP:20260423T064731
CREATED:20230901T000554Z
LAST-MODIFIED:20230901T000554Z
UID:10001766-1706726700-1706732100@mountaincity.church
SUMMARY:AWANA
DESCRIPTION:For more information\, visit www.mountaincity.church/kids. \nTo register\, visit AWdb Web App (approvedworkman.com) !
URL:https://mountaincity.church/events/awana-2/2024-01-31/
LOCATION:AK
CATEGORIES:Kids
END:VEVENT
BEGIN:VEVENT
DTSTART;TZID=America/Anchorage:20240131T180000
DTEND;TZID=America/Anchorage:20240131T184500
DTSTAMP:20260423T064731
CREATED:20231128T225720Z
LAST-MODIFIED:20240514T225108Z
UID:10001466-1706724000-1706726700@mountaincity.church
SUMMARY:Wednesday Night Meal
DESCRIPTION:
URL:https://mountaincity.church/events/wednesday-night-meal-2-3/2024-01-31/
LOCATION:Cafeteria
CATEGORIES:Meal
END:VEVENT
BEGIN:VEVENT
DTSTART;TZID=America/Anchorage:20240126T190000
DTEND;TZID=America/Anchorage:20240126T210000
DTSTAMP:20260423T064731
CREATED:20231215T202728Z
LAST-MODIFIED:20231215T203655Z
UID:10002224-1706295600-1706302800@mountaincity.church
SUMMARY:Youth Backyard Sports Tournament
DESCRIPTION:Join us for Youth Backyard Sports Tournament at 7pm at Mountain City Church.
URL:https://mountaincity.church/events/gathering-game-night-2/
LOCATION:Mountain City Church\, 6401 E Northern Lights Blvd\, Anchorage\, AK\, 99504\, United States
END:VEVENT
BEGIN:VEVENT
DTSTART;VALUE=DATE:20240126
DTEND;VALUE=DATE:20240129
DTSTAMP:20260423T064731
CREATED:20231228T234100Z
LAST-MODIFIED:20240103T011223Z
UID:10002230-1706227200-1706486399@mountaincity.church
SUMMARY:Gathering Retreat to Victory Bible Camp.
DESCRIPTION:Gathering Retreat at Victory Bible Camp is going to be awesome! We always look forward to this time with you all. \nHere is the link to Register: mountaincity.church/yaretreat  Cost is $120.00 \nIf you have any questions\, please contact Josh Velez at jvelez@mountaincity.church \nwww.mountaincity.church/ythcamp
URL:https://mountaincity.church/events/gathering-retreat-to-victory-bible-camp/
LOCATION:AK
END:VEVENT
BEGIN:VEVENT
DTSTART;TZID=America/Anchorage:20240124T184500
DTEND;TZID=America/Anchorage:20240124T201500
DTSTAMP:20260423T064731
CREATED:20230901T000554Z
LAST-MODIFIED:20230901T000554Z
UID:10001765-1706121900-1706127300@mountaincity.church
SUMMARY:AWANA
DESCRIPTION:For more information\, visit www.mountaincity.church/kids. \nTo register\, visit AWdb Web App (approvedworkman.com) !
URL:https://mountaincity.church/events/awana-2/2024-01-24/
LOCATION:AK
CATEGORIES:Kids
END:VEVENT
BEGIN:VEVENT
DTSTART;TZID=America/Anchorage:20240124T180000
DTEND;TZID=America/Anchorage:20240124T184500
DTSTAMP:20260423T064731
CREATED:20231128T225720Z
LAST-MODIFIED:20240514T225108Z
UID:10001465-1706119200-1706121900@mountaincity.church
SUMMARY:Wednesday Night Meal
DESCRIPTION:
URL:https://mountaincity.church/events/wednesday-night-meal-2-3/2024-01-24/
LOCATION:Cafeteria
CATEGORIES:Meal
END:VEVENT
BEGIN:VEVENT
DTSTART;TZID=America/Anchorage:20240120T080000
DTEND;TZID=America/Anchorage:20240120T170000
DTSTAMP:20260423T064731
CREATED:20240103T005821Z
LAST-MODIFIED:20240103T005922Z
UID:10002317-1705737600-1705770000@mountaincity.church
SUMMARY:Hide and seek @MTN City Church!
DESCRIPTION:The kid’s ministry is having a hide and seek across the church from 6:30pm-8pm\, and we can’t wait to see you all there. For more information\, contact Pastor Zach at zwilliams@mountaincity.church \nThis is for 2nd grade-5th grade.
URL:https://mountaincity.church/events/hide-and-seek-mtn-city-church-2/
LOCATION:AK
END:VEVENT
BEGIN:VEVENT
DTSTART;TZID=America/Anchorage:20240117T184500
DTEND;TZID=America/Anchorage:20240117T201500
DTSTAMP:20260423T064731
CREATED:20230901T000554Z
LAST-MODIFIED:20230901T000554Z
UID:10001764-1705517100-1705522500@mountaincity.church
SUMMARY:AWANA
DESCRIPTION:For more information\, visit www.mountaincity.church/kids. \nTo register\, visit AWdb Web App (approvedworkman.com) !
URL:https://mountaincity.church/events/awana-2/2024-01-17/
LOCATION:AK
CATEGORIES:Kids
END:VEVENT
BEGIN:VEVENT
DTSTART;TZID=America/Anchorage:20240117T180000
DTEND;TZID=America/Anchorage:20240117T184500
DTSTAMP:20260423T064731
CREATED:20231128T225720Z
LAST-MODIFIED:20240514T225108Z
UID:10001464-1705514400-1705517100@mountaincity.church
SUMMARY:Wednesday Night Meal
DESCRIPTION:
URL:https://mountaincity.church/events/wednesday-night-meal-2-3/2024-01-17/
LOCATION:Cafeteria
CATEGORIES:Meal
END:VEVENT
BEGIN:VEVENT
DTSTART;TZID=America/Anchorage:20240114T190000
DTEND;TZID=America/Anchorage:20240114T210000
DTSTAMP:20260423T064731
CREATED:20231228T233247Z
LAST-MODIFIED:20231228T233247Z
UID:10002229-1705258800-1705266000@mountaincity.church
SUMMARY:Gathering Game Night!!
DESCRIPTION:We are having game night here at the church in room 207 at 7pm!! Can’t wait to see you all! \nIf you have any questions\, please contact Josh Velez at jvelez@mountaincity.church
URL:https://mountaincity.church/events/gathering-game-night-3/
LOCATION:Mountain City Church\, 6401 E Northern Lights Blvd\, Anchorage\, AK\, 99504\, United States
END:VEVENT
BEGIN:VEVENT
DTSTART;TZID=America/Anchorage:20240110T184500
DTEND;TZID=America/Anchorage:20240110T201500
DTSTAMP:20260423T064731
CREATED:20230901T000554Z
LAST-MODIFIED:20230901T000554Z
UID:10001763-1704912300-1704917700@mountaincity.church
SUMMARY:AWANA
DESCRIPTION:For more information\, visit www.mountaincity.church/kids. \nTo register\, visit AWdb Web App (approvedworkman.com) !
URL:https://mountaincity.church/events/awana-2/2024-01-10/
LOCATION:AK
CATEGORIES:Kids
END:VEVENT
BEGIN:VEVENT
DTSTART;TZID=America/Anchorage:20240110T180000
DTEND;TZID=America/Anchorage:20240110T184500
DTSTAMP:20260423T064731
CREATED:20231128T225720Z
LAST-MODIFIED:20240514T225108Z
UID:10001463-1704909600-1704912300@mountaincity.church
SUMMARY:Wednesday Night Meal
DESCRIPTION:
URL:https://mountaincity.church/events/wednesday-night-meal-2-3/2024-01-10/
LOCATION:Cafeteria
CATEGORIES:Meal
END:VEVENT
BEGIN:VEVENT
DTSTART;TZID=America/Anchorage:20240103T184500
DTEND;TZID=America/Anchorage:20240103T201500
DTSTAMP:20260423T064731
CREATED:20230901T000554Z
LAST-MODIFIED:20230901T000554Z
UID:10001762-1704307500-1704312900@mountaincity.church
SUMMARY:AWANA
DESCRIPTION:For more information\, visit www.mountaincity.church/kids. \nTo register\, visit AWdb Web App (approvedworkman.com) !
URL:https://mountaincity.church/events/awana-2/2024-01-03/
LOCATION:AK
CATEGORIES:Kids
END:VEVENT
BEGIN:VEVENT
DTSTART;TZID=America/Anchorage:20240103T180000
DTEND;TZID=America/Anchorage:20240103T184500
DTSTAMP:20260423T064731
CREATED:20231128T225720Z
LAST-MODIFIED:20240514T225108Z
UID:10001462-1704304800-1704307500@mountaincity.church
SUMMARY:Wednesday Night Meal
DESCRIPTION:
URL:https://mountaincity.church/events/wednesday-night-meal-2-3/2024-01-03/
LOCATION:Cafeteria
CATEGORIES:Meal
END:VEVENT
BEGIN:VEVENT
DTSTART;TZID=America/Anchorage:20231229T080000
DTEND;TZID=America/Anchorage:20231229T170000
DTSTAMP:20260423T064731
CREATED:20231229T204325Z
LAST-MODIFIED:20231229T204325Z
UID:10002241-1703836800-1703869200@mountaincity.church
SUMMARY:Nerf War
DESCRIPTION:For more info contact Pastor Zach Williams at zwilliams@mountaincity.church
URL:https://mountaincity.church/events/nerf-war/
LOCATION:AK
END:VEVENT
BEGIN:VEVENT
DTSTART;TZID=America/Anchorage:20231227T184500
DTEND;TZID=America/Anchorage:20231227T201500
DTSTAMP:20260423T064731
CREATED:20230901T000554Z
LAST-MODIFIED:20230901T000554Z
UID:10002446-1703702700-1703708100@mountaincity.church
SUMMARY:AWANA
DESCRIPTION:For more information\, visit www.mountaincity.church/kids. \nTo register\, visit AWdb Web App (approvedworkman.com) !
URL:https://mountaincity.church/events/awana-2/2023-12-27/
LOCATION:AK
CATEGORIES:Kids
END:VEVENT
BEGIN:VEVENT
DTSTART;TZID=America/Anchorage:20231224T170000
DTEND;TZID=America/Anchorage:20231224T180000
DTSTAMP:20260423T064731
CREATED:20231212T010510Z
LAST-MODIFIED:20231212T010510Z
UID:10002221-1703437200-1703440800@mountaincity.church
SUMMARY:Christmas Eve Service
DESCRIPTION:
URL:https://mountaincity.church/events/christmas-eve-service/2023-12-24/2/
LOCATION:Mountain City Church Auditorium\, 6401 E Northern Lights Blvd\, Anchorage\, AK\, 99504\, United States
END:VEVENT
BEGIN:VEVENT
DTSTART;TZID=America/Anchorage:20231224T110000
DTEND;TZID=America/Anchorage:20231224T120000
DTSTAMP:20260423T064731
CREATED:20231212T010510Z
LAST-MODIFIED:20231212T010510Z
UID:10002220-1703415600-1703419200@mountaincity.church
SUMMARY:Christmas Eve Service
DESCRIPTION:
URL:https://mountaincity.church/events/christmas-eve-service/2023-12-24/1/
LOCATION:Mountain City Church Auditorium\, 6401 E Northern Lights Blvd\, Anchorage\, AK\, 99504\, United States
END:VEVENT
BEGIN:VEVENT
DTSTART;TZID=America/Anchorage:20231220T184500
DTEND;TZID=America/Anchorage:20231220T201500
DTSTAMP:20260423T064731
CREATED:20230901T000554Z
LAST-MODIFIED:20230901T000554Z
UID:10002445-1703097900-1703103300@mountaincity.church
SUMMARY:AWANA
DESCRIPTION:For more information\, visit www.mountaincity.church/kids. \nTo register\, visit AWdb Web App (approvedworkman.com) !
URL:https://mountaincity.church/events/awana-2/2023-12-20/
LOCATION:AK
CATEGORIES:Kids
END:VEVENT
BEGIN:VEVENT
DTSTART;TZID=America/Anchorage:20231217T170000
DTEND;TZID=America/Anchorage:20231217T210000
DTSTAMP:20260423T064731
CREATED:20231128T225244Z
LAST-MODIFIED:20231128T225409Z
UID:10002213-1702832400-1702846800@mountaincity.church
SUMMARY:Christmas Spectacular
DESCRIPTION:Free Event for the whole family. Each night from 5-9pm. For more information\, visit mountaincitychristmas.com
URL:https://mountaincity.church/events/christmas-spectacular/2023-12-17/
LOCATION:Mountain City Church Auditorium\, 6401 E Northern Lights Blvd\, Anchorage\, AK\, 99504\, United States
END:VEVENT
BEGIN:VEVENT
DTSTART;TZID=America/Anchorage:20231216T170000
DTEND;TZID=America/Anchorage:20231216T210000
DTSTAMP:20260423T064732
CREATED:20231128T225244Z
LAST-MODIFIED:20231128T225409Z
UID:10002212-1702746000-1702760400@mountaincity.church
SUMMARY:Christmas Spectacular
DESCRIPTION:Free Event for the whole family. Each night from 5-9pm. For more information\, visit mountaincitychristmas.com
URL:https://mountaincity.church/events/christmas-spectacular/2023-12-16/
LOCATION:Mountain City Church Auditorium\, 6401 E Northern Lights Blvd\, Anchorage\, AK\, 99504\, United States
END:VEVENT
BEGIN:VEVENT
DTSTART;TZID=America/Anchorage:20231215T170000
DTEND;TZID=America/Anchorage:20231215T210000
DTSTAMP:20260423T064732
CREATED:20231128T225244Z
LAST-MODIFIED:20231128T225409Z
UID:10002211-1702659600-1702674000@mountaincity.church
SUMMARY:Christmas Spectacular
DESCRIPTION:Free Event for the whole family. Each night from 5-9pm. For more information\, visit mountaincitychristmas.com
URL:https://mountaincity.church/events/christmas-spectacular/2023-12-15/
LOCATION:Mountain City Church Auditorium\, 6401 E Northern Lights Blvd\, Anchorage\, AK\, 99504\, United States
END:VEVENT
END:VCALENDAR