BEGIN:VCALENDAR
VERSION:2.0
PRODID:-//Mountain City Church - ECPv6.15.19//NONSGML v1.0//EN
CALSCALE:GREGORIAN
METHOD:PUBLISH
X-WR-CALNAME:Mountain City Church
X-ORIGINAL-URL:https://mountaincity.church
X-WR-CALDESC:Events for Mountain City Church
REFRESH-INTERVAL;VALUE=DURATION:PT1H
X-Robots-Tag:noindex
X-PUBLISHED-TTL:PT1H
BEGIN:VTIMEZONE
TZID:America/Anchorage
BEGIN:DAYLIGHT
TZOFFSETFROM:-0900
TZOFFSETTO:-0800
TZNAME:AKDT
DTSTART:20230312T110000
END:DAYLIGHT
BEGIN:STANDARD
TZOFFSETFROM:-0800
TZOFFSETTO:-0900
TZNAME:AKST
DTSTART:20231105T100000
END:STANDARD
BEGIN:DAYLIGHT
TZOFFSETFROM:-0900
TZOFFSETTO:-0800
TZNAME:AKDT
DTSTART:20240310T110000
END:DAYLIGHT
BEGIN:STANDARD
TZOFFSETFROM:-0800
TZOFFSETTO:-0900
TZNAME:AKST
DTSTART:20241103T100000
END:STANDARD
BEGIN:DAYLIGHT
TZOFFSETFROM:-0900
TZOFFSETTO:-0800
TZNAME:AKDT
DTSTART:20250309T110000
END:DAYLIGHT
BEGIN:STANDARD
TZOFFSETFROM:-0800
TZOFFSETTO:-0900
TZNAME:AKST
DTSTART:20251102T100000
END:STANDARD
END:VTIMEZONE
BEGIN:VEVENT
DTSTART;TZID=America/Anchorage:20240413T080000
DTEND;TZID=America/Anchorage:20240413T170000
DTSTAMP:20260422T164446
CREATED:20240402T233602Z
LAST-MODIFIED:20240402T233602Z
UID:10002448-1712995200-1713027600@mountaincity.church
SUMMARY:CPC"S Annual Spring Event
DESCRIPTION:Celebrating 40 years of CPC serving the Anchorage Community. For more information about this partner\, visit cpcanchorage.com
URL:https://mountaincity.church/events/cpcs-annual-spring-event/
END:VEVENT
BEGIN:VEVENT
DTSTART;TZID=America/Anchorage:20240412T080000
DTEND;TZID=America/Anchorage:20240412T170000
DTSTAMP:20260422T164446
CREATED:20231229T203708Z
LAST-MODIFIED:20240410T232141Z
UID:10002240-1712908800-1712941200@mountaincity.church
SUMMARY:Gathering Sports Night
DESCRIPTION:We are having a Gathering Sports Night at Mountain City Church. \nIf you have any questions\, please contact Josh Velez at jvelez@mountaincity.church  \nText @GATHTOGO to 81010 for more details.
URL:https://mountaincity.church/events/gathering-sports-night/
LOCATION:Dome\, 6501 Changepoint Dr.\, Anchorage\, 99518\, United States
END:VEVENT
BEGIN:VEVENT
DTSTART;VALUE=DATE:20240412
DTEND;VALUE=DATE:20240413
DTSTAMP:20260422T164446
CREATED:20240312T234521Z
LAST-MODIFIED:20240312T234521Z
UID:10002334-1712880000-1712966399@mountaincity.church
SUMMARY:Youth Game Night
DESCRIPTION:
URL:https://mountaincity.church/events/youth-game-night/
END:VEVENT
BEGIN:VEVENT
DTSTART;TZID=America/Anchorage:20240410T184500
DTEND;TZID=America/Anchorage:20240410T201500
DTSTAMP:20260422T164446
CREATED:20230901T000554Z
LAST-MODIFIED:20230901T000554Z
UID:10001776-1712774700-1712780100@mountaincity.church
SUMMARY:AWANA
DESCRIPTION:For more information\, visit www.mountaincity.church/kids. \nTo register\, visit AWdb Web App (approvedworkman.com) !
URL:https://mountaincity.church/events/awana-2/2024-04-10/
CATEGORIES:Kids
END:VEVENT
BEGIN:VEVENT
DTSTART;TZID=America/Anchorage:20240410T180000
DTEND;TZID=America/Anchorage:20240410T184500
DTSTAMP:20260422T164446
CREATED:20231128T225720Z
LAST-MODIFIED:20240514T225108Z
UID:10001476-1712772000-1712774700@mountaincity.church
SUMMARY:Wednesday Night Meal
DESCRIPTION:
URL:https://mountaincity.church/events/wednesday-night-meal-2-3/2024-04-10/
LOCATION:Cafeteria
CATEGORIES:Meal
END:VEVENT
BEGIN:VEVENT
DTSTART;TZID=America/Anchorage:20240407T110000
DTEND;TZID=America/Anchorage:20240407T123000
DTSTAMP:20260422T164446
CREATED:20240312T232451Z
LAST-MODIFIED:20240314T230735Z
UID:10002330-1712487600-1712493000@mountaincity.church
SUMMARY:Tell me the Story
DESCRIPTION:
URL:https://mountaincity.church/events/tell-me-the-story/2024-04-07/
LOCATION:Mountain City Church\, 6401 E Northern Lights Blvd\, Anchorage\, AK\, 99504\, United States
END:VEVENT
BEGIN:VEVENT
DTSTART;TZID=America/Anchorage:20240406T080000
DTEND;TZID=America/Anchorage:20240406T170000
DTSTAMP:20260422T164446
CREATED:20240402T233330Z
LAST-MODIFIED:20240402T233330Z
UID:10002447-1712390400-1712422800@mountaincity.church
SUMMARY:Fashion For Life
DESCRIPTION:Join us in supporting YoungLives Alaska and their essential work with young families across the state. This exclusive night of style\, featuring Alaskan Boutiques and designers\, is not to be missed! Tickets are on sale now\, and we’re also looking for event sponsors and volunteers to make this evening unforgettable. Step into fashion with purpose-grab your tickets\, mark your calendar\, and get involved! For more information about this partner\, email younglives@gmail.com
URL:https://mountaincity.church/events/fashion-for-life/
END:VEVENT
BEGIN:VEVENT
DTSTART;TZID=America/Anchorage:20240403T184500
DTEND;TZID=America/Anchorage:20240403T201500
DTSTAMP:20260422T164446
CREATED:20230901T000554Z
LAST-MODIFIED:20230901T000554Z
UID:10001775-1712169900-1712175300@mountaincity.church
SUMMARY:AWANA
DESCRIPTION:For more information\, visit www.mountaincity.church/kids. \nTo register\, visit AWdb Web App (approvedworkman.com) !
URL:https://mountaincity.church/events/awana-2/2024-04-03/
CATEGORIES:Kids
END:VEVENT
BEGIN:VEVENT
DTSTART;TZID=America/Anchorage:20240403T180000
DTEND;TZID=America/Anchorage:20240403T184500
DTSTAMP:20260422T164446
CREATED:20231128T225720Z
LAST-MODIFIED:20240514T225108Z
UID:10001475-1712167200-1712169900@mountaincity.church
SUMMARY:Wednesday Night Meal
DESCRIPTION:
URL:https://mountaincity.church/events/wednesday-night-meal-2-3/2024-04-03/
LOCATION:Cafeteria
CATEGORIES:Meal
END:VEVENT
BEGIN:VEVENT
DTSTART;TZID=America/Anchorage:20240402T080000
DTEND;TZID=America/Anchorage:20240402T170000
DTSTAMP:20260422T164446
CREATED:20240402T225845Z
LAST-MODIFIED:20240402T225846Z
UID:10002442-1712044800-1712077200@mountaincity.church
SUMMARY:Awana Award Ceremony
DESCRIPTION:On May 8th we’ll be recognizing our Awana students who have completed books and memorized God’s Word \nall Year! Stay after the awards as we continue our Wednesday Night Marriage Series!
URL:https://mountaincity.church/events/awana-2-3/2024-04-02/
CATEGORIES:Kids
END:VEVENT
BEGIN:VEVENT
DTSTART;TZID=America/Anchorage:20240331T110000
DTEND;TZID=America/Anchorage:20240331T120000
DTSTAMP:20260422T164446
CREATED:20240312T231400Z
LAST-MODIFIED:20240312T231400Z
UID:10002329-1711882800-1711886400@mountaincity.church
SUMMARY:11AM Easter Service
DESCRIPTION:At 11am\, programming for kids and youth will be provided. First through 5th grade students will be doing an egg drop\, and in the auditorium we’ll be making a big deal about Jesus ruling\, reigning\, and coming back for us one day!
URL:https://mountaincity.church/events/11am-easter-service/
LOCATION:Mountain City Church\, 6401 E Northern Lights Blvd\, Anchorage\, AK\, 99504\, United States
END:VEVENT
BEGIN:VEVENT
DTSTART;TZID=America/Anchorage:20240331T090000
DTEND;TZID=America/Anchorage:20240331T100000
DTSTAMP:20260422T164446
CREATED:20240312T231137Z
LAST-MODIFIED:20240312T231137Z
UID:10002328-1711875600-1711879200@mountaincity.church
SUMMARY:9AM Family Easter Service
DESCRIPTION:We’d like to encourage you to attend with your family at 9am. During this time\, families will get to worship together\, and kids will be getting their own activity kit to help them engage with the sermon.
URL:https://mountaincity.church/events/9am-family-easter-service/
LOCATION:Mountain City Church\, 6401 E Northern Lights Blvd\, Anchorage\, AK\, 99504\, United States
END:VEVENT
BEGIN:VEVENT
DTSTART;TZID=America/Anchorage:20240330T180000
DTEND;TZID=America/Anchorage:20240330T200000
DTSTAMP:20260422T164446
CREATED:20240312T230446Z
LAST-MODIFIED:20240312T230446Z
UID:10002327-1711821600-1711828800@mountaincity.church
SUMMARY:Prayer Night
DESCRIPTION:We will be hosting prayer night here at Mountain City Church at 6pm. Hope to see you all there!
URL:https://mountaincity.church/events/prayer-night/
LOCATION:Mountain City Church\, 6401 E Northern Lights Blvd\, Anchorage\, AK\, 99504\, United States
END:VEVENT
BEGIN:VEVENT
DTSTART;TZID=America/Anchorage:20240329T180000
DTEND;TZID=America/Anchorage:20240329T213000
DTSTAMP:20260422T164446
CREATED:20240312T230105Z
LAST-MODIFIED:20240312T230121Z
UID:10002326-1711735200-1711747800@mountaincity.church
SUMMARY:Good Friday Meal/Service
DESCRIPTION:Join us for our Good Friday Meal and Service to follow! We look forward to seeing you all there and can’t wait to see what God does!
URL:https://mountaincity.church/events/good-friday-meal-service/
LOCATION:Mountain City Church\, 6401 E Northern Lights Blvd\, Anchorage\, AK\, 99504\, United States
END:VEVENT
BEGIN:VEVENT
DTSTART;TZID=America/Anchorage:20240327T184500
DTEND;TZID=America/Anchorage:20240327T201500
DTSTAMP:20260422T164446
CREATED:20230901T000554Z
LAST-MODIFIED:20230901T000554Z
UID:10001774-1711565100-1711570500@mountaincity.church
SUMMARY:AWANA
DESCRIPTION:For more information\, visit www.mountaincity.church/kids. \nTo register\, visit AWdb Web App (approvedworkman.com) !
URL:https://mountaincity.church/events/awana-2/2024-03-27/
CATEGORIES:Kids
END:VEVENT
BEGIN:VEVENT
DTSTART;TZID=America/Anchorage:20240327T180000
DTEND;TZID=America/Anchorage:20240327T184500
DTSTAMP:20260422T164446
CREATED:20231128T225720Z
LAST-MODIFIED:20240514T225108Z
UID:10001474-1711562400-1711565100@mountaincity.church
SUMMARY:Wednesday Night Meal
DESCRIPTION:
URL:https://mountaincity.church/events/wednesday-night-meal-2-3/2024-03-27/
LOCATION:Cafeteria
CATEGORIES:Meal
END:VEVENT
BEGIN:VEVENT
DTSTART;TZID=America/Anchorage:20240327T080000
DTEND;TZID=America/Anchorage:20240327T170000
DTSTAMP:20260422T164446
CREATED:20240312T225142Z
LAST-MODIFIED:20240312T225142Z
UID:10002325-1711526400-1711558800@mountaincity.church
SUMMARY:No Church
DESCRIPTION:There will be no meal\, Awana\, or church due to Easter Activity this weekend!
URL:https://mountaincity.church/events/no-church/
END:VEVENT
BEGIN:VEVENT
DTSTART;TZID=America/Anchorage:20240324T150000
DTEND;TZID=America/Anchorage:20240324T170000
DTSTAMP:20260422T164446
CREATED:20231229T010417Z
LAST-MODIFIED:20231229T010417Z
UID:10002239-1711292400-1711299600@mountaincity.church
SUMMARY:Gathering Ice Skating
DESCRIPTION:Join us for Ice Skating and Hot Cocoa at 3pm! \nFor more info contact Josh Velez @ jvelez@mountaincity.church
URL:https://mountaincity.church/events/gathering-ice-skating/
END:VEVENT
BEGIN:VEVENT
DTSTART;VALUE=DATE:20240322
DTEND;VALUE=DATE:20240325
DTSTAMP:20260422T164446
CREATED:20231229T003830Z
LAST-MODIFIED:20231229T003830Z
UID:10002237-1711065600-1711324799@mountaincity.church
SUMMARY:Weekend To Remember
DESCRIPTION:The Weekend To Remember is here again! The Location will be Anchorage Marriott downtown\, website link is coming soon.
URL:https://mountaincity.church/events/weekend-to-remember/
END:VEVENT
BEGIN:VEVENT
DTSTART;TZID=America/Anchorage:20240320T184500
DTEND;TZID=America/Anchorage:20240320T201500
DTSTAMP:20260422T164446
CREATED:20230901T000554Z
LAST-MODIFIED:20230901T000554Z
UID:10001773-1710960300-1710965700@mountaincity.church
SUMMARY:AWANA
DESCRIPTION:For more information\, visit www.mountaincity.church/kids. \nTo register\, visit AWdb Web App (approvedworkman.com) !
URL:https://mountaincity.church/events/awana-2/2024-03-20/
CATEGORIES:Kids
END:VEVENT
BEGIN:VEVENT
DTSTART;TZID=America/Anchorage:20240320T180000
DTEND;TZID=America/Anchorage:20240320T184500
DTSTAMP:20260422T164446
CREATED:20231128T225720Z
LAST-MODIFIED:20240514T225108Z
UID:10001473-1710957600-1710960300@mountaincity.church
SUMMARY:Wednesday Night Meal
DESCRIPTION:
URL:https://mountaincity.church/events/wednesday-night-meal-2-3/2024-03-20/
LOCATION:Cafeteria
CATEGORIES:Meal
END:VEVENT
BEGIN:VEVENT
DTSTART;TZID=America/Anchorage:20240315T190000
DTEND;TZID=America/Anchorage:20240315T203000
DTSTAMP:20260422T164446
CREATED:20240221T195643Z
LAST-MODIFIED:20240312T224024Z
UID:10002321-1710529200-1710534600@mountaincity.church
SUMMARY:Pajama Movie Party!!
DESCRIPTION:Join us for a Pajama Movie Party in the Student Union! Can’t wait to see you all there! Also\, wear your fav pair of pajamas!! There will be signs up guiding you to where the event will take place. \nFor more information\, please contact Pastor Zach @ zwilliams@mountaincity.church
URL:https://mountaincity.church/events/pajama-movie-party-3/
LOCATION:Mountain City Church\, 6401 E Northern Lights Blvd\, Anchorage\, AK\, 99504\, United States
CATEGORIES:Kids
END:VEVENT
BEGIN:VEVENT
DTSTART;TZID=America/Anchorage:20240313T184500
DTEND;TZID=America/Anchorage:20240313T201500
DTSTAMP:20260422T164446
CREATED:20230901T000554Z
LAST-MODIFIED:20230901T000554Z
UID:10001772-1710355500-1710360900@mountaincity.church
SUMMARY:AWANA
DESCRIPTION:For more information\, visit www.mountaincity.church/kids. \nTo register\, visit AWdb Web App (approvedworkman.com) !
URL:https://mountaincity.church/events/awana-2/2024-03-13/
CATEGORIES:Kids
END:VEVENT
BEGIN:VEVENT
DTSTART;TZID=America/Anchorage:20240313T180000
DTEND;TZID=America/Anchorage:20240313T184500
DTSTAMP:20260422T164446
CREATED:20231128T225720Z
LAST-MODIFIED:20240514T225108Z
UID:10001472-1710352800-1710355500@mountaincity.church
SUMMARY:Wednesday Night Meal
DESCRIPTION:
URL:https://mountaincity.church/events/wednesday-night-meal-2-3/2024-03-13/
LOCATION:Cafeteria
CATEGORIES:Meal
END:VEVENT
BEGIN:VEVENT
DTSTART;TZID=America/Anchorage:20240309T180000
DTEND;TZID=America/Anchorage:20240309T200000
DTSTAMP:20260422T164446
CREATED:20231229T001514Z
LAST-MODIFIED:20231229T001555Z
UID:10002235-1710007200-1710014400@mountaincity.church
SUMMARY:Gathering Room Escape Room
DESCRIPTION:The Gathering will be doing the Escape Room at 6pm. This is going to be a blast and we can’t wait to see everyone there! \nFor more information contact Josh Velez @ jvelez@mountaincity.church
URL:https://mountaincity.church/events/gathering-room-escape-room/
END:VEVENT
BEGIN:VEVENT
DTSTART;TZID=America/Anchorage:20240306T184500
DTEND;TZID=America/Anchorage:20240306T201500
DTSTAMP:20260422T164446
CREATED:20230901T000554Z
LAST-MODIFIED:20230901T000554Z
UID:10001771-1709750700-1709756100@mountaincity.church
SUMMARY:AWANA
DESCRIPTION:For more information\, visit www.mountaincity.church/kids. \nTo register\, visit AWdb Web App (approvedworkman.com) !
URL:https://mountaincity.church/events/awana-2/2024-03-06/
CATEGORIES:Kids
END:VEVENT
BEGIN:VEVENT
DTSTART;TZID=America/Anchorage:20240306T180000
DTEND;TZID=America/Anchorage:20240306T184500
DTSTAMP:20260422T164446
CREATED:20231128T225720Z
LAST-MODIFIED:20240514T225108Z
UID:10001471-1709748000-1709750700@mountaincity.church
SUMMARY:Wednesday Night Meal
DESCRIPTION:
URL:https://mountaincity.church/events/wednesday-night-meal-2-3/2024-03-06/
LOCATION:Cafeteria
CATEGORIES:Meal
END:VEVENT
BEGIN:VEVENT
DTSTART;VALUE=DATE:20240301
DTEND;VALUE=DATE:20240304
DTSTAMP:20260422T164446
CREATED:20231229T004649Z
LAST-MODIFIED:20231229T004649Z
UID:10002238-1709251200-1709510399@mountaincity.church
SUMMARY:Youth Winter Retreat
DESCRIPTION:We are having our Youth Winter Retreat at Little Beaver Camp! This will be such a fun time for the kids! \nCost is $175 \nFor more information contact either Anthony Purpero@ apurpero@mountaincity.church or Jake Sitkowski @ jsitkowski@mountaincity.church
URL:https://mountaincity.church/events/youth-winter-retreat/
END:VEVENT
BEGIN:VEVENT
DTSTART;TZID=America/Anchorage:20240228T184500
DTEND;TZID=America/Anchorage:20240228T201500
DTSTAMP:20260422T164446
CREATED:20230901T000554Z
LAST-MODIFIED:20230901T000554Z
UID:10001770-1709145900-1709151300@mountaincity.church
SUMMARY:AWANA
DESCRIPTION:For more information\, visit www.mountaincity.church/kids. \nTo register\, visit AWdb Web App (approvedworkman.com) !
URL:https://mountaincity.church/events/awana-2/2024-02-28/
CATEGORIES:Kids
END:VEVENT
BEGIN:VEVENT
DTSTART;TZID=America/Anchorage:20240228T180000
DTEND;TZID=America/Anchorage:20240228T184500
DTSTAMP:20260422T164446
CREATED:20231128T225720Z
LAST-MODIFIED:20240514T225108Z
UID:10001470-1709143200-1709145900@mountaincity.church
SUMMARY:Wednesday Night Meal
DESCRIPTION:
URL:https://mountaincity.church/events/wednesday-night-meal-2-3/2024-02-28/
LOCATION:Cafeteria
CATEGORIES:Meal
END:VEVENT
END:VCALENDAR