BEGIN:VCALENDAR
VERSION:2.0
PRODID:-//Mountain City Church - ECPv6.15.19//NONSGML v1.0//EN
CALSCALE:GREGORIAN
METHOD:PUBLISH
X-WR-CALNAME:Mountain City Church
X-ORIGINAL-URL:https://mountaincity.church
X-WR-CALDESC:Events for Mountain City Church
REFRESH-INTERVAL;VALUE=DURATION:PT1H
X-Robots-Tag:noindex
X-PUBLISHED-TTL:PT1H
BEGIN:VTIMEZONE
TZID:America/Anchorage
BEGIN:DAYLIGHT
TZOFFSETFROM:-0900
TZOFFSETTO:-0800
TZNAME:AKDT
DTSTART:20250309T110000
END:DAYLIGHT
BEGIN:STANDARD
TZOFFSETFROM:-0800
TZOFFSETTO:-0900
TZNAME:AKST
DTSTART:20251102T100000
END:STANDARD
BEGIN:DAYLIGHT
TZOFFSETFROM:-0900
TZOFFSETTO:-0800
TZNAME:AKDT
DTSTART:20260308T110000
END:DAYLIGHT
BEGIN:STANDARD
TZOFFSETFROM:-0800
TZOFFSETTO:-0900
TZNAME:AKST
DTSTART:20261101T100000
END:STANDARD
BEGIN:DAYLIGHT
TZOFFSETFROM:-0900
TZOFFSETTO:-0800
TZNAME:AKDT
DTSTART:20270314T110000
END:DAYLIGHT
BEGIN:STANDARD
TZOFFSETFROM:-0800
TZOFFSETTO:-0900
TZNAME:AKST
DTSTART:20271107T100000
END:STANDARD
END:VTIMEZONE
BEGIN:VEVENT
DTSTART;TZID=America/Anchorage:20260414T100000
DTEND;TZID=America/Anchorage:20260414T120000
DTSTAMP:20260420T210939
CREATED:20260225T220356Z
LAST-MODIFIED:20260225T220357Z
UID:10003549-1776160800-1776168000@mountaincity.church
SUMMARY:Tiny Kid Playdate
DESCRIPTION:If you have a tiny kid (infant to 4 yr old)\, we’d like to invite you to join us for a playdate from 10:30-noon in the Auditorium Lobby at Mountain City Church. For more information\, email Briana Harris at bharris@mountaincity.church.
URL:https://mountaincity.church/events/tiny-kid-playdate-8-2/2026-04-14/
LOCATION:Auditorium Lobby
CATEGORIES:Tiny Kids,Women
END:VEVENT
BEGIN:VEVENT
DTSTART;TZID=America/Anchorage:20260412T170000
DTEND;TZID=America/Anchorage:20260412T183000
DTSTAMP:20260420T210939
CREATED:20250907T021603Z
LAST-MODIFIED:20260320T061004Z
UID:10003274-1776013200-1776018600@mountaincity.church
SUMMARY:AWANA - Trek
DESCRIPTION:Trek is designed to help 6-8th graders own their faith by exploring big life questions and studying the Bible. The program uses a three-year curriculum focused on the questions “Who am I?”\, “Why am I here?”\, and “Who’s with me?” to guide students in their faith journey.  \nTrek meets on Sunday nights at 5pm. \nCost: $50 per student; includes book and uniform. Register at https://rock.mountaincity.church/page/826?EventOccurrenceId=38 \n 
URL:https://mountaincity.church/events/awana-trek/2026-04-12/
CATEGORIES:Youth
END:VEVENT
BEGIN:VEVENT
DTSTART;TZID=America/Anchorage:20260410T183000
DTEND;TZID=America/Anchorage:20260410T210000
DTSTAMP:20260420T210939
CREATED:20251224T055102Z
LAST-MODIFIED:20251224T055137Z
UID:10003561-1775845800-1775854800@mountaincity.church
SUMMARY:CPC Gala
DESCRIPTION:Come join the community as we raise funds to support the ministry of the Community Pregnancy Center. For more information\, email CPC at info@cpcanchorage.com.
URL:https://mountaincity.church/events/cpc-gala/
LOCATION:ChangePoint Church
END:VEVENT
BEGIN:VEVENT
DTSTART;TZID=America/Anchorage:20260408T184500
DTEND;TZID=America/Anchorage:20260408T201500
DTSTAMP:20260420T210939
CREATED:20251226T165120Z
LAST-MODIFIED:20251226T165120Z
UID:10003617-1775673900-1775679300@mountaincity.church
SUMMARY:Awana
DESCRIPTION:Awana is a global ministry that focuses on learning God’s Word in a fun atmosphere. Each week\, Awana provides consistent\, positive teaching and training that stresses strong moral and spiritual values. Focusing on child discipleship\, our students learn about the reality of God and the truths of the Bible and to know\, love and serve Christ. \nPuggles (2yo-3 y0)\, Cubbies (3yo -5yo)\, Sparks (Kindergarten – 2nd) \, and T&T (3rd-5th) meet on Wednesday nights. Trek (6th-8th) meet on Sunday nights at 5pm. \nCost: $50 per clubber; includes uniform and book. Register at https://rock.mountaincity.church/page/826?EventOccurrenceId=38
URL:https://mountaincity.church/events/awana-5/2026-04-08/
CATEGORIES:Kids
END:VEVENT
BEGIN:VEVENT
DTSTART;TZID=America/Anchorage:20260408T180000
DTEND;TZID=America/Anchorage:20260408T184500
DTSTAMP:20260420T210939
CREATED:20251226T164757Z
LAST-MODIFIED:20260330T182843Z
UID:10003586-1775671200-1775673900@mountaincity.church
SUMMARY:Wednesday Night Meal
DESCRIPTION:6 – 6:45pm | Cost – Adults: $10\, Kids: $6 \nOur Wednesday night fellowship dinners follow our Awana program scheduling.
URL:https://mountaincity.church/events/wednesday-night-meal-6/2026-04-08/
LOCATION:Cafeteria
CATEGORIES:Meal
END:VEVENT
BEGIN:VEVENT
DTSTART;TZID=America/Anchorage:20260405T090000
DTEND;TZID=America/Anchorage:20260405T101500
DTSTAMP:20260420T210939
CREATED:20260320T061738Z
LAST-MODIFIED:20260320T061925Z
UID:10003631-1775379600-1775384100@mountaincity.church
SUMMARY:Easter Sunday
DESCRIPTION:Join us at one of Easter Sunday services: 9am & 11:30am. \nFor more information\, visit www.mountaincity.church/easter
URL:https://mountaincity.church/events/easter-sunday-3/
LOCATION:Mountain City Church\, 6401 E Northern Lights Blvd\, Anchorage\, AK\, 99504\, United States
END:VEVENT
BEGIN:VEVENT
DTSTART;TZID=America/Anchorage:20260330T183000
DTEND;TZID=America/Anchorage:20260330T203000
DTSTAMP:20260420T210939
CREATED:20260320T062636Z
LAST-MODIFIED:20260320T062636Z
UID:10003632-1774895400-1774902600@mountaincity.church
SUMMARY:Chick Chat
DESCRIPTION:Calling women of all ages! Chick Chat is THE point of connection for women of Mountain City Church. Enjoy food\, fellowship\, a message\, connecting with others\, and learning about opportunities to plug in at Mountain City. For more information\, email Betty Stooksbury at bettyacwm@gmail.com \nRegister HERE
URL:https://mountaincity.church/events/chick-chat-4/
LOCATION:Mountain City Student Union
END:VEVENT
BEGIN:VEVENT
DTSTART;TZID=America/Anchorage:20260329T170000
DTEND;TZID=America/Anchorage:20260329T183000
DTSTAMP:20260420T210939
CREATED:20250907T021603Z
LAST-MODIFIED:20260320T061004Z
UID:10003272-1774803600-1774809000@mountaincity.church
SUMMARY:AWANA - Trek
DESCRIPTION:Trek is designed to help 6-8th graders own their faith by exploring big life questions and studying the Bible. The program uses a three-year curriculum focused on the questions “Who am I?”\, “Why am I here?”\, and “Who’s with me?” to guide students in their faith journey.  \nTrek meets on Sunday nights at 5pm. \nCost: $50 per student; includes book and uniform. Register at https://rock.mountaincity.church/page/826?EventOccurrenceId=38 \n 
URL:https://mountaincity.church/events/awana-trek/2026-03-29/
CATEGORIES:Youth
END:VEVENT
BEGIN:VEVENT
DTSTART;TZID=America/Anchorage:20260329T103000
DTEND;TZID=America/Anchorage:20260329T113000
DTSTAMP:20260420T210939
CREATED:20251223T204815Z
LAST-MODIFIED:20251223T204815Z
UID:10003512-1774780200-1774783800@mountaincity.church
SUMMARY:Baptism 101
DESCRIPTION:Baptism is a public celebration of your decision to follow Jesus. That’s a BIG DEAL! In the Bible\, Jesus tells anyone who follows Him to get baptized. Because of that\, here at Mountain City Church\, we encourage everyone who has decided to follow Jesus to get baptized. Take our Baptism 101 class to learn more about what it means to be baptized. For more details or to register\, go to mountaincity.church/baptism.
URL:https://mountaincity.church/events/baptism-101/2026-03-29/
LOCATION:Mountain City Church Room 111\, 6401 E Northern lights BLVD\, Anchorage\, AK\, 99504\, United States
CATEGORIES:Kids,Men,Seniors,Women,Young Adults,Youth
END:VEVENT
BEGIN:VEVENT
DTSTART;TZID=America/Anchorage:20260325T184500
DTEND;TZID=America/Anchorage:20260325T201500
DTSTAMP:20260420T210939
CREATED:20251226T173531Z
LAST-MODIFIED:20251226T183510Z
UID:10003616-1774464300-1774469700@mountaincity.church
SUMMARY:Awana - Talent Show
DESCRIPTION:Awana is a global ministry that focuses on learning God’s Word in a fun atmosphere. Each week\, Awana provides consistent\, positive teaching and training that stresses strong moral and spiritual values. Focusing on child discipleship\, our students learn about the reality of God and the truths of the Bible and to know\, love and serve Christ. \nPuggles (2yo-3 y0)\, Cubbies (3yo -5yo)\, Sparks (Kindergarten – 2nd) \, and T&T (3rd-5th) meet on Wednesday nights. Trek (6th-8th) meet on Sunday nights at 5pm. \nCost: $50 per clubber; includes uniform and book. Register at https://rock.mountaincity.church/page/826?EventOccurrenceId=38
URL:https://mountaincity.church/events/awana-5-4/
CATEGORIES:Kids
END:VEVENT
BEGIN:VEVENT
DTSTART;TZID=America/Anchorage:20260325T180000
DTEND;TZID=America/Anchorage:20260325T184500
DTSTAMP:20260420T210939
CREATED:20251226T164757Z
LAST-MODIFIED:20260330T182843Z
UID:10003585-1774461600-1774464300@mountaincity.church
SUMMARY:Wednesday Night Meal
DESCRIPTION:6 – 6:45pm | Cost – Adults: $10\, Kids: $6 \nOur Wednesday night fellowship dinners follow our Awana program scheduling.
URL:https://mountaincity.church/events/wednesday-night-meal-6/2026-03-25/
LOCATION:Cafeteria
CATEGORIES:Meal
END:VEVENT
BEGIN:VEVENT
DTSTART;TZID=America/Anchorage:20260322T170000
DTEND;TZID=America/Anchorage:20260322T183000
DTSTAMP:20260420T210939
CREATED:20250907T021603Z
LAST-MODIFIED:20260320T061004Z
UID:10003271-1774198800-1774204200@mountaincity.church
SUMMARY:AWANA - Trek
DESCRIPTION:Trek is designed to help 6-8th graders own their faith by exploring big life questions and studying the Bible. The program uses a three-year curriculum focused on the questions “Who am I?”\, “Why am I here?”\, and “Who’s with me?” to guide students in their faith journey.  \nTrek meets on Sunday nights at 5pm. \nCost: $50 per student; includes book and uniform. Register at https://rock.mountaincity.church/page/826?EventOccurrenceId=38 \n 
URL:https://mountaincity.church/events/awana-trek/2026-03-22/
CATEGORIES:Youth
END:VEVENT
BEGIN:VEVENT
DTSTART;TZID=America/Anchorage:20260322T090000
DTEND;TZID=America/Anchorage:20260322T100000
DTSTAMP:20260420T210939
CREATED:20251223T204001Z
LAST-MODIFIED:20251223T204117Z
UID:10003457-1774170000-1774173600@mountaincity.church
SUMMARY:Front Door
DESCRIPTION:The Front Door is a 3-week experience with the opportunity to learn more about Mountain City Church. Learn about your God-given purpose and spiritual gifts. Take your next step to become a member of Mountain City Church. Jump right in and make an eternal impact in our church and community by serving at Mountain City Church.
URL:https://mountaincity.church/events/front-door-2/2026-03-22/
LOCATION:Mountain City Church Room 111\, 6401 E Northern lights BLVD\, Anchorage\, AK\, 99504\, United States
CATEGORIES:Men,Seniors,Women,Young Adults
END:VEVENT
BEGIN:VEVENT
DTSTART;TZID=America/Anchorage:20260318T184500
DTEND;TZID=America/Anchorage:20260318T201500
DTSTAMP:20260420T210939
CREATED:20251226T165120Z
LAST-MODIFIED:20251226T165120Z
UID:10003615-1773859500-1773864900@mountaincity.church
SUMMARY:Awana
DESCRIPTION:Awana is a global ministry that focuses on learning God’s Word in a fun atmosphere. Each week\, Awana provides consistent\, positive teaching and training that stresses strong moral and spiritual values. Focusing on child discipleship\, our students learn about the reality of God and the truths of the Bible and to know\, love and serve Christ. \nPuggles (2yo-3 y0)\, Cubbies (3yo -5yo)\, Sparks (Kindergarten – 2nd) \, and T&T (3rd-5th) meet on Wednesday nights. Trek (6th-8th) meet on Sunday nights at 5pm. \nCost: $50 per clubber; includes uniform and book. Register at https://rock.mountaincity.church/page/826?EventOccurrenceId=38
URL:https://mountaincity.church/events/awana-5/2026-03-18/
CATEGORIES:Kids
END:VEVENT
BEGIN:VEVENT
DTSTART;TZID=America/Anchorage:20260318T180000
DTEND;TZID=America/Anchorage:20260318T184500
DTSTAMP:20260420T210939
CREATED:20251226T164757Z
LAST-MODIFIED:20260330T182843Z
UID:10003584-1773856800-1773859500@mountaincity.church
SUMMARY:Wednesday Night Meal
DESCRIPTION:6 – 6:45pm | Cost – Adults: $10\, Kids: $6 \nOur Wednesday night fellowship dinners follow our Awana program scheduling.
URL:https://mountaincity.church/events/wednesday-night-meal-6/2026-03-18/
LOCATION:Cafeteria
CATEGORIES:Meal
END:VEVENT
BEGIN:VEVENT
DTSTART;TZID=America/Anchorage:20260317T103000
DTEND;TZID=America/Anchorage:20260317T120000
DTSTAMP:20260420T210939
CREATED:20260225T220356Z
LAST-MODIFIED:20260225T220357Z
UID:10003628-1773743400-1773748800@mountaincity.church
SUMMARY:Tiny Kid Playdate
DESCRIPTION:If you have a tiny kid (infant to 4 yr old)\, we’d like to invite you to join us for a playdate from 10:30-noon in the Auditorium Lobby at Mountain City Church. For more information\, email Briana Harris at bharris@mountaincity.church.
URL:https://mountaincity.church/events/tiny-kid-playdate-8-2/2026-03-17/
LOCATION:Auditorium Lobby
CATEGORIES:Tiny Kids,Women
END:VEVENT
BEGIN:VEVENT
DTSTART;TZID=America/Anchorage:20260315T170000
DTEND;TZID=America/Anchorage:20260315T183000
DTSTAMP:20260420T210939
CREATED:20250907T021603Z
LAST-MODIFIED:20260320T061004Z
UID:10003270-1773594000-1773599400@mountaincity.church
SUMMARY:AWANA - Trek
DESCRIPTION:Trek is designed to help 6-8th graders own their faith by exploring big life questions and studying the Bible. The program uses a three-year curriculum focused on the questions “Who am I?”\, “Why am I here?”\, and “Who’s with me?” to guide students in their faith journey.  \nTrek meets on Sunday nights at 5pm. \nCost: $50 per student; includes book and uniform. Register at https://rock.mountaincity.church/page/826?EventOccurrenceId=38 \n 
URL:https://mountaincity.church/events/awana-trek/2026-03-15/
CATEGORIES:Youth
END:VEVENT
BEGIN:VEVENT
DTSTART;TZID=America/Anchorage:20260315T090000
DTEND;TZID=America/Anchorage:20260315T100000
DTSTAMP:20260420T210939
CREATED:20251223T204001Z
LAST-MODIFIED:20251223T204117Z
UID:10003456-1773565200-1773568800@mountaincity.church
SUMMARY:Front Door
DESCRIPTION:The Front Door is a 3-week experience with the opportunity to learn more about Mountain City Church. Learn about your God-given purpose and spiritual gifts. Take your next step to become a member of Mountain City Church. Jump right in and make an eternal impact in our church and community by serving at Mountain City Church.
URL:https://mountaincity.church/events/front-door-2/2026-03-15/
LOCATION:Mountain City Church Room 111\, 6401 E Northern lights BLVD\, Anchorage\, AK\, 99504\, United States
CATEGORIES:Men,Seniors,Women,Young Adults
END:VEVENT
BEGIN:VEVENT
DTSTART;TZID=America/Anchorage:20260314T190000
DTEND;TZID=America/Anchorage:20260314T210000
DTSTAMP:20260420T210939
CREATED:20251224T054912Z
LAST-MODIFIED:20251224T054912Z
UID:10003560-1773514800-1773522000@mountaincity.church
SUMMARY:Gathering Girls Night
DESCRIPTION:For the ladies – come hang out at the Purpero house for a relaxed and fun night together. For more information\, email Anthony Purpero at apurpero@mountaincity.church 
URL:https://mountaincity.church/events/gathering-girls-night/
CATEGORIES:Young Adults
END:VEVENT
BEGIN:VEVENT
DTSTART;TZID=America/Anchorage:20260314T190000
DTEND;TZID=America/Anchorage:20260314T210000
DTSTAMP:20260420T210939
CREATED:20251224T054755Z
LAST-MODIFIED:20251224T054755Z
UID:10003559-1773514800-1773522000@mountaincity.church
SUMMARY:Gathering Guys Night
DESCRIPTION:GUYS ONLY! Meet at the student union to play games and have fun with the boys. For more information\, email Anthony Purpero at apurpero@mountaincity.church
URL:https://mountaincity.church/events/gathering-guys-night-3/
LOCATION:Mountain City Student Union
END:VEVENT
BEGIN:VEVENT
DTSTART;TZID=America/Anchorage:20260314T103000
DTEND;TZID=America/Anchorage:20260314T133000
DTSTAMP:20260420T210939
CREATED:20251224T054656Z
LAST-MODIFIED:20251224T054656Z
UID:10003558-1773484200-1773495000@mountaincity.church
SUMMARY:YTH Dare 2 Share
DESCRIPTION:Dare 2 Share LIVE is an evangelism training event that inspires and equips students to share their faith. This is a free event for students 6 -12th grade. It will be held on Saturday\, at 10:30am and lunch is included. For more information\, email Joseph Ewing at jewing@mountaincity.church.
URL:https://mountaincity.church/events/yth-dare-2-share/
CATEGORIES:Youth
END:VEVENT
BEGIN:VEVENT
DTSTART;TZID=America/Anchorage:20260311T184500
DTEND;TZID=America/Anchorage:20260311T201500
DTSTAMP:20260420T210939
CREATED:20251226T165120Z
LAST-MODIFIED:20251226T165120Z
UID:10003614-1773254700-1773260100@mountaincity.church
SUMMARY:Awana
DESCRIPTION:Awana is a global ministry that focuses on learning God’s Word in a fun atmosphere. Each week\, Awana provides consistent\, positive teaching and training that stresses strong moral and spiritual values. Focusing on child discipleship\, our students learn about the reality of God and the truths of the Bible and to know\, love and serve Christ. \nPuggles (2yo-3 y0)\, Cubbies (3yo -5yo)\, Sparks (Kindergarten – 2nd) \, and T&T (3rd-5th) meet on Wednesday nights. Trek (6th-8th) meet on Sunday nights at 5pm. \nCost: $50 per clubber; includes uniform and book. Register at https://rock.mountaincity.church/page/826?EventOccurrenceId=38
URL:https://mountaincity.church/events/awana-5/2026-03-11/
CATEGORIES:Kids
END:VEVENT
BEGIN:VEVENT
DTSTART;TZID=America/Anchorage:20260311T180000
DTEND;TZID=America/Anchorage:20260311T184500
DTSTAMP:20260420T210939
CREATED:20251226T164757Z
LAST-MODIFIED:20260330T182843Z
UID:10003583-1773252000-1773254700@mountaincity.church
SUMMARY:Wednesday Night Meal
DESCRIPTION:6 – 6:45pm | Cost – Adults: $10\, Kids: $6 \nOur Wednesday night fellowship dinners follow our Awana program scheduling.
URL:https://mountaincity.church/events/wednesday-night-meal-6/2026-03-11/
LOCATION:Cafeteria
CATEGORIES:Meal
END:VEVENT
BEGIN:VEVENT
DTSTART;TZID=America/Anchorage:20260308T170000
DTEND;TZID=America/Anchorage:20260308T183000
DTSTAMP:20260420T210939
CREATED:20250907T021603Z
LAST-MODIFIED:20260320T061004Z
UID:10003269-1772989200-1772994600@mountaincity.church
SUMMARY:AWANA - Trek
DESCRIPTION:Trek is designed to help 6-8th graders own their faith by exploring big life questions and studying the Bible. The program uses a three-year curriculum focused on the questions “Who am I?”\, “Why am I here?”\, and “Who’s with me?” to guide students in their faith journey.  \nTrek meets on Sunday nights at 5pm. \nCost: $50 per student; includes book and uniform. Register at https://rock.mountaincity.church/page/826?EventOccurrenceId=38 \n 
URL:https://mountaincity.church/events/awana-trek/2026-03-08/
CATEGORIES:Youth
END:VEVENT
BEGIN:VEVENT
DTSTART;TZID=America/Anchorage:20260308T090000
DTEND;TZID=America/Anchorage:20260308T100000
DTSTAMP:20260420T210939
CREATED:20251223T204001Z
LAST-MODIFIED:20251223T204117Z
UID:10003455-1772960400-1772964000@mountaincity.church
SUMMARY:Front Door
DESCRIPTION:The Front Door is a 3-week experience with the opportunity to learn more about Mountain City Church. Learn about your God-given purpose and spiritual gifts. Take your next step to become a member of Mountain City Church. Jump right in and make an eternal impact in our church and community by serving at Mountain City Church.
URL:https://mountaincity.church/events/front-door-2/2026-03-08/
LOCATION:Mountain City Church Room 111\, 6401 E Northern lights BLVD\, Anchorage\, AK\, 99504\, United States
CATEGORIES:Men,Seniors,Women,Young Adults
END:VEVENT
BEGIN:VEVENT
DTSTART;TZID=America/Anchorage:20260304T184500
DTEND;TZID=America/Anchorage:20260304T201500
DTSTAMP:20260420T210939
CREATED:20251226T165120Z
LAST-MODIFIED:20251226T165120Z
UID:10003613-1772649900-1772655300@mountaincity.church
SUMMARY:Awana
DESCRIPTION:Awana is a global ministry that focuses on learning God’s Word in a fun atmosphere. Each week\, Awana provides consistent\, positive teaching and training that stresses strong moral and spiritual values. Focusing on child discipleship\, our students learn about the reality of God and the truths of the Bible and to know\, love and serve Christ. \nPuggles (2yo-3 y0)\, Cubbies (3yo -5yo)\, Sparks (Kindergarten – 2nd) \, and T&T (3rd-5th) meet on Wednesday nights. Trek (6th-8th) meet on Sunday nights at 5pm. \nCost: $50 per clubber; includes uniform and book. Register at https://rock.mountaincity.church/page/826?EventOccurrenceId=38
URL:https://mountaincity.church/events/awana-5/2026-03-04/
CATEGORIES:Kids
END:VEVENT
BEGIN:VEVENT
DTSTART;TZID=America/Anchorage:20260304T180000
DTEND;TZID=America/Anchorage:20260304T184500
DTSTAMP:20260420T210939
CREATED:20251226T164757Z
LAST-MODIFIED:20260330T182843Z
UID:10003582-1772647200-1772649900@mountaincity.church
SUMMARY:Wednesday Night Meal
DESCRIPTION:6 – 6:45pm | Cost – Adults: $10\, Kids: $6 \nOur Wednesday night fellowship dinners follow our Awana program scheduling.
URL:https://mountaincity.church/events/wednesday-night-meal-6/2026-03-04/
LOCATION:Cafeteria
CATEGORIES:Meal
END:VEVENT
BEGIN:VEVENT
DTSTART;TZID=America/Anchorage:20260303T103000
DTEND;TZID=America/Anchorage:20260303T120000
DTSTAMP:20260420T210939
CREATED:20260225T220356Z
LAST-MODIFIED:20260225T220357Z
UID:10003521-1772533800-1772539200@mountaincity.church
SUMMARY:Tiny Kid Playdate
DESCRIPTION:If you have a tiny kid (infant to 4 yr old)\, we’d like to invite you to join us for a playdate from 10:30-noon in the Auditorium Lobby at Mountain City Church. For more information\, email Briana Harris at bharris@mountaincity.church.
URL:https://mountaincity.church/events/tiny-kid-playdate-8-2/2026-03-03/
LOCATION:Auditorium Lobby
CATEGORIES:Tiny Kids,Women
END:VEVENT
BEGIN:VEVENT
DTSTART;TZID=America/Anchorage:20260301T170000
DTEND;TZID=America/Anchorage:20260301T183000
DTSTAMP:20260420T210939
CREATED:20250907T021603Z
LAST-MODIFIED:20260320T061004Z
UID:10003268-1772384400-1772389800@mountaincity.church
SUMMARY:AWANA - Trek
DESCRIPTION:Trek is designed to help 6-8th graders own their faith by exploring big life questions and studying the Bible. The program uses a three-year curriculum focused on the questions “Who am I?”\, “Why am I here?”\, and “Who’s with me?” to guide students in their faith journey.  \nTrek meets on Sunday nights at 5pm. \nCost: $50 per student; includes book and uniform. Register at https://rock.mountaincity.church/page/826?EventOccurrenceId=38 \n 
URL:https://mountaincity.church/events/awana-trek/2026-03-01/
CATEGORIES:Youth
END:VEVENT
BEGIN:VEVENT
DTSTART;TZID=America/Anchorage:20260225T184500
DTEND;TZID=America/Anchorage:20260225T201500
DTSTAMP:20260420T210939
CREATED:20251226T173207Z
LAST-MODIFIED:20251226T173208Z
UID:10003612-1772045100-1772050500@mountaincity.church
SUMMARY:Awana - Hawaii Night
DESCRIPTION:Awana is a global ministry that focuses on learning God’s Word in a fun atmosphere. Each week\, Awana provides consistent\, positive teaching and training that stresses strong moral and spiritual values. Focusing on child discipleship\, our students learn about the reality of God and the truths of the Bible and to know\, love and serve Christ. \nPuggles (2yo-3 y0)\, Cubbies (3yo -5yo)\, Sparks (Kindergarten – 2nd) \, and T&T (3rd-5th) meet on Wednesday nights. Trek (6th-8th) meet on Sunday nights at 5pm. \nCost: $50 per clubber; includes uniform and book. Register at https://rock.mountaincity.church/page/826?EventOccurrenceId=38
URL:https://mountaincity.church/events/awana-5-3/
CATEGORIES:Kids
END:VEVENT
END:VCALENDAR