BEGIN:VCALENDAR
VERSION:2.0
PRODID:-//Mountain City Church - ECPv6.15.19//NONSGML v1.0//EN
CALSCALE:GREGORIAN
METHOD:PUBLISH
X-WR-CALNAME:Mountain City Church
X-ORIGINAL-URL:https://mountaincity.church
X-WR-CALDESC:Events for Mountain City Church
REFRESH-INTERVAL;VALUE=DURATION:PT1H
X-Robots-Tag:noindex
X-PUBLISHED-TTL:PT1H
BEGIN:VTIMEZONE
TZID:America/Anchorage
BEGIN:DAYLIGHT
TZOFFSETFROM:-0900
TZOFFSETTO:-0800
TZNAME:AKDT
DTSTART:20230312T110000
END:DAYLIGHT
BEGIN:STANDARD
TZOFFSETFROM:-0800
TZOFFSETTO:-0900
TZNAME:AKST
DTSTART:20231105T100000
END:STANDARD
BEGIN:DAYLIGHT
TZOFFSETFROM:-0900
TZOFFSETTO:-0800
TZNAME:AKDT
DTSTART:20240310T110000
END:DAYLIGHT
BEGIN:STANDARD
TZOFFSETFROM:-0800
TZOFFSETTO:-0900
TZNAME:AKST
DTSTART:20241103T100000
END:STANDARD
BEGIN:DAYLIGHT
TZOFFSETFROM:-0900
TZOFFSETTO:-0800
TZNAME:AKDT
DTSTART:20250309T110000
END:DAYLIGHT
BEGIN:STANDARD
TZOFFSETFROM:-0800
TZOFFSETTO:-0900
TZNAME:AKST
DTSTART:20251102T100000
END:STANDARD
END:VTIMEZONE
BEGIN:VEVENT
DTSTART;TZID=America/Anchorage:20240918T180000
DTEND;TZID=America/Anchorage:20240918T184500
DTSTAMP:20260422T140502
CREATED:20240828T194357Z
LAST-MODIFIED:20250417T223223Z
UID:10002529-1726682400-1726685100@mountaincity.church
SUMMARY:Wednesday Night Meal
DESCRIPTION:6 – 6:45pm | Cost: $6 kids\, $8 adults \nOur Wednesday night fellowship dinners follow our Awana program scheduling.
URL:https://mountaincity.church/events/wednesday-night-meal-3/2024-09-18/
LOCATION:Cafeteria
CATEGORIES:Meal
ATTACH;FMTTYPE=image/jpeg:https://mountaincity.church/wp-content/uploads/2024/08/Wed_Meal.jpg
END:VEVENT
BEGIN:VEVENT
DTSTART;TZID=America/Anchorage:20240914T093000
DTEND;TZID=America/Anchorage:20240914T153000
DTSTAMP:20260422T140502
CREATED:20240709T205204Z
LAST-MODIFIED:20240901T231523Z
UID:10002507-1726306200-1726327800@mountaincity.church
SUMMARY:Gary Chapman 5 Love Languages Marriage Conference
DESCRIPTION:Join us for what’s sure to be a highlight of your marriage and the beginning of many positive changes. \nWhether you’ve been married six months or sixty years\, every marriage can use a boost. In this popular one- day conference led by Dr. Gary Chapman\, author of the #1 New York Times bestseller The 5 Love Languages®\, you and your spouse will focus on the basics of every marriage. With wisdom and a healthy dose of humor\, Dr. Chapman gives valuable tips on breaking unhealthy patterns and choosing to develop a more intimate\, happy marriage. \nTopics Discussed: \n\nCommunication 101\nUnderstanding and Expressing Love\nInitiating Positive Change\nMaking Sex a Mutual Joy\nHow to Share the Things that Bug You
URL:https://mountaincity.church/events/lovelanguage/
LOCATION:Mountain City Church Auditorium\, 6401 E Northern Lights Blvd\, Anchorage\, AK\, 99504\, United States
END:VEVENT
BEGIN:VEVENT
DTSTART;TZID=America/Anchorage:20240911T184500
DTEND;TZID=America/Anchorage:20240911T201500
DTSTAMP:20260422T140502
CREATED:20231229T213906Z
LAST-MODIFIED:20240902T003257Z
UID:10002997-1726080300-1726085700@mountaincity.church
SUMMARY:Awana
DESCRIPTION:Awana will start on Wednesday\, September 4 at 6:45pm. \nLearn more and register at https://mountaincity.church/kids/#awana
URL:https://mountaincity.church/events/awana-begins/2024-09-11/
LOCATION:Mountain City Church\, 6401 E Northern Lights Blvd\, Anchorage\, AK\, 99504\, United States
CATEGORIES:Kids,Youth
END:VEVENT
BEGIN:VEVENT
DTSTART;TZID=America/Anchorage:20240911T180000
DTEND;TZID=America/Anchorage:20240911T184500
DTSTAMP:20260422T140502
CREATED:20240828T194357Z
LAST-MODIFIED:20250417T223223Z
UID:10002528-1726077600-1726080300@mountaincity.church
SUMMARY:Wednesday Night Meal
DESCRIPTION:6 – 6:45pm | Cost: $6 kids\, $8 adults \nOur Wednesday night fellowship dinners follow our Awana program scheduling.
URL:https://mountaincity.church/events/wednesday-night-meal-3/2024-09-11/
LOCATION:Cafeteria
CATEGORIES:Meal
ATTACH;FMTTYPE=image/jpeg:https://mountaincity.church/wp-content/uploads/2024/08/Wed_Meal.jpg
END:VEVENT
BEGIN:VEVENT
DTSTART;TZID=America/Anchorage:20240910T103000
DTEND;TZID=America/Anchorage:20240910T120000
DTSTAMP:20260422T140502
CREATED:20240812T194900Z
LAST-MODIFIED:20240826T220629Z
UID:10002511-1725964200-1725969600@mountaincity.church
SUMMARY:Tiny Kids Purposeful Playdate
DESCRIPTION:If you have a tiny kid (infant to 4 yr old)\, we’d like to invite you to join us for a playdate! \nWho is invited: play dates are geared for families with infants to 4-year-olds . Older children are welcome to come\, we suggest bringing something for them. \nWhat: Come grab a coffee on us\, let your little one get their energy out\, and find your community of young families. \nWhen: 10:30am \nWhere: Auditorium Lobby. Look for Tiny Kid Purposeful play date sign by the door! \nFor more information\, email Briana at bharris@mountaincity.church
URL:https://mountaincity.church/events/tiny-kids-purposeful-playdate/2024-09-10/
LOCATION:Mountain City Church\, 6401 E Northern Lights Blvd\, Anchorage\, AK\, 99504\, United States
CATEGORIES:Tiny Kids
END:VEVENT
BEGIN:VEVENT
DTSTART;TZID=America/Anchorage:20240904T184500
DTEND;TZID=America/Anchorage:20240904T201500
DTSTAMP:20260422T140502
CREATED:20231229T213906Z
LAST-MODIFIED:20240902T003257Z
UID:10002996-1725475500-1725480900@mountaincity.church
SUMMARY:Awana
DESCRIPTION:Awana will start on Wednesday\, September 4 at 6:45pm. \nLearn more and register at https://mountaincity.church/kids/#awana
URL:https://mountaincity.church/events/awana-begins/2024-09-04/
LOCATION:Mountain City Church\, 6401 E Northern Lights Blvd\, Anchorage\, AK\, 99504\, United States
CATEGORIES:Kids,Youth
END:VEVENT
BEGIN:VEVENT
DTSTART;TZID=America/Anchorage:20240904T180000
DTEND;TZID=America/Anchorage:20240904T184500
DTSTAMP:20260422T140502
CREATED:20250401T183218Z
LAST-MODIFIED:20250401T183218Z
UID:10003125-1725472800-1725475500@mountaincity.church
SUMMARY:Wednesday Night Meal
DESCRIPTION:6 – 6:45pm | Cost: $6 kids\, $8 adults \nOur Wednesday night fellowship dinners follow our Awana program scheduling.
URL:https://mountaincity.church/events/wednesday-night-meal-5/
LOCATION:Cafeteria
CATEGORIES:Meal
ATTACH;FMTTYPE=image/jpeg:https://mountaincity.church/wp-content/uploads/2024/08/Wed_Meal.jpg
END:VEVENT
BEGIN:VEVENT
DTSTART;TZID=America/Anchorage:20240831T170000
DTEND;TZID=America/Anchorage:20240831T193000
DTSTAMP:20260422T140502
CREATED:20240313T215102Z
LAST-MODIFIED:20240403T221358Z
UID:10002371-1725123600-1725132600@mountaincity.church
SUMMARY:Gathering: Games/Sports/Hangout
DESCRIPTION:The Gathering\, our young adults\, 18-29yr olds are hanging out August 31st. test @GATHTOGO to81010 for more details.
URL:https://mountaincity.church/events/gathering-games-sports-hangout/
LOCATION:Mountain City Church\, 6401 E Northern Lights Blvd\, Anchorage\, AK\, 99504\, United States
CATEGORIES:Young Adults
END:VEVENT
BEGIN:VEVENT
DTSTART;TZID=America/Anchorage:20240828T190000
DTEND;TZID=America/Anchorage:20240828T200000
DTSTAMP:20260422T140502
CREATED:20240313T215215Z
LAST-MODIFIED:20240403T215737Z
UID:10002372-1724871600-1724875200@mountaincity.church
SUMMARY:Kids Choir Performance
DESCRIPTION:Our Kid’s Choir performance is Wednesday\, August 28th @ 7pm in the main auditorium.
URL:https://mountaincity.church/events/kids-choir-performance/
LOCATION:Mountain City Church\, 6401 E Northern Lights Blvd\, Anchorage\, AK\, 99504\, United States
CATEGORIES:Kids
END:VEVENT
BEGIN:VEVENT
DTSTART;TZID=America/Anchorage:20240827T103000
DTEND;TZID=America/Anchorage:20240827T120000
DTSTAMP:20260422T140502
CREATED:20240812T194900Z
LAST-MODIFIED:20240826T220629Z
UID:10002510-1724754600-1724760000@mountaincity.church
SUMMARY:Tiny Kids Purposeful Playdate
DESCRIPTION:If you have a tiny kid (infant to 4 yr old)\, we’d like to invite you to join us for a playdate! \nWho is invited: play dates are geared for families with infants to 4-year-olds . Older children are welcome to come\, we suggest bringing something for them. \nWhat: Come grab a coffee on us\, let your little one get their energy out\, and find your community of young families. \nWhen: 10:30am \nWhere: Auditorium Lobby. Look for Tiny Kid Purposeful play date sign by the door! \nFor more information\, email Briana at bharris@mountaincity.church
URL:https://mountaincity.church/events/tiny-kids-purposeful-playdate/2024-08-27/
LOCATION:Mountain City Church\, 6401 E Northern Lights Blvd\, Anchorage\, AK\, 99504\, United States
CATEGORIES:Tiny Kids
END:VEVENT
BEGIN:VEVENT
DTSTART;TZID=America/Anchorage:20240825T100000
DTEND;TZID=America/Anchorage:20240825T103000
DTSTAMP:20260422T140502
CREATED:20240313T213704Z
LAST-MODIFIED:20240313T213704Z
UID:10002361-1724580000-1724581800@mountaincity.church
SUMMARY:B101
DESCRIPTION:
URL:https://mountaincity.church/events/b101-3/
LOCATION:Mountain City Church\, 6401 E Northern Lights Blvd\, Anchorage\, AK\, 99504\, United States
END:VEVENT
BEGIN:VEVENT
DTSTART;TZID=America/Anchorage:20240818T110000
DTEND;TZID=America/Anchorage:20240818T120000
DTSTAMP:20260422T140502
CREATED:20240709T233027Z
LAST-MODIFIED:20240711T183639Z
UID:10002508-1723978800-1723982400@mountaincity.church
SUMMARY:Tim Lee
DESCRIPTION:
URL:https://mountaincity.church/events/tim-lee/
LOCATION:Mountain City Church Auditorium\, 6401 E Northern Lights Blvd\, Anchorage\, AK\, 99504\, United States
END:VEVENT
BEGIN:VEVENT
DTSTART;TZID=America/Anchorage:20240818T110000
DTEND;TZID=America/Anchorage:20240818T120000
DTSTAMP:20260422T140502
CREATED:20240314T234657Z
LAST-MODIFIED:20240314T234657Z
UID:10002434-1723978800-1723982400@mountaincity.church
SUMMARY:Step Up Sunday
DESCRIPTION:
URL:https://mountaincity.church/events/step-up-sunday-2/
LOCATION:Mountain City Church\, 6401 E Northern Lights Blvd\, Anchorage\, AK\, 99504\, United States
END:VEVENT
BEGIN:VEVENT
DTSTART;TZID=America/Anchorage:20240817T140000
DTEND;TZID=America/Anchorage:20240817T163000
DTSTAMP:20260422T140502
CREATED:20240313T213350Z
LAST-MODIFIED:20240403T214232Z
UID:10002359-1723903200-1723912200@mountaincity.church
SUMMARY:Kids: Family Mini Olympics
DESCRIPTION:Our website\, mountaincity.church/kids will be updated with more details closer to the event.
URL:https://mountaincity.church/events/kids-family-mini-olympics/
LOCATION:Mountain City Church\, 6401 E Northern Lights Blvd\, Anchorage\, AK\, 99504\, United States
CATEGORIES:Kids
END:VEVENT
BEGIN:VEVENT
DTSTART;TZID=America/Anchorage:20240817T100000
DTEND;TZID=America/Anchorage:20240817T113000
DTSTAMP:20260422T140502
CREATED:20240313T213141Z
LAST-MODIFIED:20240403T215515Z
UID:10002358-1723888800-1723894200@mountaincity.church
SUMMARY:Gathering Hike
DESCRIPTION:The Gathering\, our young adults\, 18-29yr olds are heading hiking August 17th. \nText @GATHTOGO to 81010 for more details.
URL:https://mountaincity.church/events/gathering-hike-3/
CATEGORIES:Young Adults
END:VEVENT
BEGIN:VEVENT
DTSTART;TZID=America/Anchorage:20240813T103000
DTEND;TZID=America/Anchorage:20240813T120000
DTSTAMP:20260422T140502
CREATED:20240812T194900Z
LAST-MODIFIED:20240826T220629Z
UID:10002509-1723545000-1723550400@mountaincity.church
SUMMARY:Tiny Kids Purposeful Playdate
DESCRIPTION:If you have a tiny kid (infant to 4 yr old)\, we’d like to invite you to join us for a playdate! \nWho is invited: play dates are geared for families with infants to 4-year-olds . Older children are welcome to come\, we suggest bringing something for them. \nWhat: Come grab a coffee on us\, let your little one get their energy out\, and find your community of young families. \nWhen: 10:30am \nWhere: Auditorium Lobby. Look for Tiny Kid Purposeful play date sign by the door! \nFor more information\, email Briana at bharris@mountaincity.church
URL:https://mountaincity.church/events/tiny-kids-purposeful-playdate/2024-08-13/
LOCATION:Mountain City Church\, 6401 E Northern Lights Blvd\, Anchorage\, AK\, 99504\, United States
CATEGORIES:Tiny Kids
END:VEVENT
BEGIN:VEVENT
DTSTART;VALUE=DATE:20240808
DTEND;VALUE=DATE:20240810
DTSTAMP:20260422T140502
CREATED:20240403T192724Z
LAST-MODIFIED:20240403T193016Z
UID:10002505-1723075200-1723247999@mountaincity.church
SUMMARY:Global Leadership Summit
DESCRIPTION:We are excited that Mountain City Church will be a local Global Leadership Summit host site for the greater Anchorage region again this summer. \nOn Thursday and Friday\, August 8-9\, 2024\, bring yourself and your team and join other curious\, growth-minded\, change-driven people like you for 2024’s Global Leadership Summit. \nThe cost for GLS is $139 through May 8th. Register at mountaincity.church/gls. Priority pricing is available for First Responders\, Nurses\, Military\, Students\, and Faculty.
URL:https://mountaincity.church/events/global-leadership-summit-2/
LOCATION:Mountain City Church\, 6401 E Northern Lights Blvd\, Anchorage\, AK\, 99504\, United States
CATEGORIES:Men,Seniors,Women,Young Adults
END:VEVENT
BEGIN:VEVENT
DTSTART;TZID=America/Anchorage:20240727T100000
DTEND;TZID=America/Anchorage:20240727T140000
DTSTAMP:20260422T140502
CREATED:20240403T191235Z
LAST-MODIFIED:20240613T082825Z
UID:10002504-1722074400-1722088800@mountaincity.church
SUMMARY:Guns and Roses: Women's Event
DESCRIPTION:Ladies\, join us for a day of fun and adventure! We’ll be headed out to Wasilla for a day of shooting guns. To register for the event or to learn more information\, visit https://mountaincity.church/women/#roses
URL:https://mountaincity.church/events/womens-event/
LOCATION:1880 Smyth Dr. Wasilla\, AK 99654\, 1880 Smyth Dr.\, Wasilla\, 99654\, United States
CATEGORIES:Women
ATTACH;FMTTYPE=image/jpeg:https://mountaincity.church/wp-content/uploads/2024/06/Guns-and-Roses_slide.jpg
END:VEVENT
BEGIN:VEVENT
DTSTART;VALUE=DATE:20240722
DTEND;VALUE=DATE:20240727
DTSTAMP:20260422T140502
CREATED:20240313T210947Z
LAST-MODIFIED:20240403T191028Z
UID:10002354-1721606400-1722038399@mountaincity.church
SUMMARY:Kids Camp
DESCRIPTION:Kid’s Camp is a time for kids to get out in nature to unplug\, connect with friends\, and learn God’s Word. \nSecond through 5th graders\, are heading to Little Beaver for Summer Camp! \nCost 285\, Scholarships are available. Deadline to register is July 15th. \nFor more information\, visit mountaincity.church/kidscamp
URL:https://mountaincity.church/events/kids-camp/
CATEGORIES:Kids
END:VEVENT
BEGIN:VEVENT
DTSTART;TZID=America/Anchorage:20240721T123000
DTEND;TZID=America/Anchorage:20240721T130000
DTSTAMP:20260422T140502
CREATED:20240313T211149Z
LAST-MODIFIED:20240313T211149Z
UID:10002356-1721565000-1721566800@mountaincity.church
SUMMARY:B101
DESCRIPTION:
URL:https://mountaincity.church/events/b101-2/
LOCATION:Mountain City Church\, 6401 E Northern Lights Blvd\, Anchorage\, AK\, 99504\, United States
END:VEVENT
BEGIN:VEVENT
DTSTART;TZID=America/Anchorage:20240720T110000
DTEND;TZID=America/Anchorage:20240720T140000
DTSTAMP:20260422T140502
CREATED:20240313T210600Z
LAST-MODIFIED:20240403T184307Z
UID:10002352-1721473200-1721484000@mountaincity.church
SUMMARY:The Gathering: Campbell Creek Tubing
DESCRIPTION:The Gathering\, our young adults\, 18-29yr olds are going tubing on July 20th. \nText @GATHTOGO to 81010 for more details.
URL:https://mountaincity.church/events/the-gathering-campbell-creek-tubing/
CATEGORIES:Young Adults
END:VEVENT
BEGIN:VEVENT
DTSTART;VALUE=DATE:20240719
DTEND;VALUE=DATE:20240721
DTSTAMP:20260422T140502
CREATED:20240313T200857Z
LAST-MODIFIED:20240719T193831Z
UID:10002350-1721347200-1721519999@mountaincity.church
SUMMARY:YTH Lock in
DESCRIPTION:What: High School Lock-in \nWhen: July 19th- July 20th \nTime: 9pm Friday – 7am Saturday \nWhere: Mountain City Church \nWho: 9th-12th graders \nCost: $10 \nVisit mountaincity.church/youth for more information.
URL:https://mountaincity.church/events/yth-lock-in/
CATEGORIES:Youth
END:VEVENT
BEGIN:VEVENT
DTSTART;TZID=America/Anchorage:20240707T110000
DTEND;TZID=America/Anchorage:20240707T113000
DTSTAMP:20260422T140502
CREATED:20240313T195856Z
LAST-MODIFIED:20240313T195856Z
UID:10002349-1720350000-1720351800@mountaincity.church
SUMMARY:Membership Recognition
DESCRIPTION:Membership Recognition will be held in the Auditorium at 11am
URL:https://mountaincity.church/events/membership-recognition/
LOCATION:Mountain City Church\, 6401 E Northern Lights Blvd\, Anchorage\, AK\, 99504\, United States
END:VEVENT
BEGIN:VEVENT
DTSTART;TZID=America/Anchorage:20240630T100000
DTEND;TZID=America/Anchorage:20240630T103000
DTSTAMP:20260422T140502
CREATED:20240313T195624Z
LAST-MODIFIED:20240313T195624Z
UID:10002348-1719741600-1719743400@mountaincity.church
SUMMARY:B101
DESCRIPTION:
URL:https://mountaincity.church/events/b101/
LOCATION:Mountain City Church\, 6401 E Northern Lights Blvd\, Anchorage\, AK\, 99504\, United States
END:VEVENT
BEGIN:VEVENT
DTSTART;VALUE=DATE:20240628
DTEND;VALUE=DATE:20240630
DTSTAMP:20260422T140502
CREATED:20240313T194155Z
LAST-MODIFIED:20240403T181943Z
UID:10002347-1719532800-1719705599@mountaincity.church
SUMMARY:Gathering Camping Trip
DESCRIPTION:The Gathering\, our young adults\, 18-29yr olds are heading camping June 28-29. \nText @GATHTOGO to 81010 for more details.
URL:https://mountaincity.church/events/gathering-camping/
CATEGORIES:Young Adults
END:VEVENT
BEGIN:VEVENT
DTSTART;TZID=America/Anchorage:20240617T190000
DTEND;TZID=America/Anchorage:20240620T210000
DTSTAMP:20260422T140502
CREATED:20240313T190019Z
LAST-MODIFIED:20240510T001015Z
UID:10002345-1718650800-1718917200@mountaincity.church
SUMMARY:Kids Week
DESCRIPTION:Event: Kids Week \nDay: June 17th-20th \nTime: Nightly from 7pm-9pm \nCost: Register for this 4 day event for free by June 7th at mountaincity.church/kidsweek \n*Late registration (June 8-17th) will incur a $15 charge per child* \nLearn more at mountaincity.church/kidsweek \n 
URL:https://mountaincity.church/events/kids-week/
LOCATION:Mountain City Church\, 6401 E Northern Lights Blvd\, Anchorage\, AK\, 99504\, United States
END:VEVENT
BEGIN:VEVENT
DTSTART;TZID=America/Anchorage:20240617T180000
DTEND;TZID=America/Anchorage:20240620T200000
DTSTAMP:20260422T140502
CREATED:20240313T192103Z
LAST-MODIFIED:20240403T000642Z
UID:10002346-1718647200-1718913600@mountaincity.church
SUMMARY:YTH Week
DESCRIPTION:When: June 17th – June 20th \nTime: 6pm-8pm \nWhere: Mountain City Church \nWho: 6th-8th graders \nCost: Free \nVisit mountaincity.church/youth for more details! \nCome and hear the good news of Jesus Christ amidst the craziness that is Youth Week!
URL:https://mountaincity.church/events/yth-week/
END:VEVENT
BEGIN:VEVENT
DTSTART;TZID=America/Anchorage:20240615T090000
DTEND;TZID=America/Anchorage:20240615T160000
DTSTAMP:20260422T140502
CREATED:20240402T235832Z
LAST-MODIFIED:20240402T235832Z
UID:10002503-1718442000-1718467200@mountaincity.church
SUMMARY:OCC Yard Sale
DESCRIPTION:Clean out your closets and sell your treasures. Purchase a spot in our parking lot to support Operation Christmas Child. \nThis event is happening June 15th from 9am-4pm. For more information\, email occakministry@gmail.com \n 
URL:https://mountaincity.church/events/occ-yard-sale-2/
LOCATION:Mountain City Church\, 6401 E Northern Lights Blvd\, Anchorage\, AK\, 99504\, United States
END:VEVENT
BEGIN:VEVENT
DTSTART;TZID=America/Anchorage:20240615T080000
DTEND;TZID=America/Anchorage:20240615T170000
DTSTAMP:20260422T140502
CREATED:20240313T185510Z
LAST-MODIFIED:20240313T185510Z
UID:10002344-1718438400-1718470800@mountaincity.church
SUMMARY:The Gathering
DESCRIPTION:Join the Gathering for games and an Outdoor movie! \nFor any questions email jvelez@mountaincity.church 
URL:https://mountaincity.church/events/the-gathering-2/
END:VEVENT
BEGIN:VEVENT
DTSTART;TZID=America/Anchorage:20240612T190000
DTEND;TZID=America/Anchorage:20240612T200000
DTSTAMP:20260422T140502
CREATED:20240402T234006Z
LAST-MODIFIED:20240617T183659Z
UID:10002455-1718218800-1718222400@mountaincity.church
SUMMARY:Wednesday Marriage Series
DESCRIPTION:Pastor Ron and Crystal will be talking about marriage on Wednesday nights. \nYou won’t want to miss this great conversation starting May 1st at 7pm.
URL:https://mountaincity.church/events/wednesday-marriage-series/2024-06-12/
LOCATION:Mountain City Church\, 6401 E Northern Lights Blvd\, Anchorage\, AK\, 99504\, United States
END:VEVENT
END:VCALENDAR