BEGIN:VCALENDAR
VERSION:2.0
PRODID:-//Mountain City Church - ECPv6.15.19//NONSGML v1.0//EN
CALSCALE:GREGORIAN
METHOD:PUBLISH
X-WR-CALNAME:Mountain City Church
X-ORIGINAL-URL:https://mountaincity.church
X-WR-CALDESC:Events for Mountain City Church
REFRESH-INTERVAL;VALUE=DURATION:PT1H
X-Robots-Tag:noindex
X-PUBLISHED-TTL:PT1H
BEGIN:VTIMEZONE
TZID:America/Anchorage
BEGIN:DAYLIGHT
TZOFFSETFROM:-0900
TZOFFSETTO:-0800
TZNAME:AKDT
DTSTART:20230312T110000
END:DAYLIGHT
BEGIN:STANDARD
TZOFFSETFROM:-0800
TZOFFSETTO:-0900
TZNAME:AKST
DTSTART:20231105T100000
END:STANDARD
BEGIN:DAYLIGHT
TZOFFSETFROM:-0900
TZOFFSETTO:-0800
TZNAME:AKDT
DTSTART:20240310T110000
END:DAYLIGHT
BEGIN:STANDARD
TZOFFSETFROM:-0800
TZOFFSETTO:-0900
TZNAME:AKST
DTSTART:20241103T100000
END:STANDARD
BEGIN:DAYLIGHT
TZOFFSETFROM:-0900
TZOFFSETTO:-0800
TZNAME:AKDT
DTSTART:20250309T110000
END:DAYLIGHT
BEGIN:STANDARD
TZOFFSETFROM:-0800
TZOFFSETTO:-0900
TZNAME:AKST
DTSTART:20251102T100000
END:STANDARD
END:VTIMEZONE
BEGIN:VEVENT
DTSTART;TZID=America/Anchorage:20241215T180000
DTEND;TZID=America/Anchorage:20241215T200000
DTSTAMP:20260422T140533
CREATED:20241212T195324Z
LAST-MODIFIED:20241212T195324Z
UID:10003013-1734285600-1734292800@mountaincity.church
SUMMARY:Michael Jr.
DESCRIPTION:<GET YOUR TICKETS!> \nMichael Jr will be LIVE at Mountain City Church Sunday\, December 15 at 6pm. \nKnown as one of today’s most gifted communicators\, Michael Jr brings laughter and\nencouragement to audiences all over the world. Using comedy and dynamic storytelling he\ninspires audiences to discover and activate their purpose. This unique skill set has\nlanded him on stages like The Tonight Show on NBC\, TEDx talks and Jimmy Kimmel Live. His mission to make laughter commonplace in uncommon places means that he also seeks opportunities to share his gift with those in homeless shelters and prisons. You can find him in Sony Pictures’\nfeature film War Room\, as well as starring roles in Selfie Dad\, Laughing on Purpose\, and More\nThan Funny.
URL:https://mountaincity.church/events/michael-jr/
LOCATION:Mountain City Church Auditorium\, 6401 E Northern Lights Blvd\, Anchorage\, AK\, 99504\, United States
ATTACH;FMTTYPE=image/jpeg:https://mountaincity.church/wp-content/uploads/2024/11/michael-jr.jpg
END:VEVENT
BEGIN:VEVENT
DTSTART;TZID=America/Anchorage:20241214T170000
DTEND;TZID=America/Anchorage:20241214T210000
DTSTAMP:20260422T140533
CREATED:20240902T001745Z
LAST-MODIFIED:20241112T182012Z
UID:10002604-1734195600-1734210000@mountaincity.church
SUMMARY:Christmas Spectacular
DESCRIPTION:This year\, Christmas is going to be Spectacular! All activities begin at 5pm and include pictures with Santa\, crafts with elves\, hot chocolate\, a light show\, an interactive kids’ show\, and more! Be sure to check out mountaincity.church/christmas for details about everything happening this Christmas at Mountain City Church.
URL:https://mountaincity.church/events/christmas-spectacular-2/2024-12-14/
LOCATION:Mountain City Church\, 6401 E Northern Lights Blvd\, Anchorage\, AK\, 99504\, United States
CATEGORIES:Kids,Men,Seniors,Tiny Kids,Women,Young Adults,Youth
END:VEVENT
BEGIN:VEVENT
DTSTART;TZID=America/Anchorage:20241213T170000
DTEND;TZID=America/Anchorage:20241213T210000
DTSTAMP:20260422T140533
CREATED:20240902T001745Z
LAST-MODIFIED:20241112T182012Z
UID:10002603-1734109200-1734123600@mountaincity.church
SUMMARY:Christmas Spectacular
DESCRIPTION:This year\, Christmas is going to be Spectacular! All activities begin at 5pm and include pictures with Santa\, crafts with elves\, hot chocolate\, a light show\, an interactive kids’ show\, and more! Be sure to check out mountaincity.church/christmas for details about everything happening this Christmas at Mountain City Church.
URL:https://mountaincity.church/events/christmas-spectacular-2/2024-12-13/
LOCATION:Mountain City Church\, 6401 E Northern Lights Blvd\, Anchorage\, AK\, 99504\, United States
CATEGORIES:Kids,Men,Seniors,Tiny Kids,Women,Young Adults,Youth
END:VEVENT
BEGIN:VEVENT
DTSTART;TZID=America/Anchorage:20241211T190000
DTEND;TZID=America/Anchorage:20241211T203000
DTSTAMP:20260422T140533
CREATED:20241204T001600Z
LAST-MODIFIED:20241204T001600Z
UID:10003011-1733943600-1733949000@mountaincity.church
SUMMARY:No Church
DESCRIPTION:There will be no Wednesday night service or Awana. We will be preparing for our Christmas Spectacular. We hope to see you all there!
URL:https://mountaincity.church/events/no-church-2/
CATEGORIES:Kids,Men,Seniors,Tiny Kids,Women,Young Adults,Youth
END:VEVENT
BEGIN:VEVENT
DTSTART;TZID=America/Anchorage:20241211T180000
DTEND;TZID=America/Anchorage:20241211T184500
DTSTAMP:20260422T140533
CREATED:20240828T194357Z
LAST-MODIFIED:20250417T223223Z
UID:10003126-1733940000-1733942700@mountaincity.church
SUMMARY:Wednesday Night Meal
DESCRIPTION:6 – 6:45pm | Cost: $6 kids\, $8 adults \nOur Wednesday night fellowship dinners follow our Awana program scheduling.
URL:https://mountaincity.church/events/wednesday-night-meal-3/2024-12-11/
LOCATION:Cafeteria
CATEGORIES:Meal
ATTACH;FMTTYPE=image/jpeg:https://mountaincity.church/wp-content/uploads/2024/08/Wed_Meal.jpg
END:VEVENT
BEGIN:VEVENT
DTSTART;TZID=America/Anchorage:20241206T190000
DTEND;TZID=America/Anchorage:20241206T203000
DTSTAMP:20260422T140533
CREATED:20240902T001532Z
LAST-MODIFIED:20240902T001532Z
UID:10002602-1733511600-1733517000@mountaincity.church
SUMMARY:Kids Hide and Seek
DESCRIPTION:Come and play hide and seek as we learn how Jesus is the light of the world who seeks us! Kids will get to play guided and supervised rounds of hide and seek throughout the church building. Parents can drop off or stay and play! For more information\, visit mountaincity.church/kids.
URL:https://mountaincity.church/events/kids-hide-and-seek/
CATEGORIES:Kids
END:VEVENT
BEGIN:VEVENT
DTSTART;TZID=America/Anchorage:20241204T181500
DTEND;TZID=America/Anchorage:20241204T201500
DTSTAMP:20260422T140533
CREATED:20240902T001126Z
LAST-MODIFIED:20240902T001126Z
UID:10002601-1733336100-1733343300@mountaincity.church
SUMMARY:Yth Thanksmas
DESCRIPTION:Mtn City Yth\, will enjoy this Thanksgiving and Christmas mash-up event.
URL:https://mountaincity.church/events/yth-thanksmas/
LOCATION:Mountain City Student Union
CATEGORIES:Youth
END:VEVENT
BEGIN:VEVENT
DTSTART;TZID=America/Anchorage:20241204T180000
DTEND;TZID=America/Anchorage:20241204T184500
DTSTAMP:20260422T140533
CREATED:20240828T194357Z
LAST-MODIFIED:20250417T223223Z
UID:10002540-1733335200-1733337900@mountaincity.church
SUMMARY:Wednesday Night Meal
DESCRIPTION:6 – 6:45pm | Cost: $6 kids\, $8 adults \nOur Wednesday night fellowship dinners follow our Awana program scheduling.
URL:https://mountaincity.church/events/wednesday-night-meal-3/2024-12-04/
LOCATION:Cafeteria
CATEGORIES:Meal
ATTACH;FMTTYPE=image/jpeg:https://mountaincity.church/wp-content/uploads/2024/08/Wed_Meal.jpg
END:VEVENT
BEGIN:VEVENT
DTSTART;TZID=America/Anchorage:20241127T180000
DTEND;TZID=America/Anchorage:20241127T184500
DTSTAMP:20260422T140533
CREATED:20240828T194357Z
LAST-MODIFIED:20250417T223223Z
UID:10002539-1732730400-1732733100@mountaincity.church
SUMMARY:Wednesday Night Meal
DESCRIPTION:6 – 6:45pm | Cost: $6 kids\, $8 adults \nOur Wednesday night fellowship dinners follow our Awana program scheduling.
URL:https://mountaincity.church/events/wednesday-night-meal-3/2024-11-27/
LOCATION:Cafeteria
CATEGORIES:Meal
ATTACH;FMTTYPE=image/jpeg:https://mountaincity.church/wp-content/uploads/2024/08/Wed_Meal.jpg
END:VEVENT
BEGIN:VEVENT
DTSTART;TZID=America/Anchorage:20241120T184500
DTEND;TZID=America/Anchorage:20241120T201500
DTSTAMP:20260422T140533
CREATED:20231229T213906Z
LAST-MODIFIED:20240902T003257Z
UID:10003007-1732128300-1732133700@mountaincity.church
SUMMARY:Awana
DESCRIPTION:Awana will start on Wednesday\, September 4 at 6:45pm. \nLearn more and register at https://mountaincity.church/kids/#awana
URL:https://mountaincity.church/events/awana-begins/2024-11-20/
LOCATION:Mountain City Church\, 6401 E Northern Lights Blvd\, Anchorage\, AK\, 99504\, United States
CATEGORIES:Kids,Youth
END:VEVENT
BEGIN:VEVENT
DTSTART;TZID=America/Anchorage:20241120T180000
DTEND;TZID=America/Anchorage:20241120T184500
DTSTAMP:20260422T140533
CREATED:20240828T194357Z
LAST-MODIFIED:20250417T223223Z
UID:10002538-1732125600-1732128300@mountaincity.church
SUMMARY:Wednesday Night Meal
DESCRIPTION:6 – 6:45pm | Cost: $6 kids\, $8 adults \nOur Wednesday night fellowship dinners follow our Awana program scheduling.
URL:https://mountaincity.church/events/wednesday-night-meal-3/2024-11-20/
LOCATION:Cafeteria
CATEGORIES:Meal
ATTACH;FMTTYPE=image/jpeg:https://mountaincity.church/wp-content/uploads/2024/08/Wed_Meal.jpg
END:VEVENT
BEGIN:VEVENT
DTSTART;TZID=America/Anchorage:20241116T130000
DTEND;TZID=America/Anchorage:20241116T150000
DTSTAMP:20260422T140533
CREATED:20240902T000753Z
LAST-MODIFIED:20240902T000753Z
UID:10002600-1731762000-1731769200@mountaincity.church
SUMMARY:OCC Packing Party
DESCRIPTION:Did you know\, Mountain City Church is the drop-off location for Operation Christmas Child shoeboxes in Alaska? Churches from around the state bring boxes here to send all over the world to kids less fortunate. Starting in November you can pick up a box\, fill it\, and bring it back. We are also going to pack boxes as a church family on November 16th from 1-3pm in the Auditorium Lobby. For more information\, email occakministry@gmail.com
URL:https://mountaincity.church/events/occ-packing-party/
LOCATION:Auditorium Lobby
CATEGORIES:Kids,Men,Seniors,Women,Young Adults,Youth
END:VEVENT
BEGIN:VEVENT
DTSTART;TZID=America/Anchorage:20241113T184500
DTEND;TZID=America/Anchorage:20241113T201500
DTSTAMP:20260422T140533
CREATED:20231229T213906Z
LAST-MODIFIED:20240902T003257Z
UID:10003006-1731523500-1731528900@mountaincity.church
SUMMARY:Awana
DESCRIPTION:Awana will start on Wednesday\, September 4 at 6:45pm. \nLearn more and register at https://mountaincity.church/kids/#awana
URL:https://mountaincity.church/events/awana-begins/2024-11-13/
LOCATION:Mountain City Church\, 6401 E Northern Lights Blvd\, Anchorage\, AK\, 99504\, United States
CATEGORIES:Kids,Youth
END:VEVENT
BEGIN:VEVENT
DTSTART;TZID=America/Anchorage:20241113T180000
DTEND;TZID=America/Anchorage:20241113T184500
DTSTAMP:20260422T140533
CREATED:20240828T194357Z
LAST-MODIFIED:20250417T223223Z
UID:10002537-1731520800-1731523500@mountaincity.church
SUMMARY:Wednesday Night Meal
DESCRIPTION:6 – 6:45pm | Cost: $6 kids\, $8 adults \nOur Wednesday night fellowship dinners follow our Awana program scheduling.
URL:https://mountaincity.church/events/wednesday-night-meal-3/2024-11-13/
LOCATION:Cafeteria
CATEGORIES:Meal
ATTACH;FMTTYPE=image/jpeg:https://mountaincity.church/wp-content/uploads/2024/08/Wed_Meal.jpg
END:VEVENT
BEGIN:VEVENT
DTSTART;TZID=America/Anchorage:20241112T103000
DTEND;TZID=America/Anchorage:20241112T120000
DTSTAMP:20260422T140533
CREATED:20240812T195058Z
LAST-MODIFIED:20240826T220843Z
UID:10002517-1731407400-1731412800@mountaincity.church
SUMMARY:Tiny Kids Purposeful Playdate
DESCRIPTION:If you have a tiny kid (infant to 4 yr old)\, we’d like to invite you to join us for a playdate! \nTheme: Giving \nWho is invited: play dates are geared for families with infants to 4-year-olds . Older children are welcome to come\, we suggest bringing something for them. \nWhat: Come grab a coffee on us\, let your little one get their energy out\, and find your community of young families. \nWhen: 10:30am \nWhere: Auditorium Lobby. Look for Tiny Kid Purposeful play date sign by door. \nFor more information\, email Briana at bharris@mountaincity.church
URL:https://mountaincity.church/events/tiny-kids-purposeful-playdate-2/
LOCATION:Mountain City Church\, 6401 E Northern Lights Blvd\, Anchorage\, AK\, 99504\, United States
CATEGORIES:Kids,Tiny Kids,Women
END:VEVENT
BEGIN:VEVENT
DTSTART;TZID=America/Anchorage:20241109T190000
DTEND;TZID=America/Anchorage:20241109T210000
DTSTAMP:20260422T140533
CREATED:20240902T000508Z
LAST-MODIFIED:20240902T000508Z
UID:10002599-1731178800-1731186000@mountaincity.church
SUMMARY:Kids Lego Build-A-Thon
DESCRIPTION:Use LEGOs to compete in building challenges and win prizes! This event will not only stretch your kids’ creativity\, but also teach the lesson that the Church works together as pieces of the body of Christ! Cost is $20. Parents are welcome. Kids will be given LEGOs. Please do not bring your own. Registration can be found online at mountaincity.church/kids.
URL:https://mountaincity.church/events/kids-lego-build-a-thon/
LOCATION:Mountain City Student Union
CATEGORIES:Kids
END:VEVENT
BEGIN:VEVENT
DTSTART;TZID=America/Anchorage:20241106T184500
DTEND;TZID=America/Anchorage:20241106T201500
DTSTAMP:20260422T140533
CREATED:20231229T213906Z
LAST-MODIFIED:20240902T003257Z
UID:10003005-1730918700-1730924100@mountaincity.church
SUMMARY:Awana
DESCRIPTION:Awana will start on Wednesday\, September 4 at 6:45pm. \nLearn more and register at https://mountaincity.church/kids/#awana
URL:https://mountaincity.church/events/awana-begins/2024-11-06/
LOCATION:Mountain City Church\, 6401 E Northern Lights Blvd\, Anchorage\, AK\, 99504\, United States
CATEGORIES:Kids,Youth
END:VEVENT
BEGIN:VEVENT
DTSTART;TZID=America/Anchorage:20241106T180000
DTEND;TZID=America/Anchorage:20241106T184500
DTSTAMP:20260422T140533
CREATED:20240828T194357Z
LAST-MODIFIED:20250417T223223Z
UID:10002536-1730916000-1730918700@mountaincity.church
SUMMARY:Wednesday Night Meal
DESCRIPTION:6 – 6:45pm | Cost: $6 kids\, $8 adults \nOur Wednesday night fellowship dinners follow our Awana program scheduling.
URL:https://mountaincity.church/events/wednesday-night-meal-3/2024-11-06/
LOCATION:Cafeteria
CATEGORIES:Meal
ATTACH;FMTTYPE=image/jpeg:https://mountaincity.church/wp-content/uploads/2024/08/Wed_Meal.jpg
END:VEVENT
BEGIN:VEVENT
DTSTART;VALUE=DATE:20241105
DTEND;VALUE=DATE:20241106
DTSTAMP:20260422T140533
CREATED:20241029T000906Z
LAST-MODIFIED:20241029T000906Z
UID:10003010-1730764800-1730851199@mountaincity.church
SUMMARY:Vote!
DESCRIPTION:Remember to vote in this November election! You can find a digital voter guide here
URL:https://mountaincity.church/events/vote/
CATEGORIES:Men,Seniors,Women,Young Adults
END:VEVENT
BEGIN:VEVENT
DTSTART;TZID=America/Anchorage:20241030T184500
DTEND;TZID=America/Anchorage:20241030T201500
DTSTAMP:20260422T140533
CREATED:20231229T213906Z
LAST-MODIFIED:20240902T003257Z
UID:10003004-1730313900-1730319300@mountaincity.church
SUMMARY:Awana
DESCRIPTION:Awana will start on Wednesday\, September 4 at 6:45pm. \nLearn more and register at https://mountaincity.church/kids/#awana
URL:https://mountaincity.church/events/awana-begins/2024-10-30/
LOCATION:Mountain City Church\, 6401 E Northern Lights Blvd\, Anchorage\, AK\, 99504\, United States
CATEGORIES:Kids,Youth
END:VEVENT
BEGIN:VEVENT
DTSTART;TZID=America/Anchorage:20241030T180000
DTEND;TZID=America/Anchorage:20241030T184500
DTSTAMP:20260422T140533
CREATED:20240828T194357Z
LAST-MODIFIED:20250417T223223Z
UID:10002535-1730311200-1730313900@mountaincity.church
SUMMARY:Wednesday Night Meal
DESCRIPTION:6 – 6:45pm | Cost: $6 kids\, $8 adults \nOur Wednesday night fellowship dinners follow our Awana program scheduling.
URL:https://mountaincity.church/events/wednesday-night-meal-3/2024-10-30/
LOCATION:Cafeteria
CATEGORIES:Meal
ATTACH;FMTTYPE=image/jpeg:https://mountaincity.church/wp-content/uploads/2024/08/Wed_Meal.jpg
END:VEVENT
BEGIN:VEVENT
DTSTART;TZID=America/Anchorage:20241029T103000
DTEND;TZID=America/Anchorage:20241029T120000
DTSTAMP:20260422T140533
CREATED:20240812T195445Z
LAST-MODIFIED:20240826T220946Z
UID:10002520-1730197800-1730203200@mountaincity.church
SUMMARY:Tiny Kids Purposeful Playdate
DESCRIPTION:If you have a tiny kid (infant to 4 yr old)\, we’d like to invite you to join us for a playdate! \nWho is invited: play dates are geared for families with infants to 4-year-olds . Older children are welcome to come\, we suggest bringing something for them. \nWhat: Come grab a coffee on us\, let your little one get their energy out\, and find your community of young families. \nWhen: 10:30am \nWhere: Auditorium Lobby. Look for Tiny Kid Purposeful play date sign by door. \nFor more information\, email Briana at bharris@mountaincity.church
URL:https://mountaincity.church/events/tiny-kids-purposeful-playdate-3/2024-10-29/
LOCATION:Mountain City Church\, 6401 E Northern Lights Blvd\, Anchorage\, AK\, 99504\, United States
CATEGORIES:Kids,Tiny Kids,Women
END:VEVENT
BEGIN:VEVENT
DTSTART;VALUE=DATE:20241026
DTEND;VALUE=DATE:20241027
DTSTAMP:20260422T140533
CREATED:20240902T000157Z
LAST-MODIFIED:20240918T001758Z
UID:10002598-1729900800-1729987199@mountaincity.church
SUMMARY:Fall Festival
DESCRIPTION:Mountain City Christian Academy will put on their annual Fall Festival Saturday\, October 26. Details can be found at mountaincitychristian.academy/fallfestival.
URL:https://mountaincity.church/events/fall-festival/
CATEGORIES:Kids,Tiny Kids,Women,Youth
END:VEVENT
BEGIN:VEVENT
DTSTART;TZID=America/Anchorage:20241023T184500
DTEND;TZID=America/Anchorage:20241023T201500
DTSTAMP:20260422T140533
CREATED:20231229T213906Z
LAST-MODIFIED:20240902T003257Z
UID:10003003-1729709100-1729714500@mountaincity.church
SUMMARY:Awana
DESCRIPTION:Awana will start on Wednesday\, September 4 at 6:45pm. \nLearn more and register at https://mountaincity.church/kids/#awana
URL:https://mountaincity.church/events/awana-begins/2024-10-23/
LOCATION:Mountain City Church\, 6401 E Northern Lights Blvd\, Anchorage\, AK\, 99504\, United States
CATEGORIES:Kids,Youth
END:VEVENT
BEGIN:VEVENT
DTSTART;TZID=America/Anchorage:20241023T180000
DTEND;TZID=America/Anchorage:20241023T184500
DTSTAMP:20260422T140533
CREATED:20240828T194357Z
LAST-MODIFIED:20250417T223223Z
UID:10002534-1729706400-1729709100@mountaincity.church
SUMMARY:Wednesday Night Meal
DESCRIPTION:6 – 6:45pm | Cost: $6 kids\, $8 adults \nOur Wednesday night fellowship dinners follow our Awana program scheduling.
URL:https://mountaincity.church/events/wednesday-night-meal-3/2024-10-23/
LOCATION:Cafeteria
CATEGORIES:Meal
ATTACH;FMTTYPE=image/jpeg:https://mountaincity.church/wp-content/uploads/2024/08/Wed_Meal.jpg
END:VEVENT
BEGIN:VEVENT
DTSTART;TZID=America/Anchorage:20241016T184500
DTEND;TZID=America/Anchorage:20241016T201500
DTSTAMP:20260422T140533
CREATED:20231229T213906Z
LAST-MODIFIED:20240902T003257Z
UID:10003002-1729104300-1729109700@mountaincity.church
SUMMARY:Awana
DESCRIPTION:Awana will start on Wednesday\, September 4 at 6:45pm. \nLearn more and register at https://mountaincity.church/kids/#awana
URL:https://mountaincity.church/events/awana-begins/2024-10-16/
LOCATION:Mountain City Church\, 6401 E Northern Lights Blvd\, Anchorage\, AK\, 99504\, United States
CATEGORIES:Kids,Youth
END:VEVENT
BEGIN:VEVENT
DTSTART;TZID=America/Anchorage:20241016T180000
DTEND;TZID=America/Anchorage:20241016T184500
DTSTAMP:20260422T140533
CREATED:20240828T194357Z
LAST-MODIFIED:20250417T223223Z
UID:10002533-1729101600-1729104300@mountaincity.church
SUMMARY:Wednesday Night Meal
DESCRIPTION:6 – 6:45pm | Cost: $6 kids\, $8 adults \nOur Wednesday night fellowship dinners follow our Awana program scheduling.
URL:https://mountaincity.church/events/wednesday-night-meal-3/2024-10-16/
LOCATION:Cafeteria
CATEGORIES:Meal
ATTACH;FMTTYPE=image/jpeg:https://mountaincity.church/wp-content/uploads/2024/08/Wed_Meal.jpg
END:VEVENT
BEGIN:VEVENT
DTSTART;TZID=America/Anchorage:20241015T103000
DTEND;TZID=America/Anchorage:20241015T120000
DTSTAMP:20260422T140533
CREATED:20240812T195445Z
LAST-MODIFIED:20240826T220946Z
UID:10002526-1728988200-1728993600@mountaincity.church
SUMMARY:Tiny Kids Purposeful Playdate
DESCRIPTION:If you have a tiny kid (infant to 4 yr old)\, we’d like to invite you to join us for a playdate! \nWho is invited: play dates are geared for families with infants to 4-year-olds . Older children are welcome to come\, we suggest bringing something for them. \nWhat: Come grab a coffee on us\, let your little one get their energy out\, and find your community of young families. \nWhen: 10:30am \nWhere: Auditorium Lobby. Look for Tiny Kid Purposeful play date sign by door. \nFor more information\, email Briana at bharris@mountaincity.church
URL:https://mountaincity.church/events/tiny-kids-purposeful-playdate-3/2024-10-15/
LOCATION:Mountain City Church\, 6401 E Northern Lights Blvd\, Anchorage\, AK\, 99504\, United States
CATEGORIES:Kids,Tiny Kids,Women
END:VEVENT
BEGIN:VEVENT
DTSTART;TZID=America/Anchorage:20241013T110000
DTEND;TZID=America/Anchorage:20241013T120000
DTSTAMP:20260422T140533
CREATED:20240901T235242Z
LAST-MODIFIED:20240901T235242Z
UID:10002596-1728817200-1728820800@mountaincity.church
SUMMARY:Child Dedication
DESCRIPTION:If you would like to participate by dedicating your child(ren)\, please register your child by October 9 so that we can prepare a special gift for your child. For more details or to register go to mountaincity.church/dedication or contact Briana Harris at bharris@mountaincity.church.
URL:https://mountaincity.church/events/child-dedication-3/
LOCATION:Mountain City Church\, 6401 E Northern Lights Blvd\, Anchorage\, AK\, 99504\, United States
CATEGORIES:Kids,Tiny Kids,Women
END:VEVENT
BEGIN:VEVENT
DTSTART;TZID=America/Anchorage:20241011T190000
DTEND;TZID=America/Anchorage:20241011T220000
DTSTAMP:20260422T140533
CREATED:20240901T234626Z
LAST-MODIFIED:20240901T234920Z
UID:10002594-1728673200-1728684000@mountaincity.church
SUMMARY:Mountain City Academy Gala
DESCRIPTION:Mountain City Christian Academy invites you to attend their Paving our Future Gala. Join us for an unforgettable evening of inspiration and support as we come together to raise funds for Mountain City Christian Academy. Friday\, October 11\, 2024 at 7pm in the Main Gymnasium Tickets available at mountaincitychristian.academy/gala.
URL:https://mountaincity.church/events/mountain-city-academy-gala/
LOCATION:Big Gym
CATEGORIES:Kids,Men,Women,Youth
END:VEVENT
END:VCALENDAR