BEGIN:VCALENDAR
VERSION:2.0
PRODID:-//Mountain City Church - ECPv6.15.19//NONSGML v1.0//EN
CALSCALE:GREGORIAN
METHOD:PUBLISH
X-WR-CALNAME:Mountain City Church
X-ORIGINAL-URL:https://mountaincity.church
X-WR-CALDESC:Events for Mountain City Church
REFRESH-INTERVAL;VALUE=DURATION:PT1H
X-Robots-Tag:noindex
X-PUBLISHED-TTL:PT1H
BEGIN:VTIMEZONE
TZID:America/Anchorage
BEGIN:DAYLIGHT
TZOFFSETFROM:-0900
TZOFFSETTO:-0800
TZNAME:AKDT
DTSTART:20240310T110000
END:DAYLIGHT
BEGIN:STANDARD
TZOFFSETFROM:-0800
TZOFFSETTO:-0900
TZNAME:AKST
DTSTART:20241103T100000
END:STANDARD
BEGIN:DAYLIGHT
TZOFFSETFROM:-0900
TZOFFSETTO:-0800
TZNAME:AKDT
DTSTART:20250309T110000
END:DAYLIGHT
BEGIN:STANDARD
TZOFFSETFROM:-0800
TZOFFSETTO:-0900
TZNAME:AKST
DTSTART:20251102T100000
END:STANDARD
BEGIN:DAYLIGHT
TZOFFSETFROM:-0900
TZOFFSETTO:-0800
TZNAME:AKDT
DTSTART:20260308T110000
END:DAYLIGHT
BEGIN:STANDARD
TZOFFSETFROM:-0800
TZOFFSETTO:-0900
TZNAME:AKST
DTSTART:20261101T100000
END:STANDARD
END:VTIMEZONE
BEGIN:VEVENT
DTSTART;TZID=America/Anchorage:20250422T103000
DTEND;TZID=America/Anchorage:20250422T120000
DTSTAMP:20260421T175537
CREATED:20250112T035332Z
LAST-MODIFIED:20250112T035332Z
UID:10003111-1745317800-1745323200@mountaincity.church
SUMMARY:Tiny Kid Play Date
DESCRIPTION:If you have a tiny kid (infant to 4 yr old)\, we’d like to invite you to join us for a playdate from 10:30-noon in the Auditorium Lobby at Mountain City Church. For more information\, email Briana Harris at bharris@mountaincity.church.
URL:https://mountaincity.church/events/tiny-kid-play-date-8/
LOCATION:Auditorium Lobby
CATEGORIES:Kids,Tiny Kids,Women
END:VEVENT
BEGIN:VEVENT
DTSTART;TZID=America/Anchorage:20250420T180000
DTEND;TZID=America/Anchorage:20250420T190000
DTSTAMP:20260421T175537
CREATED:20250401T184008Z
LAST-MODIFIED:20250401T184008Z
UID:10003133-1745172000-1745175600@mountaincity.church
SUMMARY:Hope is Alive: Easter Concert
DESCRIPTION:Join us for this incredible evening of music and narration telling the Easter story. Childcare for infant – 4 years is available. This is a free event\, but registration is required. \n  \nRegister Here
URL:https://mountaincity.church/events/concert/2025-04-20/
LOCATION:Mountain City Church Auditorium\, 6401 E Northern Lights Blvd\, Anchorage\, AK\, 99504\, United States
END:VEVENT
BEGIN:VEVENT
DTSTART;TZID=America/Anchorage:20250420T110000
DTEND;TZID=America/Anchorage:20250420T123000
DTSTAMP:20260421T175537
CREATED:20250112T040053Z
LAST-MODIFIED:20250112T040053Z
UID:10003115-1745146800-1745152200@mountaincity.church
SUMMARY:Easter Sunday
DESCRIPTION:Easter is a joyful celebration of the resurrection of Jesus Christ\, marking the victory of life over death and the hope of eternal salvation. It’s a time for families and communities to come together in worship\, reflection\, and celebration of God’s incredible love and grace. We hope you’ll join us at one of our two services. For more information\, visit mountaincity.church/easter.
URL:https://mountaincity.church/events/easter-sunday/2025-04-20/2/
LOCATION:Mountain City Church Auditorium\, 6401 E Northern Lights Blvd\, Anchorage\, AK\, 99504\, United States
CATEGORIES:Kids,Men,Seniors,Tiny Kids,Women,Young Adults,Youth
END:VEVENT
BEGIN:VEVENT
DTSTART;TZID=America/Anchorage:20250420T090000
DTEND;TZID=America/Anchorage:20250420T223000
DTSTAMP:20260421T175537
CREATED:20250112T040053Z
LAST-MODIFIED:20250112T040053Z
UID:10003114-1745139600-1745188200@mountaincity.church
SUMMARY:Easter Sunday
DESCRIPTION:Easter is a joyful celebration of the resurrection of Jesus Christ\, marking the victory of life over death and the hope of eternal salvation. It’s a time for families and communities to come together in worship\, reflection\, and celebration of God’s incredible love and grace. We hope you’ll join us at one of our two services. For more information\, visit mountaincity.church/easter.
URL:https://mountaincity.church/events/easter-sunday/2025-04-20/1/
LOCATION:Mountain City Church Auditorium\, 6401 E Northern Lights Blvd\, Anchorage\, AK\, 99504\, United States
CATEGORIES:Kids,Men,Seniors,Tiny Kids,Women,Young Adults,Youth
END:VEVENT
BEGIN:VEVENT
DTSTART;TZID=America/Anchorage:20250419T180000
DTEND;TZID=America/Anchorage:20250419T190000
DTSTAMP:20260421T175537
CREATED:20250401T184008Z
LAST-MODIFIED:20250401T184008Z
UID:10003132-1745085600-1745089200@mountaincity.church
SUMMARY:Hope is Alive: Easter Concert
DESCRIPTION:Join us for this incredible evening of music and narration telling the Easter story. Childcare for infant – 4 years is available. This is a free event\, but registration is required. \n  \nRegister Here
URL:https://mountaincity.church/events/concert/2025-04-19/
LOCATION:Mountain City Church Auditorium\, 6401 E Northern Lights Blvd\, Anchorage\, AK\, 99504\, United States
END:VEVENT
BEGIN:VEVENT
DTSTART;TZID=America/Anchorage:20250418T180000
DTEND;TZID=America/Anchorage:20250418T193000
DTSTAMP:20260421T175537
CREATED:20250401T183453Z
LAST-MODIFIED:20250401T184131Z
UID:10003131-1744999200-1745004600@mountaincity.church
SUMMARY:Good Friday Meal
DESCRIPTION:On Good Friday\, we’ll gather as a church family to remember what the Lord did for us on the cross. Cost is $6 for children and $8 for adults. \nRegister here!
URL:https://mountaincity.church/events/good-friday-meal/
END:VEVENT
BEGIN:VEVENT
DTSTART;TZID=America/Anchorage:20250416T190000
DTEND;TZID=America/Anchorage:20250416T200000
DTSTAMP:20260421T175537
CREATED:20250401T184609Z
LAST-MODIFIED:20250401T184609Z
UID:10003134-1744830000-1744833600@mountaincity.church
SUMMARY:No Wednesday Night Service
DESCRIPTION:
URL:https://mountaincity.church/events/no-wednesday-night-service/
END:VEVENT
BEGIN:VEVENT
DTSTART;TZID=America/Anchorage:20250416T184500
DTEND;TZID=America/Anchorage:20250416T201500
DTSTAMP:20260421T175537
CREATED:20250108T220522Z
LAST-MODIFIED:20250417T223037Z
UID:10003136-1744829100-1744834500@mountaincity.church
SUMMARY:Awana
DESCRIPTION:Learn more at mountaincity.church/kids/#awana
URL:https://mountaincity.church/events/awana-3/2025-04-16/
LOCATION:CMC Gym
CATEGORIES:Kids,Youth
END:VEVENT
BEGIN:VEVENT
DTSTART;TZID=America/Anchorage:20250416T180000
DTEND;TZID=America/Anchorage:20250416T184500
DTSTAMP:20260421T175537
CREATED:20240828T194357Z
LAST-MODIFIED:20250417T223223Z
UID:10003137-1744826400-1744829100@mountaincity.church
SUMMARY:Wednesday Night Meal
DESCRIPTION:6 – 6:45pm | Cost: $6 kids\, $8 adults \nOur Wednesday night fellowship dinners follow our Awana program scheduling.
URL:https://mountaincity.church/events/wednesday-night-meal-3/2025-04-16/
LOCATION:Cafeteria
CATEGORIES:Meal
ATTACH;FMTTYPE=image/jpeg:https://mountaincity.church/wp-content/uploads/2024/08/Wed_Meal.jpg
END:VEVENT
BEGIN:VEVENT
DTSTART;TZID=America/Anchorage:20250412T180000
DTEND;TZID=America/Anchorage:20250412T200000
DTSTAMP:20260421T175537
CREATED:20250112T035757Z
LAST-MODIFIED:20250401T183045Z
UID:10003113-1744480800-1744488000@mountaincity.church
SUMMARY:Mom & Son Nerf War
DESCRIPTION:Pizza and drinks will be served\, and we’ll provide Nerf guns\, bullets\, and eye protection—feel free to bring your own guns\, but they must be approved upon entrance (no automatic weapons allowed). Cost is $5 per person. Registration coming soon!
URL:https://mountaincity.church/events/mom-son-nerf-war/
LOCATION:CMC Gym
CATEGORIES:Kids,Women
END:VEVENT
BEGIN:VEVENT
DTSTART;TZID=America/Anchorage:20250411T180000
DTEND;TZID=America/Anchorage:20250411T193000
DTSTAMP:20260421T175537
CREATED:20250112T035618Z
LAST-MODIFIED:20250112T035618Z
UID:10003112-1744394400-1744399800@mountaincity.church
SUMMARY:Secret Church
DESCRIPTION:Secret Church is a powerful\, intense\, and immersive gathering designed to dive deep into Scripture\, often lasting several hours\, where believers can grow in their faith and understanding of God’s Word. Inspired by the global underground church movement\, it offers a unique opportunity to explore the Bible in a focused and meaningful way\, often with live worship and prayer. Cost is $10 per person. For more information\, contact Josh Velez at jvelez@mountaincity.church.
URL:https://mountaincity.church/events/secret-church/
LOCATION:Mountain City Student Union
CATEGORIES:Young Adults
END:VEVENT
BEGIN:VEVENT
DTSTART;TZID=America/Anchorage:20250409T184500
DTEND;TZID=America/Anchorage:20250409T201500
DTSTAMP:20260421T175537
CREATED:20250108T220522Z
LAST-MODIFIED:20250417T223037Z
UID:10003041-1744224300-1744229700@mountaincity.church
SUMMARY:Awana
DESCRIPTION:Learn more at mountaincity.church/kids/#awana
URL:https://mountaincity.church/events/awana-3/2025-04-09/
LOCATION:CMC Gym
CATEGORIES:Kids,Youth
END:VEVENT
BEGIN:VEVENT
DTSTART;TZID=America/Anchorage:20250409T180000
DTEND;TZID=America/Anchorage:20250409T184500
DTSTAMP:20260421T175537
CREATED:20240828T194357Z
LAST-MODIFIED:20250417T223223Z
UID:10002558-1744221600-1744224300@mountaincity.church
SUMMARY:Wednesday Night Meal
DESCRIPTION:6 – 6:45pm | Cost: $6 kids\, $8 adults \nOur Wednesday night fellowship dinners follow our Awana program scheduling.
URL:https://mountaincity.church/events/wednesday-night-meal-3/2025-04-09/
LOCATION:Cafeteria
CATEGORIES:Meal
ATTACH;FMTTYPE=image/jpeg:https://mountaincity.church/wp-content/uploads/2024/08/Wed_Meal.jpg
END:VEVENT
BEGIN:VEVENT
DTSTART;TZID=America/Anchorage:20250408T103000
DTEND;TZID=America/Anchorage:20250408T120000
DTSTAMP:20260421T175537
CREATED:20250112T035237Z
LAST-MODIFIED:20250112T035237Z
UID:10003110-1744108200-1744113600@mountaincity.church
SUMMARY:Tiny Kid Play Date
DESCRIPTION:If you have a tiny kid (infant to 4 yr old)\, we’d like to invite you to join us for a playdate from 10:30-noon in the Auditorium Lobby at Mountain City Church. For more information\, email Briana Harris at bharris@mountaincity.church.
URL:https://mountaincity.church/events/tiny-kid-play-date-7/
LOCATION:Auditorium Lobby
CATEGORIES:Kids,Tiny Kids,Women
END:VEVENT
BEGIN:VEVENT
DTSTART;TZID=America/Anchorage:20250402T184500
DTEND;TZID=America/Anchorage:20250402T201500
DTSTAMP:20260421T175537
CREATED:20250108T220522Z
LAST-MODIFIED:20250417T223037Z
UID:10003040-1743619500-1743624900@mountaincity.church
SUMMARY:Awana
DESCRIPTION:Learn more at mountaincity.church/kids/#awana
URL:https://mountaincity.church/events/awana-3/2025-04-02/
LOCATION:CMC Gym
CATEGORIES:Kids,Youth
END:VEVENT
BEGIN:VEVENT
DTSTART;TZID=America/Anchorage:20250402T180000
DTEND;TZID=America/Anchorage:20250402T184500
DTSTAMP:20260421T175537
CREATED:20240828T194357Z
LAST-MODIFIED:20250417T223223Z
UID:10002557-1743616800-1743619500@mountaincity.church
SUMMARY:Wednesday Night Meal
DESCRIPTION:6 – 6:45pm | Cost: $6 kids\, $8 adults \nOur Wednesday night fellowship dinners follow our Awana program scheduling.
URL:https://mountaincity.church/events/wednesday-night-meal-3/2025-04-02/
LOCATION:Cafeteria
CATEGORIES:Meal
ATTACH;FMTTYPE=image/jpeg:https://mountaincity.church/wp-content/uploads/2024/08/Wed_Meal.jpg
END:VEVENT
BEGIN:VEVENT
DTSTART;TZID=America/Anchorage:20250331T183000
DTEND;TZID=America/Anchorage:20250331T203000
DTSTAMP:20260421T175537
CREATED:20250111T153125Z
LAST-MODIFIED:20250111T153125Z
UID:10003109-1743445800-1743453000@mountaincity.church
SUMMARY:Chick Chat
DESCRIPTION:Chick Chat is a vibrant multi-generational community where women connect\, share experiences\, and have meaningful conversations. For more information\, email Betty Stooksbury at bettyacwm@gmail.com.
URL:https://mountaincity.church/events/chick-chat-2/
LOCATION:Mountain City Student Union
CATEGORIES:Seniors,Women,Young Adults
END:VEVENT
BEGIN:VEVENT
DTSTART;TZID=America/Anchorage:20250330T110000
DTEND;TZID=America/Anchorage:20250330T120000
DTSTAMP:20260421T175537
CREATED:20250111T153032Z
LAST-MODIFIED:20250111T153032Z
UID:10003108-1743332400-1743336000@mountaincity.church
SUMMARY:Child Dedication
DESCRIPTION:Child dedication is a heartfelt ceremony where parents publicly commit to raising their child in a faith-filled environment\, seeking God’s guidance and blessings. It’s a special moment for the congregation to pray for the child’s spiritual growth and support the family in their parenting journey. To register your child\, visit mountaincity.church/kids.
URL:https://mountaincity.church/events/child-dedication-4/
LOCATION:Mountain City Church Auditorium\, 6401 E Northern Lights Blvd\, Anchorage\, AK\, 99504\, United States
CATEGORIES:Kids,Men,Tiny Kids,Women
END:VEVENT
BEGIN:VEVENT
DTSTART;VALUE=DATE:20250328
DTEND;VALUE=DATE:20250330
DTSTAMP:20260421T175537
CREATED:20250111T152850Z
LAST-MODIFIED:20250111T152850Z
UID:10003107-1743120000-1743292799@mountaincity.church
SUMMARY:YTH Dare to Share Event
DESCRIPTION:Dare 2 Share LIVE is an evangelism training event that inspires and equips students to share their faith and gives them a chance to do it. This is a free event for students 6-12th grade. This event is Friday\, at 6pm and dinner is included. Saturday\, March 29th\, the event is from 10-3pm and lunch is included. Registration coming soon!
URL:https://mountaincity.church/events/yth-dare-to-share-event/
LOCATION:Mountain City Student Union
CATEGORIES:Youth
END:VEVENT
BEGIN:VEVENT
DTSTART;TZID=America/Anchorage:20250326T184500
DTEND;TZID=America/Anchorage:20250326T201500
DTSTAMP:20260421T175537
CREATED:20250108T220522Z
LAST-MODIFIED:20250417T223037Z
UID:10003039-1743014700-1743020100@mountaincity.church
SUMMARY:Awana
DESCRIPTION:Learn more at mountaincity.church/kids/#awana
URL:https://mountaincity.church/events/awana-3/2025-03-26/
LOCATION:CMC Gym
CATEGORIES:Kids,Youth
END:VEVENT
BEGIN:VEVENT
DTSTART;TZID=America/Anchorage:20250326T180000
DTEND;TZID=America/Anchorage:20250326T184500
DTSTAMP:20260421T175537
CREATED:20240828T194357Z
LAST-MODIFIED:20250417T223223Z
UID:10002556-1743012000-1743014700@mountaincity.church
SUMMARY:Wednesday Night Meal
DESCRIPTION:6 – 6:45pm | Cost: $6 kids\, $8 adults \nOur Wednesday night fellowship dinners follow our Awana program scheduling.
URL:https://mountaincity.church/events/wednesday-night-meal-3/2025-03-26/
LOCATION:Cafeteria
CATEGORIES:Meal
ATTACH;FMTTYPE=image/jpeg:https://mountaincity.church/wp-content/uploads/2024/08/Wed_Meal.jpg
END:VEVENT
BEGIN:VEVENT
DTSTART;TZID=America/Anchorage:20250325T103000
DTEND;TZID=America/Anchorage:20250325T120000
DTSTAMP:20260421T175537
CREATED:20250111T152239Z
LAST-MODIFIED:20250111T152239Z
UID:10003104-1742898600-1742904000@mountaincity.church
SUMMARY:Tiny Kid Play Date
DESCRIPTION:If you have a tiny kid (infant to 4 yr old)\, we’d like to invite you to join us for a playdate from 10:30-noon in the Auditorium Lobby at Mountain City Church. For more information\, email Briana Harris at bharris@mountaincity.church.
URL:https://mountaincity.church/events/tiny-kid-play-date-6/
LOCATION:Auditorium Lobby
CATEGORIES:Kids,Tiny Kids,Women
END:VEVENT
BEGIN:VEVENT
DTSTART;TZID=America/Anchorage:20250321T190000
DTEND;TZID=America/Anchorage:20250321T200000
DTSTAMP:20260421T175537
CREATED:20250111T152715Z
LAST-MODIFIED:20250111T152715Z
UID:10003106-1742583600-1742587200@mountaincity.church
SUMMARY:Gathering Open Mic Night
DESCRIPTION:Come out to OPEN MIC NIGHT on March 21st at 7pm\, where young adults can showcase their talents in a fun\, laid-back setting. Whether it’s music\, poetry\, or comedy it’s a perfect chance to share your passion and connect with others!
URL:https://mountaincity.church/events/gathering-open-mic-night/
LOCATION:Mountain City Student Union
END:VEVENT
BEGIN:VEVENT
DTSTART;TZID=America/Anchorage:20250321T180000
DTEND;TZID=America/Anchorage:20250321T193000
DTSTAMP:20260421T175537
CREATED:20250111T152559Z
LAST-MODIFIED:20250311T044712Z
UID:10003105-1742580000-1742585400@mountaincity.church
SUMMARY:LMMA Family Fun Night
DESCRIPTION:Looking for a preschool? Join us for Family Fun Night at Little Mountain Movers Academy\, where families can explore our campus and enjoy a variety of fun activities together. It’s a great opportunity to learn more about our programs and see how we support your child’s growth in a fun\, relaxed setting. For more details\, contact Lauren Dowd at ldowd@mcc.academy. \nwww.littlemountainmovers.academy/
URL:https://mountaincity.church/events/lmma-family-fun-night/
LOCATION:Little Mountain Movers Academy\, 6401 East Northern Lights Blvd.\, Anchorage\, 99504\, United States
CATEGORIES:Men,Tiny Kids,Women
END:VEVENT
BEGIN:VEVENT
DTSTART;TZID=America/Anchorage:20250319T184500
DTEND;TZID=America/Anchorage:20250319T201500
DTSTAMP:20260421T175537
CREATED:20250108T220522Z
LAST-MODIFIED:20250417T223037Z
UID:10003038-1742409900-1742415300@mountaincity.church
SUMMARY:Awana
DESCRIPTION:Learn more at mountaincity.church/kids/#awana
URL:https://mountaincity.church/events/awana-3/2025-03-19/
LOCATION:CMC Gym
CATEGORIES:Kids,Youth
END:VEVENT
BEGIN:VEVENT
DTSTART;TZID=America/Anchorage:20250319T180000
DTEND;TZID=America/Anchorage:20250319T184500
DTSTAMP:20260421T175537
CREATED:20240828T194357Z
LAST-MODIFIED:20250417T223223Z
UID:10002555-1742407200-1742409900@mountaincity.church
SUMMARY:Wednesday Night Meal
DESCRIPTION:6 – 6:45pm | Cost: $6 kids\, $8 adults \nOur Wednesday night fellowship dinners follow our Awana program scheduling.
URL:https://mountaincity.church/events/wednesday-night-meal-3/2025-03-19/
LOCATION:Cafeteria
CATEGORIES:Meal
ATTACH;FMTTYPE=image/jpeg:https://mountaincity.church/wp-content/uploads/2024/08/Wed_Meal.jpg
END:VEVENT
BEGIN:VEVENT
DTSTART;TZID=America/Anchorage:20250312T184500
DTEND;TZID=America/Anchorage:20250312T201500
DTSTAMP:20260421T175537
CREATED:20250108T220522Z
LAST-MODIFIED:20250417T223037Z
UID:10003037-1741805100-1741810500@mountaincity.church
SUMMARY:Awana
DESCRIPTION:Learn more at mountaincity.church/kids/#awana
URL:https://mountaincity.church/events/awana-3/2025-03-12/
LOCATION:CMC Gym
CATEGORIES:Kids,Youth
END:VEVENT
BEGIN:VEVENT
DTSTART;TZID=America/Anchorage:20250312T180000
DTEND;TZID=America/Anchorage:20250312T184500
DTSTAMP:20260421T175537
CREATED:20240828T194357Z
LAST-MODIFIED:20250417T223223Z
UID:10002554-1741802400-1741805100@mountaincity.church
SUMMARY:Wednesday Night Meal
DESCRIPTION:6 – 6:45pm | Cost: $6 kids\, $8 adults \nOur Wednesday night fellowship dinners follow our Awana program scheduling.
URL:https://mountaincity.church/events/wednesday-night-meal-3/2025-03-12/
LOCATION:Cafeteria
CATEGORIES:Meal
ATTACH;FMTTYPE=image/jpeg:https://mountaincity.church/wp-content/uploads/2024/08/Wed_Meal.jpg
END:VEVENT
BEGIN:VEVENT
DTSTART;TZID=America/Anchorage:20250311T103000
DTEND;TZID=America/Anchorage:20250311T120000
DTSTAMP:20260421T175537
CREATED:20250111T152215Z
LAST-MODIFIED:20250111T152215Z
UID:10003103-1741689000-1741694400@mountaincity.church
SUMMARY:Tiny Kid Play Date
DESCRIPTION:If you have a tiny kid (infant to 4 yr old)\, we’d like to invite you to join us for a playdate from 10:30-noon in the Auditorium Lobby at Mountain City Church. For more information\, email Briana Harris at bharris@mountaincity.church.
URL:https://mountaincity.church/events/tiny-kid-play-date-5/
LOCATION:Auditorium Lobby
CATEGORIES:Kids,Tiny Kids,Women
END:VEVENT
BEGIN:VEVENT
DTSTART;TZID=America/Anchorage:20250307T190000
DTEND;TZID=America/Anchorage:20250307T210000
DTSTAMP:20260421T175537
CREATED:20250111T151904Z
LAST-MODIFIED:20250111T151904Z
UID:10003102-1741374000-1741381200@mountaincity.church
SUMMARY:Kids Movie Night
DESCRIPTION:Join us for a fun Family Movie Night as we watch How to Train Your Dragon on the big screen! Bring your pillows\, blankets\, and stuffed animals\, and enjoy a cozy evening with hot\, fresh popcorn! Parents are welcome to stay or drop off their kids.
URL:https://mountaincity.church/events/kids-movie-night/
LOCATION:Mountain City Student Union
CATEGORIES:Kids
END:VEVENT
END:VCALENDAR