BEGIN:VCALENDAR
VERSION:2.0
PRODID:-//Mountain City Church - ECPv6.15.19//NONSGML v1.0//EN
CALSCALE:GREGORIAN
METHOD:PUBLISH
X-WR-CALNAME:Mountain City Church
X-ORIGINAL-URL:https://mountaincity.church
X-WR-CALDESC:Events for Mountain City Church
REFRESH-INTERVAL;VALUE=DURATION:PT1H
X-Robots-Tag:noindex
X-PUBLISHED-TTL:PT1H
BEGIN:VTIMEZONE
TZID:America/Anchorage
BEGIN:DAYLIGHT
TZOFFSETFROM:-0900
TZOFFSETTO:-0800
TZNAME:AKDT
DTSTART:20250309T110000
END:DAYLIGHT
BEGIN:STANDARD
TZOFFSETFROM:-0800
TZOFFSETTO:-0900
TZNAME:AKST
DTSTART:20251102T100000
END:STANDARD
BEGIN:DAYLIGHT
TZOFFSETFROM:-0900
TZOFFSETTO:-0800
TZNAME:AKDT
DTSTART:20260308T110000
END:DAYLIGHT
BEGIN:STANDARD
TZOFFSETFROM:-0800
TZOFFSETTO:-0900
TZNAME:AKST
DTSTART:20261101T100000
END:STANDARD
BEGIN:DAYLIGHT
TZOFFSETFROM:-0900
TZOFFSETTO:-0800
TZNAME:AKDT
DTSTART:20270314T110000
END:DAYLIGHT
BEGIN:STANDARD
TZOFFSETFROM:-0800
TZOFFSETTO:-0900
TZNAME:AKST
DTSTART:20271107T100000
END:STANDARD
END:VTIMEZONE
BEGIN:VEVENT
DTSTART;TZID=America/Anchorage:20260503T090000
DTEND;TZID=America/Anchorage:20260503T220000
DTSTAMP:20260420T094320
CREATED:20260331T014839Z
LAST-MODIFIED:20260331T014839Z
UID:10003647-1777798800-1777845600@mountaincity.church
SUMMARY:Child Dedication
DESCRIPTION:If you would like to participate in dedicating your child(ren)\, please register your child by 4/29 so that we can prepare a special gift for your family. For more details or to register\, visit mountaincity.church/dedication or email bharris@mountaincity.church. \n 
URL:https://mountaincity.church/events/child-dedication-5/
LOCATION:Mountain City Church Auditorium\, 6401 E Northern Lights Blvd\, Anchorage\, AK\, 99504\, United States
END:VEVENT
BEGIN:VEVENT
DTSTART;TZID=America/Anchorage:20260503T130000
DTEND;TZID=America/Anchorage:20260503T143000
DTSTAMP:20260420T094320
CREATED:20260331T015950Z
LAST-MODIFIED:20260331T015950Z
UID:10003649-1777813200-1777818600@mountaincity.church
SUMMARY:The Gathering - Cinco de Mayo
DESCRIPTION:Young adults\, we’re grabbing lunch after church to enjoy Cinco de Mayo — come join us! For more information\, email apurpero@mountaincity.church.
URL:https://mountaincity.church/events/the-gathering-cinco-de-mayo/
LOCATION:Taco King
CATEGORIES:Young Adults
END:VEVENT
BEGIN:VEVENT
DTSTART;TZID=America/Anchorage:20260503T130000
DTEND;TZID=America/Anchorage:20260503T143000
DTSTAMP:20260420T094320
CREATED:20260331T020119Z
LAST-MODIFIED:20260331T020119Z
UID:10003650-1777813200-1777818600@mountaincity.church
SUMMARY:Alaska Liberty Alliance
DESCRIPTION:Alaska Liberty Alliance is an organization that aims to recruit\, train\, and deploy church-based volunteers to actively support conservative candidates and engage the community with moral and biblical values. Take your next step to become a Christ-centered world changer. For more details\, go to aklibertyalliance.com or email info@aklibertyalliance.com \n 
URL:https://mountaincity.church/events/alaska-liberty-alliance-2/
LOCATION:Cafeteria
END:VEVENT
BEGIN:VEVENT
DTSTART;TZID=America/Anchorage:20260503T170000
DTEND;TZID=America/Anchorage:20260503T183000
DTSTAMP:20260420T094320
CREATED:20250907T021603Z
LAST-MODIFIED:20260320T061004Z
UID:10003277-1777827600-1777833000@mountaincity.church
SUMMARY:AWANA - Trek
DESCRIPTION:Trek is designed to help 6-8th graders own their faith by exploring big life questions and studying the Bible. The program uses a three-year curriculum focused on the questions “Who am I?”\, “Why am I here?”\, and “Who’s with me?” to guide students in their faith journey.  \nTrek meets on Sunday nights at 5pm. \nCost: $50 per student; includes book and uniform. Register at https://rock.mountaincity.church/page/826?EventOccurrenceId=38 \n 
URL:https://mountaincity.church/events/awana-trek/2026-05-03/
CATEGORIES:Youth
END:VEVENT
BEGIN:VEVENT
DTSTART;TZID=America/Anchorage:20260506T180000
DTEND;TZID=America/Anchorage:20260506T184500
DTSTAMP:20260420T094320
CREATED:20251226T164757Z
LAST-MODIFIED:20260330T182843Z
UID:10003590-1778090400-1778093100@mountaincity.church
SUMMARY:Wednesday Night Meal
DESCRIPTION:6 – 6:45pm | Cost – Adults: $10\, Kids: $6 \nOur Wednesday night fellowship dinners follow our Awana program scheduling.
URL:https://mountaincity.church/events/wednesday-night-meal-6/2026-05-06/
LOCATION:Cafeteria
CATEGORIES:Meal
END:VEVENT
BEGIN:VEVENT
DTSTART;TZID=America/Anchorage:20260506T184500
DTEND;TZID=America/Anchorage:20260506T201500
DTSTAMP:20260420T094320
CREATED:20251226T165120Z
LAST-MODIFIED:20251226T165120Z
UID:10003621-1778093100-1778098500@mountaincity.church
SUMMARY:Awana
DESCRIPTION:Awana is a global ministry that focuses on learning God’s Word in a fun atmosphere. Each week\, Awana provides consistent\, positive teaching and training that stresses strong moral and spiritual values. Focusing on child discipleship\, our students learn about the reality of God and the truths of the Bible and to know\, love and serve Christ. \nPuggles (2yo-3 y0)\, Cubbies (3yo -5yo)\, Sparks (Kindergarten – 2nd) \, and T&T (3rd-5th) meet on Wednesday nights. Trek (6th-8th) meet on Sunday nights at 5pm. \nCost: $50 per clubber; includes uniform and book. Register at https://rock.mountaincity.church/page/826?EventOccurrenceId=38
URL:https://mountaincity.church/events/awana-5/2026-05-06/
CATEGORIES:Kids
END:VEVENT
BEGIN:VEVENT
DTSTART;TZID=America/Anchorage:20260510T090000
DTEND;TZID=America/Anchorage:20260510T100000
DTSTAMP:20260420T094320
CREATED:20260330T164506Z
LAST-MODIFIED:20260330T164506Z
UID:10003636-1778403600-1778407200@mountaincity.church
SUMMARY:Front Door
DESCRIPTION:The Front Door is a 3-week experience with the opportunity to learn more about Mountain City Church. Learn about your God-given purpose and spiritual gifts. Take your next step to become a member of Mountain City Church. Jump right in and make an eternal impact in our church and community by serving at Mountain City Church. \nFor more details or to register go to mountaincity.church/frontdoor or contact frontdoor@mountaincity.church.
URL:https://mountaincity.church/events/front-door-3/2026-05-10/
LOCATION:Mountain City Church Room 111\, 6401 E Northern lights BLVD\, Anchorage\, AK\, 99504\, United States
CATEGORIES:Men,Seniors,Women,Young Adults
END:VEVENT
BEGIN:VEVENT
DTSTART;TZID=America/Anchorage:20260510T093000
DTEND;TZID=America/Anchorage:20260510T101500
DTSTAMP:20260420T094320
CREATED:20260331T020602Z
LAST-MODIFIED:20260331T020602Z
UID:10003651-1778405400-1778408100@mountaincity.church
SUMMARY:Senior Recognition Sunday
DESCRIPTION:Seniors and parents\, mark your calendars for May 10 as we honor and pray over our seniors in the church service.
URL:https://mountaincity.church/events/senior-recognition-sunday/
LOCATION:Mountain City Church Auditorium\, 6401 E Northern Lights Blvd\, Anchorage\, AK\, 99504\, United States
END:VEVENT
BEGIN:VEVENT
DTSTART;TZID=America/Anchorage:20260510T170000
DTEND;TZID=America/Anchorage:20260510T183000
DTSTAMP:20260420T094320
CREATED:20250907T021603Z
LAST-MODIFIED:20260320T061004Z
UID:10003278-1778432400-1778437800@mountaincity.church
SUMMARY:AWANA - Trek
DESCRIPTION:Trek is designed to help 6-8th graders own their faith by exploring big life questions and studying the Bible. The program uses a three-year curriculum focused on the questions “Who am I?”\, “Why am I here?”\, and “Who’s with me?” to guide students in their faith journey.  \nTrek meets on Sunday nights at 5pm. \nCost: $50 per student; includes book and uniform. Register at https://rock.mountaincity.church/page/826?EventOccurrenceId=38 \n 
URL:https://mountaincity.church/events/awana-trek/2026-05-10/
CATEGORIES:Youth
END:VEVENT
BEGIN:VEVENT
DTSTART;TZID=America/Anchorage:20260513T180000
DTEND;TZID=America/Anchorage:20260513T184500
DTSTAMP:20260420T094320
CREATED:20251226T164757Z
LAST-MODIFIED:20260330T182843Z
UID:10003591-1778695200-1778697900@mountaincity.church
SUMMARY:Wednesday Night Meal
DESCRIPTION:6 – 6:45pm | Cost – Adults: $10\, Kids: $6 \nOur Wednesday night fellowship dinners follow our Awana program scheduling.
URL:https://mountaincity.church/events/wednesday-night-meal-6/2026-05-13/
LOCATION:Cafeteria
CATEGORIES:Meal
END:VEVENT
BEGIN:VEVENT
DTSTART;TZID=America/Anchorage:20260513T190000
DTEND;TZID=America/Anchorage:20260513T201500
DTSTAMP:20260420T094320
CREATED:20251226T183737Z
LAST-MODIFIED:20251226T183738Z
UID:10003622-1778698800-1778703300@mountaincity.church
SUMMARY:Awana Award Ceremony
DESCRIPTION:Awana is a global ministry that focuses on learning God’s Word in a fun atmosphere. Each week\, Awana provides consistent\, positive teaching and training that stresses strong moral and spiritual values. Focusing on child discipleship\, our students learn about the reality of God and the truths of the Bible and to know\, love and serve Christ. \nPuggles (2yo-3 y0)\, Cubbies (3yo -5yo)\, Sparks (Kindergarten – 2nd) \, and T&T (3rd-5th) meet on Wednesday nights. Trek (6th-8th) meet on Sunday nights at 5pm. \nCost: $50 per clubber; includes uniform and book. Register at https://rock.mountaincity.church/page/826?EventOccurrenceId=38
URL:https://mountaincity.church/events/awana-5-6/
CATEGORIES:Kids
END:VEVENT
BEGIN:VEVENT
DTSTART;TZID=America/Anchorage:20260517T090000
DTEND;TZID=America/Anchorage:20260517T100000
DTSTAMP:20260420T094320
CREATED:20260330T164506Z
LAST-MODIFIED:20260330T164506Z
UID:10003637-1779008400-1779012000@mountaincity.church
SUMMARY:Front Door
DESCRIPTION:The Front Door is a 3-week experience with the opportunity to learn more about Mountain City Church. Learn about your God-given purpose and spiritual gifts. Take your next step to become a member of Mountain City Church. Jump right in and make an eternal impact in our church and community by serving at Mountain City Church. \nFor more details or to register go to mountaincity.church/frontdoor or contact frontdoor@mountaincity.church.
URL:https://mountaincity.church/events/front-door-3/2026-05-17/
LOCATION:Mountain City Church Room 111\, 6401 E Northern lights BLVD\, Anchorage\, AK\, 99504\, United States
CATEGORIES:Men,Seniors,Women,Young Adults
END:VEVENT
BEGIN:VEVENT
DTSTART;TZID=America/Anchorage:20260524T090000
DTEND;TZID=America/Anchorage:20260524T100000
DTSTAMP:20260420T094320
CREATED:20260330T164506Z
LAST-MODIFIED:20260330T164506Z
UID:10003638-1779613200-1779616800@mountaincity.church
SUMMARY:Front Door
DESCRIPTION:The Front Door is a 3-week experience with the opportunity to learn more about Mountain City Church. Learn about your God-given purpose and spiritual gifts. Take your next step to become a member of Mountain City Church. Jump right in and make an eternal impact in our church and community by serving at Mountain City Church. \nFor more details or to register go to mountaincity.church/frontdoor or contact frontdoor@mountaincity.church.
URL:https://mountaincity.church/events/front-door-3/2026-05-24/
LOCATION:Mountain City Church Room 111\, 6401 E Northern lights BLVD\, Anchorage\, AK\, 99504\, United States
CATEGORIES:Men,Seniors,Women,Young Adults
END:VEVENT
BEGIN:VEVENT
DTSTART;TZID=America/Anchorage:20260531T103000
DTEND;TZID=America/Anchorage:20260531T113000
DTSTAMP:20260420T094320
CREATED:20260330T164952Z
LAST-MODIFIED:20260330T164952Z
UID:10003642-1780223400-1780227000@mountaincity.church
SUMMARY:Baptism 101
DESCRIPTION:Baptism is a public celebration of your decision to follow Jesus. That’s a BIG DEAL! In the Bible\, Jesus tells anyone who follows Him to get baptized. Because of that\, here at Mountain City Church\, we encourage everyone who has decided to follow Jesus to get baptized. Take our Baptism 101 class to learn more about what it means to be baptized. \nFor more details or to register\, go to mountaincity.church/baptism or contact baptism@mountaincity.church.
URL:https://mountaincity.church/events/baptism-101-3/2026-05-31/
CATEGORIES:Kids,Men,Seniors,Women,Young Adults,Youth
END:VEVENT
BEGIN:VEVENT
DTSTART;TZID=America/Anchorage:20260602T100000
DTEND;TZID=America/Anchorage:20260602T130000
DTSTAMP:20260420T094320
CREATED:20260331T022522Z
LAST-MODIFIED:20260331T022522Z
UID:10003653-1780394400-1780405200@mountaincity.church
SUMMARY:Kids - Zoo Day
DESCRIPTION:Join Mtn City Kids for Tuesday activities this summer! These fun gatherings are a great way for families to connect and make memories together. Please note that these are not drop-off events. Parents are responsible for their children and any associated costs. We can’t wait to see you there! For more information\, email kids@mountaincity.church or visit mountaincity.church/kids.
URL:https://mountaincity.church/events/kids-zoo-day/
LOCATION:Alaska Zoo
CATEGORIES:Kids
END:VEVENT
BEGIN:VEVENT
DTSTART;TZID=America/Anchorage:20260604T190000
DTEND;TZID=America/Anchorage:20260604T210000
DTSTAMP:20260420T094320
CREATED:20260331T022710Z
LAST-MODIFIED:20260331T022710Z
UID:10003654-1780599600-1780606800@mountaincity.church
SUMMARY:The Gathering - Summer Kick-Off
DESCRIPTION:Young adults\, kick off summer with us — food\, games\, and a great time to hang out and connect! For more information\, email apurpero@mountaincity.church.
URL:https://mountaincity.church/events/the-gathering-summer-kick-off/
LOCATION:Mountain City Student Union
CATEGORIES:Young Adults
END:VEVENT
BEGIN:VEVENT
DTSTART;TZID=America/Anchorage:20260607T130000
DTEND;TZID=America/Anchorage:20260607T143000
DTSTAMP:20260420T094320
CREATED:20260331T022759Z
LAST-MODIFIED:20260331T022759Z
UID:10003655-1780837200-1780842600@mountaincity.church
SUMMARY:Alaska Liberty Alliance
DESCRIPTION:Alaska Liberty Alliance is an organization that aims to recruit\, train\, and deploy church-based volunteers to actively support conservative candidates and engage the community with moral and biblical values. Take your next step to become a Christ-centered world changer. For more details\, go to aklibertyalliance.com or email info@aklibertyalliance.com \n 
URL:https://mountaincity.church/events/alaska-liberty-alliance-3/
LOCATION:Cafeteria
END:VEVENT
BEGIN:VEVENT
DTSTART;TZID=America/Anchorage:20260613T180000
DTEND;TZID=America/Anchorage:20260613T203000
DTSTAMP:20260420T094320
CREATED:20260331T022936Z
LAST-MODIFIED:20260331T022936Z
UID:10003656-1781373600-1781382600@mountaincity.church
SUMMARY:The Gathering - Bonfire
DESCRIPTION:Young adults\, gather at Natalyn’s house for food\, fellowship\, games and fun! Address: 8607 Jade St. For more information\, email apurpero@mountaincity.church.
URL:https://mountaincity.church/events/the-gathering-bonfire/
CATEGORIES:Young Adults
END:VEVENT
BEGIN:VEVENT
DTSTART;TZID=America/Anchorage:20260616T100000
DTEND;TZID=America/Anchorage:20260616T130000
DTSTAMP:20260420T094320
CREATED:20260331T023143Z
LAST-MODIFIED:20260331T023143Z
UID:10003657-1781604000-1781614800@mountaincity.church
SUMMARY:Kids - Eagle River Nature Center
DESCRIPTION:Join Mtn City Kids for Tuesday activities this summer! These fun gatherings are a great way for families to connect and make memories together. Please note that these are not drop-off events. Parents are responsible for their children and any associated costs. We can’t wait to see you there! For more information\, email kids@mountaincity.church or visit mountaincity.church/kids.
URL:https://mountaincity.church/events/kids-eagle-river-nature-center/
CATEGORIES:Young Adults
END:VEVENT
BEGIN:VEVENT
DTSTART;TZID=America/Anchorage:20260616T180000
DTEND;TZID=America/Anchorage:20260616T213000
DTSTAMP:20260420T094320
CREATED:20260331T023342Z
LAST-MODIFIED:20260331T023342Z
UID:10003658-1781632800-1781645400@mountaincity.church
SUMMARY:Middle School - Get Air & FROYO
DESCRIPTION:We’re bouncing through the summer! Join us for an epic night at Get Air followed by frozen yogurt with friends. Come ready to jump\, laugh\, and load up your froyo with your favorite toppings. It’s going to be a blast! For more information\, email Joseph at jewing@mountaincity.church.
URL:https://mountaincity.church/events/middle-school-get-air-froyo/
END:VEVENT
BEGIN:VEVENT
DTSTART;TZID=America/Anchorage:20260622T183000
DTEND;TZID=America/Anchorage:20260622T203000
DTSTAMP:20260420T094320
CREATED:20260331T023623Z
LAST-MODIFIED:20260331T023623Z
UID:10003659-1782153000-1782160200@mountaincity.church
SUMMARY:VBS
DESCRIPTION:VBS is an immersive experience for families with children age 3 to 10. Your kids will sing\, play\, and learn about Jesus in an extremely fun and engaging environment. Register for this 4-day event for free at mountaincity.church/vbs.
URL:https://mountaincity.church/events/vbs-2/2026-06-22/
END:VEVENT
BEGIN:VEVENT
DTSTART;TZID=America/Anchorage:20260623T183000
DTEND;TZID=America/Anchorage:20260623T203000
DTSTAMP:20260420T094320
CREATED:20260331T023623Z
LAST-MODIFIED:20260331T023623Z
UID:10003660-1782239400-1782246600@mountaincity.church
SUMMARY:VBS
DESCRIPTION:VBS is an immersive experience for families with children age 3 to 10. Your kids will sing\, play\, and learn about Jesus in an extremely fun and engaging environment. Register for this 4-day event for free at mountaincity.church/vbs.
URL:https://mountaincity.church/events/vbs-2/2026-06-23/
END:VEVENT
BEGIN:VEVENT
DTSTART;TZID=America/Anchorage:20260624T183000
DTEND;TZID=America/Anchorage:20260624T203000
DTSTAMP:20260420T094320
CREATED:20260331T023623Z
LAST-MODIFIED:20260331T023623Z
UID:10003661-1782325800-1782333000@mountaincity.church
SUMMARY:VBS
DESCRIPTION:VBS is an immersive experience for families with children age 3 to 10. Your kids will sing\, play\, and learn about Jesus in an extremely fun and engaging environment. Register for this 4-day event for free at mountaincity.church/vbs.
URL:https://mountaincity.church/events/vbs-2/2026-06-24/
END:VEVENT
BEGIN:VEVENT
DTSTART;TZID=America/Anchorage:20260628T103000
DTEND;TZID=America/Anchorage:20260628T113000
DTSTAMP:20260420T094320
CREATED:20260330T164952Z
LAST-MODIFIED:20260330T164952Z
UID:10003643-1782642600-1782646200@mountaincity.church
SUMMARY:Baptism 101
DESCRIPTION:Baptism is a public celebration of your decision to follow Jesus. That’s a BIG DEAL! In the Bible\, Jesus tells anyone who follows Him to get baptized. Because of that\, here at Mountain City Church\, we encourage everyone who has decided to follow Jesus to get baptized. Take our Baptism 101 class to learn more about what it means to be baptized. \nFor more details or to register\, go to mountaincity.church/baptism or contact baptism@mountaincity.church.
URL:https://mountaincity.church/events/baptism-101-3/2026-06-28/
CATEGORIES:Kids,Men,Seniors,Women,Young Adults,Youth
END:VEVENT
BEGIN:VEVENT
DTSTART;TZID=America/Anchorage:20260629T183000
DTEND;TZID=America/Anchorage:20260629T203000
DTSTAMP:20260420T094320
CREATED:20260331T023936Z
LAST-MODIFIED:20260331T023936Z
UID:10003662-1782757800-1782765000@mountaincity.church
SUMMARY:Chick Chat
DESCRIPTION:Calling women of all ages! Chick Chat is THE point of connection for women of Mountain City Church. Enjoy food\, fellowship\, a message\, connecting with others\, and learning about opportunities to plug in at Mountain City. For more information\, email Betty Stooksbury at bettyacwm@gmail.com
URL:https://mountaincity.church/events/chick-chat-5/
LOCATION:Mountain City Student Union
END:VEVENT
BEGIN:VEVENT
DTSTART;VALUE=DATE:20260704
DTEND;VALUE=DATE:20260706
DTSTAMP:20260420T094320
CREATED:20260331T024132Z
LAST-MODIFIED:20260331T024132Z
UID:10003663-1783123200-1783295999@mountaincity.church
SUMMARY:Americas 250th Anniversary Celebration
DESCRIPTION:Join us as we celebrate our nation’s 250th anniversary at Mountain City Church. This event will include a self-guided museum of over 500 items spanning four centuries\, reenactments of the Revolutionary and Civil War\, a concert\, and a big picnic with all of our inflatables. For more details\, email Cody Anderson at canderson@mountaincity.church.
URL:https://mountaincity.church/events/americas-250th-anniversary-celebration/
END:VEVENT
BEGIN:VEVENT
DTSTART;TZID=America/Anchorage:20260707T100000
DTEND;TZID=America/Anchorage:20260707T130000
DTSTAMP:20260420T094320
CREATED:20260331T024436Z
LAST-MODIFIED:20260331T024436Z
UID:10003664-1783418400-1783429200@mountaincity.church
SUMMARY:Kids - Mirror Lake
DESCRIPTION:Join Mtn City Kids for Tuesday activities this summer! These fun gatherings are a great way for families to connect and make memories together. Please note that these are not drop-off events. Parents are responsible for their children and any associated costs. We can’t wait to see you there! For more information\, email kids@mountaincity.church or visit mountaincity.church/kids.
URL:https://mountaincity.church/events/kids-mirror-lake-2/
END:VEVENT
BEGIN:VEVENT
DTSTART;VALUE=DATE:20260710
DTEND;VALUE=DATE:20260712
DTSTAMP:20260420T094320
CREATED:20260331T024618Z
LAST-MODIFIED:20260331T024618Z
UID:10003665-1783641600-1783814399@mountaincity.church
SUMMARY:The Gathering - Camping Trip
DESCRIPTION:Young adults\, time for the annual Big Lake camping trip! Join us for food\, games\, fellowship\, s’mores\, and worship! For more information\, email apurpero@mountaincity.church.
URL:https://mountaincity.church/events/the-gathering-camping-trip/
LOCATION:Big Lake
END:VEVENT
BEGIN:VEVENT
DTSTART;VALUE=DATE:20260712
DTEND;VALUE=DATE:20260717
DTSTAMP:20260420T094320
CREATED:20260331T024831Z
LAST-MODIFIED:20260331T024831Z
UID:10003667-1783814400-1784246399@mountaincity.church
SUMMARY:Kids Camp
DESCRIPTION:Kid’s Summer Camp is a time for kids to get out in nature to unplug\, connect with friends\, and learn God’s Word. 2nd through 5th graders are heading to a new location: Camp Maranatha! Cost is $375. Scholarships are available. For more information\, visit mountaincity.church/kidscamp.
URL:https://mountaincity.church/events/kids-camp-3/
LOCATION:Camp Maranatha
CATEGORIES:Kids
END:VEVENT
BEGIN:VEVENT
DTSTART;TZID=America/Anchorage:20260712T130000
DTEND;TZID=America/Anchorage:20260712T143000
DTSTAMP:20260420T094320
CREATED:20260331T024719Z
LAST-MODIFIED:20260331T024719Z
UID:10003666-1783861200-1783866600@mountaincity.church
SUMMARY:Alaska Liberty Alliance
DESCRIPTION:Alaska Liberty Alliance is an organization that aims to recruit\, train\, and deploy church-based volunteers to actively support conservative candidates and engage the community with moral and biblical values. Take your next step to become a Christ-centered world changer. For more details\, go to aklibertyalliance.com or email info@aklibertyalliance.com \n 
URL:https://mountaincity.church/events/alaska-liberty-alliance-4/
LOCATION:Cafeteria
END:VEVENT
END:VCALENDAR