BEGIN:VCALENDAR
VERSION:2.0
PRODID:-//Mountain City Church - ECPv6.15.19//NONSGML v1.0//EN
CALSCALE:GREGORIAN
METHOD:PUBLISH
X-ORIGINAL-URL:https://mountaincity.church
X-WR-CALDESC:Events for Mountain City Church
REFRESH-INTERVAL;VALUE=DURATION:PT1H
X-Robots-Tag:noindex
X-PUBLISHED-TTL:PT1H
BEGIN:VTIMEZONE
TZID:America/Anchorage
BEGIN:DAYLIGHT
TZOFFSETFROM:-0900
TZOFFSETTO:-0800
TZNAME:AKDT
DTSTART:20240310T110000
END:DAYLIGHT
BEGIN:STANDARD
TZOFFSETFROM:-0800
TZOFFSETTO:-0900
TZNAME:AKST
DTSTART:20241103T100000
END:STANDARD
BEGIN:DAYLIGHT
TZOFFSETFROM:-0900
TZOFFSETTO:-0800
TZNAME:AKDT
DTSTART:20250309T110000
END:DAYLIGHT
BEGIN:STANDARD
TZOFFSETFROM:-0800
TZOFFSETTO:-0900
TZNAME:AKST
DTSTART:20251102T100000
END:STANDARD
BEGIN:DAYLIGHT
TZOFFSETFROM:-0900
TZOFFSETTO:-0800
TZNAME:AKDT
DTSTART:20260308T110000
END:DAYLIGHT
BEGIN:STANDARD
TZOFFSETFROM:-0800
TZOFFSETTO:-0900
TZNAME:AKST
DTSTART:20261101T100000
END:STANDARD
END:VTIMEZONE
BEGIN:VEVENT
DTSTART;TZID=America/Anchorage:20251203T181500
DTEND;TZID=America/Anchorage:20251203T201500
DTSTAMP:20260421T020049
CREATED:20250907T035244Z
LAST-MODIFIED:20250907T035244Z
UID:10003328-1764785700-1764792900@mountaincity.church
SUMMARY:YTH Thanksmas
DESCRIPTION:A joyful blend of Thanksgiving and Christmas—filled with delicious food\, fun games\, and a time to celebrate all God has done! For more information\, email jsitkowski@mountaincity.church.
URL:https://mountaincity.church/events/yth-thanksmas-2/
LOCATION:Mountain City Student Union
CATEGORIES:Youth
END:VEVENT
BEGIN:VEVENT
DTSTART;TZID=America/Anchorage:20251207T170000
DTEND;TZID=America/Anchorage:20251207T183000
DTSTAMP:20260421T020049
CREATED:20250907T021603Z
LAST-MODIFIED:20260320T061004Z
UID:10003256-1765126800-1765132200@mountaincity.church
SUMMARY:AWANA - Trek
DESCRIPTION:Trek is designed to help 6-8th graders own their faith by exploring big life questions and studying the Bible. The program uses a three-year curriculum focused on the questions “Who am I?”\, “Why am I here?”\, and “Who’s with me?” to guide students in their faith journey.  \nTrek meets on Sunday nights at 5pm. \nCost: $50 per student; includes book and uniform. Register at https://rock.mountaincity.church/page/826?EventOccurrenceId=38 \n 
URL:https://mountaincity.church/events/awana-trek/2025-12-07/
LOCATION:AK
CATEGORIES:Youth
END:VEVENT
BEGIN:VEVENT
DTSTART;TZID=America/Anchorage:20251212T170000
DTEND;TZID=America/Anchorage:20251212T210000
DTSTAMP:20260421T020049
CREATED:20250907T035537Z
LAST-MODIFIED:20250907T035537Z
UID:10003329-1765558800-1765573200@mountaincity.church
SUMMARY:Christmas Spectacular
DESCRIPTION:This year\, Christmas is going to be Spectacular! All activities begin at 5pm and include pictures with Santa\, crafts with elves\, hot chocolate\, a light show\, an interactive kids’ show\, and more! Be sure to check out mountaincity.church/christmas for details about everything happening this Christmas at Mountain City Church.
URL:https://mountaincity.church/events/christmas-spectacular-3/2025-12-12/
LOCATION:Mountain City Church\, 6401 E Northern Lights Blvd\, Anchorage\, AK\, 99504\, United States
CATEGORIES:Kids,Men,Seniors,Women,Young Adults,Youth
END:VEVENT
BEGIN:VEVENT
DTSTART;TZID=America/Anchorage:20251213T170000
DTEND;TZID=America/Anchorage:20251213T210000
DTSTAMP:20260421T020049
CREATED:20250907T035537Z
LAST-MODIFIED:20250907T035537Z
UID:10003330-1765645200-1765659600@mountaincity.church
SUMMARY:Christmas Spectacular
DESCRIPTION:This year\, Christmas is going to be Spectacular! All activities begin at 5pm and include pictures with Santa\, crafts with elves\, hot chocolate\, a light show\, an interactive kids’ show\, and more! Be sure to check out mountaincity.church/christmas for details about everything happening this Christmas at Mountain City Church.
URL:https://mountaincity.church/events/christmas-spectacular-3/2025-12-13/
LOCATION:Mountain City Church\, 6401 E Northern Lights Blvd\, Anchorage\, AK\, 99504\, United States
CATEGORIES:Kids,Men,Seniors,Women,Young Adults,Youth
END:VEVENT
BEGIN:VEVENT
DTSTART;TZID=America/Anchorage:20251214T170000
DTEND;TZID=America/Anchorage:20251214T183000
DTSTAMP:20260421T020049
CREATED:20250907T021603Z
LAST-MODIFIED:20260320T061004Z
UID:10003257-1765731600-1765737000@mountaincity.church
SUMMARY:AWANA - Trek
DESCRIPTION:Trek is designed to help 6-8th graders own their faith by exploring big life questions and studying the Bible. The program uses a three-year curriculum focused on the questions “Who am I?”\, “Why am I here?”\, and “Who’s with me?” to guide students in their faith journey.  \nTrek meets on Sunday nights at 5pm. \nCost: $50 per student; includes book and uniform. Register at https://rock.mountaincity.church/page/826?EventOccurrenceId=38 \n 
URL:https://mountaincity.church/events/awana-trek/2025-12-14/
LOCATION:AK
CATEGORIES:Youth
END:VEVENT
BEGIN:VEVENT
DTSTART;TZID=America/Anchorage:20251214T170000
DTEND;TZID=America/Anchorage:20251214T210000
DTSTAMP:20260421T020049
CREATED:20250907T035537Z
LAST-MODIFIED:20250907T035537Z
UID:10003331-1765731600-1765746000@mountaincity.church
SUMMARY:Christmas Spectacular
DESCRIPTION:This year\, Christmas is going to be Spectacular! All activities begin at 5pm and include pictures with Santa\, crafts with elves\, hot chocolate\, a light show\, an interactive kids’ show\, and more! Be sure to check out mountaincity.church/christmas for details about everything happening this Christmas at Mountain City Church.
URL:https://mountaincity.church/events/christmas-spectacular-3/2025-12-14/
LOCATION:Mountain City Church\, 6401 E Northern Lights Blvd\, Anchorage\, AK\, 99504\, United States
CATEGORIES:Kids,Men,Seniors,Women,Young Adults,Youth
END:VEVENT
BEGIN:VEVENT
DTSTART;TZID=America/Anchorage:20251221T170000
DTEND;TZID=America/Anchorage:20251221T183000
DTSTAMP:20260421T020049
CREATED:20250907T021603Z
LAST-MODIFIED:20260320T061004Z
UID:10003258-1766336400-1766341800@mountaincity.church
SUMMARY:AWANA - Trek
DESCRIPTION:Trek is designed to help 6-8th graders own their faith by exploring big life questions and studying the Bible. The program uses a three-year curriculum focused on the questions “Who am I?”\, “Why am I here?”\, and “Who’s with me?” to guide students in their faith journey.  \nTrek meets on Sunday nights at 5pm. \nCost: $50 per student; includes book and uniform. Register at https://rock.mountaincity.church/page/826?EventOccurrenceId=38 \n 
URL:https://mountaincity.church/events/awana-trek/2025-12-21/
LOCATION:AK
CATEGORIES:Youth
END:VEVENT
BEGIN:VEVENT
DTSTART;TZID=America/Anchorage:20251224T170000
DTEND;TZID=America/Anchorage:20251224T181500
DTSTAMP:20260421T020049
CREATED:20250907T035944Z
LAST-MODIFIED:20250907T035944Z
UID:10003333-1766595600-1766600100@mountaincity.church
SUMMARY:Christmas Eve Service
DESCRIPTION:As the world gets caught up in the hustle and bustle of the holiday season\, we invite you to take a moment to pause and embrace the true meaning of Christmas at our 5pm candlelight service. We encourage you to bring your family\, friends\, and neighbors to experience the magic of Christmas with us. Be sure to check out mountaincity.church/christmas for details about everything happening this Christmas at Mountain City Church.
URL:https://mountaincity.church/events/christmas-eve-service-3/
LOCATION:Mountain City Church\, 6401 E Northern Lights Blvd\, Anchorage\, AK\, 99504\, United States
CATEGORIES:Kids,Men,Seniors,Women,Young Adults,Youth
END:VEVENT
BEGIN:VEVENT
DTSTART;TZID=America/Anchorage:20251228T170000
DTEND;TZID=America/Anchorage:20251228T183000
DTSTAMP:20260421T020049
CREATED:20250907T021603Z
LAST-MODIFIED:20260320T061004Z
UID:10003629-1766941200-1766946600@mountaincity.church
SUMMARY:AWANA - Trek
DESCRIPTION:Trek is designed to help 6-8th graders own their faith by exploring big life questions and studying the Bible. The program uses a three-year curriculum focused on the questions “Who am I?”\, “Why am I here?”\, and “Who’s with me?” to guide students in their faith journey.  \nTrek meets on Sunday nights at 5pm. \nCost: $50 per student; includes book and uniform. Register at https://rock.mountaincity.church/page/826?EventOccurrenceId=38 \n 
URL:https://mountaincity.church/events/awana-trek/2025-12-28/
LOCATION:AK
CATEGORIES:Youth
END:VEVENT
END:VCALENDAR