BEGIN:VCALENDAR
VERSION:2.0
PRODID:-//Mountain City Church - ECPv6.15.19//NONSGML v1.0//EN
CALSCALE:GREGORIAN
METHOD:PUBLISH
X-WR-CALNAME:Mountain City Church
X-ORIGINAL-URL:https://mountaincity.church
X-WR-CALDESC:Events for Mountain City Church
REFRESH-INTERVAL;VALUE=DURATION:PT1H
X-Robots-Tag:noindex
X-PUBLISHED-TTL:PT1H
BEGIN:VTIMEZONE
TZID:America/Anchorage
BEGIN:DAYLIGHT
TZOFFSETFROM:-0900
TZOFFSETTO:-0800
TZNAME:AKDT
DTSTART:20240310T110000
END:DAYLIGHT
BEGIN:STANDARD
TZOFFSETFROM:-0800
TZOFFSETTO:-0900
TZNAME:AKST
DTSTART:20241103T100000
END:STANDARD
BEGIN:DAYLIGHT
TZOFFSETFROM:-0900
TZOFFSETTO:-0800
TZNAME:AKDT
DTSTART:20250309T110000
END:DAYLIGHT
BEGIN:STANDARD
TZOFFSETFROM:-0800
TZOFFSETTO:-0900
TZNAME:AKST
DTSTART:20251102T100000
END:STANDARD
BEGIN:DAYLIGHT
TZOFFSETFROM:-0900
TZOFFSETTO:-0800
TZNAME:AKDT
DTSTART:20260308T110000
END:DAYLIGHT
BEGIN:STANDARD
TZOFFSETFROM:-0800
TZOFFSETTO:-0900
TZNAME:AKST
DTSTART:20261101T100000
END:STANDARD
END:VTIMEZONE
BEGIN:VEVENT
DTSTART;TZID=America/Anchorage:20251102T170000
DTEND;TZID=America/Anchorage:20251102T183000
DTSTAMP:20260421T034726
CREATED:20250907T021603Z
LAST-MODIFIED:20260320T061004Z
UID:10003251-1762102800-1762108200@mountaincity.church
SUMMARY:AWANA - Trek
DESCRIPTION:Trek is designed to help 6-8th graders own their faith by exploring big life questions and studying the Bible. The program uses a three-year curriculum focused on the questions “Who am I?”\, “Why am I here?”\, and “Who’s with me?” to guide students in their faith journey.  \nTrek meets on Sunday nights at 5pm. \nCost: $50 per student; includes book and uniform. Register at https://rock.mountaincity.church/page/826?EventOccurrenceId=38 \n 
URL:https://mountaincity.church/events/awana-trek/2025-11-02/
LOCATION:AK
CATEGORIES:Youth
END:VEVENT
BEGIN:VEVENT
DTSTART;TZID=America/Anchorage:20251108T103000
DTEND;TZID=America/Anchorage:20251108T150000
DTSTAMP:20260421T034726
CREATED:20250907T033943Z
LAST-MODIFIED:20250907T033943Z
UID:10003324-1762597800-1762614000@mountaincity.church
SUMMARY:YTH Dare2Share
DESCRIPTION:A powerful day of training and outreach — don’t miss it! \nFor more information\, email jsitkowski@mountaincity.church.
URL:https://mountaincity.church/events/yth-dare2share/
LOCATION:Mountain City Student Union
CATEGORIES:Youth
END:VEVENT
BEGIN:VEVENT
DTSTART;TZID=America/Anchorage:20251109T170000
DTEND;TZID=America/Anchorage:20251109T183000
DTSTAMP:20260421T034726
CREATED:20250907T021603Z
LAST-MODIFIED:20260320T061004Z
UID:10003252-1762707600-1762713000@mountaincity.church
SUMMARY:AWANA - Trek
DESCRIPTION:Trek is designed to help 6-8th graders own their faith by exploring big life questions and studying the Bible. The program uses a three-year curriculum focused on the questions “Who am I?”\, “Why am I here?”\, and “Who’s with me?” to guide students in their faith journey.  \nTrek meets on Sunday nights at 5pm. \nCost: $50 per student; includes book and uniform. Register at https://rock.mountaincity.church/page/826?EventOccurrenceId=38 \n 
URL:https://mountaincity.church/events/awana-trek/2025-11-09/
LOCATION:AK
CATEGORIES:Youth
END:VEVENT
BEGIN:VEVENT
DTSTART;TZID=America/Anchorage:20251116T170000
DTEND;TZID=America/Anchorage:20251116T183000
DTSTAMP:20260421T034726
CREATED:20250907T021603Z
LAST-MODIFIED:20260320T061004Z
UID:10003253-1763312400-1763317800@mountaincity.church
SUMMARY:AWANA - Trek
DESCRIPTION:Trek is designed to help 6-8th graders own their faith by exploring big life questions and studying the Bible. The program uses a three-year curriculum focused on the questions “Who am I?”\, “Why am I here?”\, and “Who’s with me?” to guide students in their faith journey.  \nTrek meets on Sunday nights at 5pm. \nCost: $50 per student; includes book and uniform. Register at https://rock.mountaincity.church/page/826?EventOccurrenceId=38 \n 
URL:https://mountaincity.church/events/awana-trek/2025-11-16/
LOCATION:AK
CATEGORIES:Youth
END:VEVENT
BEGIN:VEVENT
DTSTART;TZID=America/Anchorage:20251120T190000
DTEND;TZID=America/Anchorage:20251120T194500
DTSTAMP:20260421T034726
CREATED:20250907T034735Z
LAST-MODIFIED:20251110T234536Z
UID:10003326-1763665200-1763667900@mountaincity.church
SUMMARY:Packing Thanksgiving Food Boxes
DESCRIPTION:The Gathering (young adults) will be packing our Thanksgiving Food Boxes this season. Not a part of The Gathering? No problem\, you are welcome to join in on the fun too! For more information\, contact Jon Palsma at outreach@mountaincity.church.
URL:https://mountaincity.church/events/packing-thanksgiving-food-boxes-2/
LOCATION:Multi-Purpose Gym\, 6401 E Northern Lights Blvd\, Anchorage\, AK\, 99504\, United States
CATEGORIES:Kids,Men,Seniors,Women,Young Adults,Youth
END:VEVENT
BEGIN:VEVENT
DTSTART;TZID=America/Anchorage:20251123T170000
DTEND;TZID=America/Anchorage:20251123T183000
DTSTAMP:20260421T034726
CREATED:20250907T021603Z
LAST-MODIFIED:20260320T061004Z
UID:10003254-1763917200-1763922600@mountaincity.church
SUMMARY:AWANA - Trek
DESCRIPTION:Trek is designed to help 6-8th graders own their faith by exploring big life questions and studying the Bible. The program uses a three-year curriculum focused on the questions “Who am I?”\, “Why am I here?”\, and “Who’s with me?” to guide students in their faith journey.  \nTrek meets on Sunday nights at 5pm. \nCost: $50 per student; includes book and uniform. Register at https://rock.mountaincity.church/page/826?EventOccurrenceId=38 \n 
URL:https://mountaincity.church/events/awana-trek/2025-11-23/
LOCATION:AK
CATEGORIES:Youth
END:VEVENT
BEGIN:VEVENT
DTSTART;TZID=America/Anchorage:20251126T190000
DTEND;TZID=America/Anchorage:20251126T201500
DTSTAMP:20260421T034726
CREATED:20250907T043003Z
LAST-MODIFIED:20250907T043003Z
UID:10003382-1764183600-1764188100@mountaincity.church
SUMMARY:No Church - Happy Thanksgiving
DESCRIPTION:There will be no mid-week service\, fellowship meal\, or Awana tonight. Enjoy your family and Happy Thanksgiving!
URL:https://mountaincity.church/events/no-church-happy-thanksgiving/
LOCATION:Mountain City Church\, 6401 E Northern Lights Blvd\, Anchorage\, AK\, 99504\, United States
CATEGORIES:Kids,Meal,Men,Seniors,Tiny Kids,Women,Young Adults,Youth
END:VEVENT
BEGIN:VEVENT
DTSTART;TZID=America/Anchorage:20251130T170000
DTEND;TZID=America/Anchorage:20251130T183000
DTSTAMP:20260421T034726
CREATED:20250907T021603Z
LAST-MODIFIED:20260320T061004Z
UID:10003255-1764522000-1764527400@mountaincity.church
SUMMARY:AWANA - Trek
DESCRIPTION:Trek is designed to help 6-8th graders own their faith by exploring big life questions and studying the Bible. The program uses a three-year curriculum focused on the questions “Who am I?”\, “Why am I here?”\, and “Who’s with me?” to guide students in their faith journey.  \nTrek meets on Sunday nights at 5pm. \nCost: $50 per student; includes book and uniform. Register at https://rock.mountaincity.church/page/826?EventOccurrenceId=38 \n 
URL:https://mountaincity.church/events/awana-trek/2025-11-30/
LOCATION:AK
CATEGORIES:Youth
END:VEVENT
END:VCALENDAR