BEGIN:VCALENDAR
VERSION:2.0
PRODID:-//Mountain City Church - ECPv6.15.19//NONSGML v1.0//EN
CALSCALE:GREGORIAN
METHOD:PUBLISH
X-WR-CALNAME:Mountain City Church
X-ORIGINAL-URL:https://mountaincity.church
X-WR-CALDESC:Events for Mountain City Church
REFRESH-INTERVAL;VALUE=DURATION:PT1H
X-Robots-Tag:noindex
X-PUBLISHED-TTL:PT1H
BEGIN:VTIMEZONE
TZID:America/Anchorage
BEGIN:DAYLIGHT
TZOFFSETFROM:-0900
TZOFFSETTO:-0800
TZNAME:AKDT
DTSTART:20240310T110000
END:DAYLIGHT
BEGIN:STANDARD
TZOFFSETFROM:-0800
TZOFFSETTO:-0900
TZNAME:AKST
DTSTART:20241103T100000
END:STANDARD
BEGIN:DAYLIGHT
TZOFFSETFROM:-0900
TZOFFSETTO:-0800
TZNAME:AKDT
DTSTART:20250309T110000
END:DAYLIGHT
BEGIN:STANDARD
TZOFFSETFROM:-0800
TZOFFSETTO:-0900
TZNAME:AKST
DTSTART:20251102T100000
END:STANDARD
BEGIN:DAYLIGHT
TZOFFSETFROM:-0900
TZOFFSETTO:-0800
TZNAME:AKDT
DTSTART:20260308T110000
END:DAYLIGHT
BEGIN:STANDARD
TZOFFSETFROM:-0800
TZOFFSETTO:-0900
TZNAME:AKST
DTSTART:20261101T100000
END:STANDARD
END:VTIMEZONE
BEGIN:VEVENT
DTSTART;TZID=America/Anchorage:20250715T190000
DTEND;TZID=America/Anchorage:20250715T210000
DTSTAMP:20260421T095903
CREATED:20250418T151144Z
LAST-MODIFIED:20250418T151144Z
UID:10003157-1752606000-1752613200@mountaincity.church
SUMMARY:YTH Bowl-ae-oke
DESCRIPTION:All Yth 6th – 12th grade are bowling and karaoke July 15th. For more information\, contact Amir at alazenby@mountaincity.church
URL:https://mountaincity.church/events/yth-bowl-ae-oke/
LOCATION:AK
CATEGORIES:Youth
END:VEVENT
BEGIN:VEVENT
DTSTART;TZID=America/Anchorage:20250728T190000
DTEND;TZID=America/Anchorage:20250728T203000
DTSTAMP:20260421T095903
CREATED:20250418T151535Z
LAST-MODIFIED:20250418T151535Z
UID:10003159-1753729200-1753734600@mountaincity.church
SUMMARY:Youth Prayer Night
DESCRIPTION:All 9-12th graders are invited to join us for prayer in the Student Union on Monday\, July 28th. \nFor more information\, contact Amir at alazenby@mountaincity.church.
URL:https://mountaincity.church/events/youth-prayer-night/
LOCATION:AK
CATEGORIES:Youth
END:VEVENT
BEGIN:VEVENT
DTSTART;VALUE=DATE:20250730
DTEND;VALUE=DATE:20250802
DTSTAMP:20260421T095903
CREATED:20250418T151824Z
LAST-MODIFIED:20250418T151824Z
UID:10003160-1753833600-1754092799@mountaincity.church
SUMMARY:Fusion Alaska
DESCRIPTION:Fusion Alaska is a state-wide youth conference where 6th through 12th graders make epic memories having fun while growing in their walk with God. For more details\, visit www.fusionalaska.com. \nColton Dixson will be performing a concert on Thursday night\, July 31. This concert is open to the public. Tickets are $40. *The concert ticket is included in your student’s ticket price for Fusion. To  purchase a ticket for the concert only\, visit purplepass.com/coltondixon
URL:https://mountaincity.church/events/fusion-alaska/
LOCATION:Mountain City Church\, 6401 E Northern Lights Blvd\, Anchorage\, AK\, 99504\, United States
CATEGORIES:Men,Women,Youth
END:VEVENT
END:VCALENDAR