BEGIN:VCALENDAR
VERSION:2.0
PRODID:-//Mountain City Church - ECPv6.15.19//NONSGML v1.0//EN
CALSCALE:GREGORIAN
METHOD:PUBLISH
X-WR-CALNAME:Mountain City Church
X-ORIGINAL-URL:https://mountaincity.church
X-WR-CALDESC:Events for Mountain City Church
REFRESH-INTERVAL;VALUE=DURATION:PT1H
X-Robots-Tag:noindex
X-PUBLISHED-TTL:PT1H
BEGIN:VTIMEZONE
TZID:America/Anchorage
BEGIN:DAYLIGHT
TZOFFSETFROM:-0900
TZOFFSETTO:-0800
TZNAME:AKDT
DTSTART:20240310T110000
END:DAYLIGHT
BEGIN:STANDARD
TZOFFSETFROM:-0800
TZOFFSETTO:-0900
TZNAME:AKST
DTSTART:20241103T100000
END:STANDARD
BEGIN:DAYLIGHT
TZOFFSETFROM:-0900
TZOFFSETTO:-0800
TZNAME:AKDT
DTSTART:20250309T110000
END:DAYLIGHT
BEGIN:STANDARD
TZOFFSETFROM:-0800
TZOFFSETTO:-0900
TZNAME:AKST
DTSTART:20251102T100000
END:STANDARD
BEGIN:DAYLIGHT
TZOFFSETFROM:-0900
TZOFFSETTO:-0800
TZNAME:AKDT
DTSTART:20260308T110000
END:DAYLIGHT
BEGIN:STANDARD
TZOFFSETFROM:-0800
TZOFFSETTO:-0900
TZNAME:AKST
DTSTART:20261101T100000
END:STANDARD
END:VTIMEZONE
BEGIN:VEVENT
DTSTART;TZID=America/Anchorage:20250202T121500
DTEND;TZID=America/Anchorage:20250202T124500
DTSTAMP:20260422T144221
CREATED:20250108T215634Z
LAST-MODIFIED:20250108T215634Z
UID:10003024-1738498500-1738500300@mountaincity.church
SUMMARY:Winter Groups Launch Meet & Greet
DESCRIPTION:Come meet our group leaders right after service! And then join a group! Groups are a place where people have the opportunity to pursue authentic relationships and spiritual growth. All you have to do is show up\, join in\, and be real. Groups are starting back up February 2.
URL:https://mountaincity.church/events/winter-groups-launch-meet-greet/
LOCATION:Big Gym
CATEGORIES:Groups,Men,Seniors,Women,Young Adults
END:VEVENT
BEGIN:VEVENT
DTSTART;TZID=America/Anchorage:20250209T190000
DTEND;TZID=America/Anchorage:20250209T203000
DTSTAMP:20260422T144221
CREATED:20250108T220105Z
LAST-MODIFIED:20250108T220105Z
UID:10003026-1739127600-1739133000@mountaincity.church
SUMMARY:Galentines and Guys Night
DESCRIPTION:A night of fun\, laughter\, and great company with the ladies or the boys. For more details\, please contact Josh Velez at Jvelez@mountaincity.church.
URL:https://mountaincity.church/events/galentines-and-guys-night/
LOCATION:Mountain City Student Union
CATEGORIES:Young Adults
END:VEVENT
BEGIN:VEVENT
DTSTART;TZID=America/Anchorage:20250301T100000
DTEND;TZID=America/Anchorage:20250301T160000
DTSTAMP:20260422T144221
CREATED:20250111T151449Z
LAST-MODIFIED:20250111T151449Z
UID:10003100-1740823200-1740844800@mountaincity.church
SUMMARY:Mountain City Market Craft Bazar
DESCRIPTION:Join us for a one-day Craft Bazaar! We’re looking for vendors of handmade crafts in a variety of categories to showcase their work at this fun community event. For more information\, please contact Mary Slaugenhoup at mountaincitymarket@mcc.academy or call 907-337-9575. \nIf you would like to apply to be a vendor\, applications are accepted through Feb 3. Apply at https://mountaincitychristian.academy/market
URL:https://mountaincity.church/events/mountain-city-market-craft-bazar/
LOCATION:Big Gym
CATEGORIES:Kids,Men,Seniors,Women,Young Adults
END:VEVENT
BEGIN:VEVENT
DTSTART;TZID=America/Anchorage:20250331T183000
DTEND;TZID=America/Anchorage:20250331T203000
DTSTAMP:20260422T144221
CREATED:20250111T153125Z
LAST-MODIFIED:20250111T153125Z
UID:10003109-1743445800-1743453000@mountaincity.church
SUMMARY:Chick Chat
DESCRIPTION:Chick Chat is a vibrant multi-generational community where women connect\, share experiences\, and have meaningful conversations. For more information\, email Betty Stooksbury at bettyacwm@gmail.com.
URL:https://mountaincity.church/events/chick-chat-2/
LOCATION:Mountain City Student Union
CATEGORIES:Seniors,Women,Young Adults
END:VEVENT
BEGIN:VEVENT
DTSTART;TZID=America/Anchorage:20250411T180000
DTEND;TZID=America/Anchorage:20250411T193000
DTSTAMP:20260422T144221
CREATED:20250112T035618Z
LAST-MODIFIED:20250112T035618Z
UID:10003112-1744394400-1744399800@mountaincity.church
SUMMARY:Secret Church
DESCRIPTION:Secret Church is a powerful\, intense\, and immersive gathering designed to dive deep into Scripture\, often lasting several hours\, where believers can grow in their faith and understanding of God’s Word. Inspired by the global underground church movement\, it offers a unique opportunity to explore the Bible in a focused and meaningful way\, often with live worship and prayer. Cost is $10 per person. For more information\, contact Josh Velez at jvelez@mountaincity.church.
URL:https://mountaincity.church/events/secret-church/
LOCATION:Mountain City Student Union
CATEGORIES:Young Adults
END:VEVENT
BEGIN:VEVENT
DTSTART;TZID=America/Anchorage:20250420T090000
DTEND;TZID=America/Anchorage:20250420T223000
DTSTAMP:20260422T144221
CREATED:20250112T040053Z
LAST-MODIFIED:20250112T040053Z
UID:10003114-1745139600-1745188200@mountaincity.church
SUMMARY:Easter Sunday
DESCRIPTION:Easter is a joyful celebration of the resurrection of Jesus Christ\, marking the victory of life over death and the hope of eternal salvation. It’s a time for families and communities to come together in worship\, reflection\, and celebration of God’s incredible love and grace. We hope you’ll join us at one of our two services. For more information\, visit mountaincity.church/easter.
URL:https://mountaincity.church/events/easter-sunday/2025-04-20/1/
LOCATION:Mountain City Church Auditorium\, 6401 E Northern Lights Blvd\, Anchorage\, AK\, 99504\, United States
CATEGORIES:Kids,Men,Seniors,Tiny Kids,Women,Young Adults,Youth
END:VEVENT
BEGIN:VEVENT
DTSTART;TZID=America/Anchorage:20250420T110000
DTEND;TZID=America/Anchorage:20250420T123000
DTSTAMP:20260422T144221
CREATED:20250112T040053Z
LAST-MODIFIED:20250112T040053Z
UID:10003115-1745146800-1745152200@mountaincity.church
SUMMARY:Easter Sunday
DESCRIPTION:Easter is a joyful celebration of the resurrection of Jesus Christ\, marking the victory of life over death and the hope of eternal salvation. It’s a time for families and communities to come together in worship\, reflection\, and celebration of God’s incredible love and grace. We hope you’ll join us at one of our two services. For more information\, visit mountaincity.church/easter.
URL:https://mountaincity.church/events/easter-sunday/2025-04-20/2/
LOCATION:Mountain City Church Auditorium\, 6401 E Northern Lights Blvd\, Anchorage\, AK\, 99504\, United States
CATEGORIES:Kids,Men,Seniors,Tiny Kids,Women,Young Adults,Youth
END:VEVENT
BEGIN:VEVENT
DTSTART;TZID=America/Anchorage:20250501T190000
DTEND;TZID=America/Anchorage:20250501T203000
DTSTAMP:20260422T144221
CREATED:20250418T141626Z
LAST-MODIFIED:20250418T141626Z
UID:10003138-1746126000-1746131400@mountaincity.church
SUMMARY:Night of Prayer & Worship
DESCRIPTION:May 1 is the National Day of Prayer. Come and experience a Night of Worship—a time to step away from the busyness of life\, refocus our hearts\, and connect with God through powerful music and prayer. Don’t miss this chance to worship and be refreshed in His love!
URL:https://mountaincity.church/events/night-of-prayer-worship/
LOCATION:Mountain City Church Auditorium\, 6401 E Northern Lights Blvd\, Anchorage\, AK\, 99504\, United States
CATEGORIES:Men,Seniors,Women,Young Adults
END:VEVENT
BEGIN:VEVENT
DTSTART;TZID=America/Anchorage:20250504T093000
DTEND;TZID=America/Anchorage:20250504T103000
DTSTAMP:20260422T144221
CREATED:20250112T040323Z
LAST-MODIFIED:20250112T040323Z
UID:10003117-1746351000-1746354600@mountaincity.church
SUMMARY:Tiny Kid Open House
DESCRIPTION:At our Open House events\, parents will have the opportunity to tour the classroom and observe our Sunday programming\, meet volunteers from each age group to ask questions\, and explore ways to get involved. The goal is to create a collaborative environment\, offering an upgraded parent Q&A experience where families can connect and learn more about what our Tiny Kid ministry is all about.
URL:https://mountaincity.church/events/tiny-kid-open-house-2/
LOCATION:Room 105
CATEGORIES:Men,Seniors,Tiny Kids,Women,Young Adults
END:VEVENT
BEGIN:VEVENT
DTSTART;TZID=America/Anchorage:20250517T190000
DTEND;TZID=America/Anchorage:20250517T210000
DTSTAMP:20260422T144221
CREATED:20250112T040553Z
LAST-MODIFIED:20250112T040553Z
UID:10003119-1747508400-1747515600@mountaincity.church
SUMMARY:Gathering Bonfire
DESCRIPTION:Our bonfires are a relaxed opportunity to enjoy great conversations\, delicious s’mores\, and build deeper relationships with others in the young adult community. For more information\, email Josh Velez at jvelez@mountaincity.church.
URL:https://mountaincity.church/events/gathering-bonfire/
CATEGORIES:Young Adults
END:VEVENT
BEGIN:VEVENT
DTSTART;TZID=America/Anchorage:20250518T090000
DTEND;TZID=America/Anchorage:20250518T140000
DTSTAMP:20260422T144221
CREATED:20250112T041412Z
LAST-MODIFIED:20250112T041412Z
UID:10003124-1747558800-1747576800@mountaincity.church
SUMMARY:Impact Alaska
DESCRIPTION:WHAT IF a group of churches left the building on a Sunday morning to show the love of Jesus? Impact Alaska is a wide-spread event where churches join in to mobilize the Church to reach many different communities in Alaska. Join as we go serve our neighbors in practical ways from building bunk beds\, to cleaning parks\, and making meals for young single moms. If you have a project idea or questions about impact alaska\, email outreach@mountaincity.church.
URL:https://mountaincity.church/events/impact-alaska-5/
CATEGORIES:Men,Seniors,Women,Young Adults,Youth
END:VEVENT
BEGIN:VEVENT
DTSTART;TZID=America/Anchorage:20250529T190000
DTEND;TZID=America/Anchorage:20250529T210000
DTSTAMP:20260422T144221
CREATED:20250112T041139Z
LAST-MODIFIED:20250112T041139Z
UID:10003123-1748545200-1748552400@mountaincity.church
SUMMARY:Gathering Summer Kickoff
DESCRIPTION:
URL:https://mountaincity.church/events/gathering-summer-kickoff-2/
LOCATION:Mountain City Student Union
CATEGORIES:Young Adults
END:VEVENT
BEGIN:VEVENT
DTSTART;TZID=America/Anchorage:20250614T090000
DTEND;TZID=America/Anchorage:20250614T160000
DTSTAMP:20260422T144221
CREATED:20250418T143347Z
LAST-MODIFIED:20250521T152639Z
UID:10003149-1749891600-1749916800@mountaincity.church
SUMMARY:OCC Yard Sale
DESCRIPTION:Clean out your closets and sell your treasures. Purchase a spot in our parking lot to support Operation Christmas Child. This event is happening June 14th from 9am-4pm. For more information\, email occakministry@gmail.com.
URL:https://mountaincity.church/events/occ-yard-sale-3/
LOCATION:Mountain City Parking Lot\, 6401 E Northern Lights Blvd\, Anchorage\, Alaska\, 99504
CATEGORIES:Men,Seniors,Women,Young Adults
END:VEVENT
BEGIN:VEVENT
DTSTART;VALUE=DATE:20250620
DTEND;VALUE=DATE:20250622
DTSTAMP:20260422T144221
CREATED:20250418T143558Z
LAST-MODIFIED:20250418T143558Z
UID:10003151-1750377600-1750550399@mountaincity.church
SUMMARY:Gathering Camping Trip
DESCRIPTION:The Gathering\, our young adults\, 18-29 yr olds are headed camping June 20-21. Text @GATHTOGO to 81010 for more details.
URL:https://mountaincity.church/events/gathering-camping-trip/
CATEGORIES:Young Adults
END:VEVENT
BEGIN:VEVENT
DTSTART;TZID=America/Anchorage:20250625T190000
DTEND;TZID=America/Anchorage:20250625T203000
DTSTAMP:20260422T144221
CREATED:20250429T142245Z
LAST-MODIFIED:20250429T142245Z
UID:10003169-1750878000-1750883400@mountaincity.church
SUMMARY:No Wednesday Night Service
DESCRIPTION:
URL:https://mountaincity.church/events/no-wednesday-night-service-2/
CATEGORIES:Kids,Men,Seniors,Women,Young Adults
END:VEVENT
BEGIN:VEVENT
DTSTART;TZID=America/Anchorage:20250712T190000
DTEND;TZID=America/Anchorage:20250712T220000
DTSTAMP:20260422T144221
CREATED:20250418T150835Z
LAST-MODIFIED:20250418T150835Z
UID:10003155-1752346800-1752357600@mountaincity.church
SUMMARY:Gathering Bonfire\, Food\, and Games
DESCRIPTION:The Gathering\, our young adults\, 18-29 yr olds are heading to the Wood Family Home on July 12th at 7pm. \nText @GATHTOGO to 81010 for more details.
URL:https://mountaincity.church/events/gathering-bonfire-food-and-games/
CATEGORIES:Young Adults
END:VEVENT
BEGIN:VEVENT
DTSTART;VALUE=DATE:20250807
DTEND;VALUE=DATE:20250809
DTSTAMP:20260422T144221
CREATED:20250418T152009Z
LAST-MODIFIED:20250418T152009Z
UID:10003161-1754524800-1754697599@mountaincity.church
SUMMARY:Global Leadership Summit
DESCRIPTION:We are excited that Mountain City Church will be a local Global Leadership Summit host site for the greater Anchorage region again this summer. On Thursday and Friday\, August 7-8\, 2025\, bring yourself and your team and join other curious\, growth-minded\, change-driven people like you for 2025’s Global Leadership Summit. \nFor more information\, visit mountaincity.church/gls.
URL:https://mountaincity.church/events/global-leadership-summit-3/
LOCATION:Mountain City Church Auditorium\, 6401 E Northern Lights Blvd\, Anchorage\, AK\, 99504\, United States
CATEGORIES:Men,Seniors,Women,Young Adults
END:VEVENT
BEGIN:VEVENT
DTSTART;TZID=America/Anchorage:20250816T180000
DTEND;TZID=America/Anchorage:20250816T200000
DTSTAMP:20260422T144221
CREATED:20250418T152108Z
LAST-MODIFIED:20250418T152108Z
UID:10003162-1755367200-1755374400@mountaincity.church
SUMMARY:Gathering Prayer + Worship Night
DESCRIPTION:The Gathering\, our young adults\, 18-29 yr olds are having a prayer and worship night in the Student Union August 16th at 6pm. \nText @GATHTOGO to 81010 for more details.
URL:https://mountaincity.church/events/gathering-prayer-worship-night/
LOCATION:Mountain City Student Union
CATEGORIES:Young Adults
END:VEVENT
BEGIN:VEVENT
DTSTART;TZID=America/Anchorage:20250907T123000
DTEND;TZID=America/Anchorage:20250907T130000
DTSTAMP:20260422T144221
CREATED:20250907T025420Z
LAST-MODIFIED:20250907T025420Z
UID:10003309-1757248200-1757250000@mountaincity.church
SUMMARY:MTN City Life Fair
DESCRIPTION:Come and see how you and your family can connect and serve within our church at our Fall Mountain City Life Fair. During this fair you will have the opportunity to learn about each of our weekly serve teams as well as each of our many groups that meet throughout the week for a time of prayer\, fellowship\, and Bible study. \nFor more information\, email groups@mountaincity.church
URL:https://mountaincity.church/events/mtn-city-life-fair/
LOCATION:Big Gym
CATEGORIES:Groups,Men,Seniors,Women,Young Adults
END:VEVENT
BEGIN:VEVENT
DTSTART;TZID=America/Anchorage:20250927T190000
DTEND;TZID=America/Anchorage:20250927T210000
DTSTAMP:20260422T144221
CREATED:20250907T030116Z
LAST-MODIFIED:20250907T030116Z
UID:10003318-1758999600-1759006800@mountaincity.church
SUMMARY:Gathering Bonfire
DESCRIPTION:Our young adults are heading to the Wood Family Home or food\, fellowship\, games and fun on September 27th at 7pm. \nFor more information\, email apurpero@mountaincity.church.
URL:https://mountaincity.church/events/gathering-bonfire-3/
CATEGORIES:Young Adults
END:VEVENT
BEGIN:VEVENT
DTSTART;TZID=America/Anchorage:20251007T190000
DTEND;TZID=America/Anchorage:20251007T210000
DTSTAMP:20260422T144221
CREATED:20250907T030351Z
LAST-MODIFIED:20250907T030351Z
UID:10003319-1759863600-1759870800@mountaincity.church
SUMMARY:Re:generation Launch
DESCRIPTION:This Fall we are launching a new addition to our recovery program\, Re:generation\, and are looking for participants and future trainers! Re:generation is a biblically-based discipleship program offering healing\, recovery\, and freedom from any type of struggle. \nFor more information\, email recovery@mountaincity.church.
URL:https://mountaincity.church/events/regeneration-launch/
LOCATION:Room 100\, 6401 E Northern Lights Blvd\, Anchorage\, AK\, 99504\, United States
CATEGORIES:Men,Seniors,Women,Young Adults
END:VEVENT
BEGIN:VEVENT
DTSTART;TZID=America/Anchorage:20251109T090000
DTEND;TZID=America/Anchorage:20251109T100000
DTSTAMP:20260422T144221
CREATED:20251011T205843Z
LAST-MODIFIED:20251011T205843Z
UID:10003385-1762678800-1762682400@mountaincity.church
SUMMARY:Front Door: Week 1
DESCRIPTION:Join us at 9am in Room 111 for a 3-week experience with the opportunity to: \n– Learn more about Mountain City Church.\n– Learn about your God-given purpose and spiritual gifts.\n– Take your next step to become a member of Mountain City Church.\n– Jump right in and make an eternal impact in our church and community by serving at Mountain City Church. \n 
URL:https://mountaincity.church/events/front-door-week-1/
LOCATION:Mountain City Church Room 111\, 6401 E Northern lights BLVD\, Anchorage\, AK\, 99504\, United States
CATEGORIES:Men,Seniors,Women,Young Adults
END:VEVENT
BEGIN:VEVENT
DTSTART;TZID=America/Anchorage:20251116T090000
DTEND;TZID=America/Anchorage:20251116T100000
DTSTAMP:20260422T144221
CREATED:20251011T205938Z
LAST-MODIFIED:20251011T205938Z
UID:10003386-1763283600-1763287200@mountaincity.church
SUMMARY:Front Door: Week 2
DESCRIPTION:Join us at 9am in Room 111 for a 3-week experience with the opportunity to: \n– Learn more about Mountain City Church.\n– Learn about your God-given purpose and spiritual gifts.\n– Take your next step to become a member of Mountain City Church.\n– Jump right in and make an eternal impact in our church and community by serving at Mountain City Church. \n 
URL:https://mountaincity.church/events/front-door-week-2/
LOCATION:Mountain City Church Room 111\, 6401 E Northern lights BLVD\, Anchorage\, AK\, 99504\, United States
CATEGORIES:Men,Seniors,Women,Young Adults
END:VEVENT
BEGIN:VEVENT
DTSTART;TZID=America/Anchorage:20251116T090000
DTEND;TZID=America/Anchorage:20251116T100000
DTSTAMP:20260422T144221
CREATED:20251011T210039Z
LAST-MODIFIED:20251011T210039Z
UID:10003387-1763283600-1763287200@mountaincity.church
SUMMARY:Front Door: Week 3
DESCRIPTION:Join us at 9am in Room 111 for a 3-week experience with the opportunity to: \n– Learn more about Mountain City Church.\n– Learn about your God-given purpose and spiritual gifts.\n– Take your next step to become a member of Mountain City Church.\n– Jump right in and make an eternal impact in our church and community by serving at Mountain City Church. \n 
URL:https://mountaincity.church/events/front-door-week-3/
LOCATION:Mountain City Church Room 111\, 6401 E Northern lights BLVD\, Anchorage\, AK\, 99504\, United States
CATEGORIES:Men,Seniors,Women,Young Adults
END:VEVENT
BEGIN:VEVENT
DTSTART;TZID=America/Anchorage:20251120T190000
DTEND;TZID=America/Anchorage:20251120T194500
DTSTAMP:20260422T144221
CREATED:20250907T034735Z
LAST-MODIFIED:20251110T234536Z
UID:10003326-1763665200-1763667900@mountaincity.church
SUMMARY:Packing Thanksgiving Food Boxes
DESCRIPTION:The Gathering (young adults) will be packing our Thanksgiving Food Boxes this season. Not a part of The Gathering? No problem\, you are welcome to join in on the fun too! For more information\, contact Jon Palsma at outreach@mountaincity.church.
URL:https://mountaincity.church/events/packing-thanksgiving-food-boxes-2/
LOCATION:Multi-Purpose Gym\, 6401 E Northern Lights Blvd\, Anchorage\, AK\, 99504\, United States
CATEGORIES:Kids,Men,Seniors,Women,Young Adults,Youth
END:VEVENT
BEGIN:VEVENT
DTSTART;TZID=America/Anchorage:20251120T193000
DTEND;TZID=America/Anchorage:20251120T213000
DTSTAMP:20260422T144221
CREATED:20250907T035027Z
LAST-MODIFIED:20250907T035027Z
UID:10003327-1763667000-1763674200@mountaincity.church
SUMMARY:Gathering Friendsgiving
DESCRIPTION:Join us for a thanksgiving meal at The Gathering! Sign up to bring food. For more information\, email apurpero@mountaincity.church.
URL:https://mountaincity.church/events/gathering-friendsgiving-2/
LOCATION:Mountain City Student Union
CATEGORIES:Young Adults
END:VEVENT
BEGIN:VEVENT
DTSTART;TZID=America/Anchorage:20251126T190000
DTEND;TZID=America/Anchorage:20251126T201500
DTSTAMP:20260422T144221
CREATED:20250907T043003Z
LAST-MODIFIED:20250907T043003Z
UID:10003382-1764183600-1764188100@mountaincity.church
SUMMARY:No Church - Happy Thanksgiving
DESCRIPTION:There will be no mid-week service\, fellowship meal\, or Awana tonight. Enjoy your family and Happy Thanksgiving!
URL:https://mountaincity.church/events/no-church-happy-thanksgiving/
LOCATION:Mountain City Church\, 6401 E Northern Lights Blvd\, Anchorage\, AK\, 99504\, United States
CATEGORIES:Kids,Meal,Men,Seniors,Tiny Kids,Women,Young Adults,Youth
END:VEVENT
BEGIN:VEVENT
DTSTART;TZID=America/Anchorage:20251212T170000
DTEND;TZID=America/Anchorage:20251212T210000
DTSTAMP:20260422T144221
CREATED:20250907T035537Z
LAST-MODIFIED:20250907T035537Z
UID:10003329-1765558800-1765573200@mountaincity.church
SUMMARY:Christmas Spectacular
DESCRIPTION:This year\, Christmas is going to be Spectacular! All activities begin at 5pm and include pictures with Santa\, crafts with elves\, hot chocolate\, a light show\, an interactive kids’ show\, and more! Be sure to check out mountaincity.church/christmas for details about everything happening this Christmas at Mountain City Church.
URL:https://mountaincity.church/events/christmas-spectacular-3/2025-12-12/
LOCATION:Mountain City Church\, 6401 E Northern Lights Blvd\, Anchorage\, AK\, 99504\, United States
CATEGORIES:Kids,Men,Seniors,Women,Young Adults,Youth
END:VEVENT
BEGIN:VEVENT
DTSTART;TZID=America/Anchorage:20251213T170000
DTEND;TZID=America/Anchorage:20251213T210000
DTSTAMP:20260422T144221
CREATED:20250907T035537Z
LAST-MODIFIED:20250907T035537Z
UID:10003330-1765645200-1765659600@mountaincity.church
SUMMARY:Christmas Spectacular
DESCRIPTION:This year\, Christmas is going to be Spectacular! All activities begin at 5pm and include pictures with Santa\, crafts with elves\, hot chocolate\, a light show\, an interactive kids’ show\, and more! Be sure to check out mountaincity.church/christmas for details about everything happening this Christmas at Mountain City Church.
URL:https://mountaincity.church/events/christmas-spectacular-3/2025-12-13/
LOCATION:Mountain City Church\, 6401 E Northern Lights Blvd\, Anchorage\, AK\, 99504\, United States
CATEGORIES:Kids,Men,Seniors,Women,Young Adults,Youth
END:VEVENT
BEGIN:VEVENT
DTSTART;TZID=America/Anchorage:20251214T170000
DTEND;TZID=America/Anchorage:20251214T210000
DTSTAMP:20260422T144221
CREATED:20250907T035537Z
LAST-MODIFIED:20250907T035537Z
UID:10003331-1765731600-1765746000@mountaincity.church
SUMMARY:Christmas Spectacular
DESCRIPTION:This year\, Christmas is going to be Spectacular! All activities begin at 5pm and include pictures with Santa\, crafts with elves\, hot chocolate\, a light show\, an interactive kids’ show\, and more! Be sure to check out mountaincity.church/christmas for details about everything happening this Christmas at Mountain City Church.
URL:https://mountaincity.church/events/christmas-spectacular-3/2025-12-14/
LOCATION:Mountain City Church\, 6401 E Northern Lights Blvd\, Anchorage\, AK\, 99504\, United States
CATEGORIES:Kids,Men,Seniors,Women,Young Adults,Youth
END:VEVENT
END:VCALENDAR