BEGIN:VCALENDAR
VERSION:2.0
PRODID:-//Mountain City Church - ECPv6.15.19//NONSGML v1.0//EN
CALSCALE:GREGORIAN
METHOD:PUBLISH
X-ORIGINAL-URL:https://mountaincity.church
X-WR-CALDESC:Events for Mountain City Church
REFRESH-INTERVAL;VALUE=DURATION:PT1H
X-Robots-Tag:noindex
X-PUBLISHED-TTL:PT1H
BEGIN:VTIMEZONE
TZID:America/Anchorage
BEGIN:DAYLIGHT
TZOFFSETFROM:-0900
TZOFFSETTO:-0800
TZNAME:AKDT
DTSTART:20240310T110000
END:DAYLIGHT
BEGIN:STANDARD
TZOFFSETFROM:-0800
TZOFFSETTO:-0900
TZNAME:AKST
DTSTART:20241103T100000
END:STANDARD
BEGIN:DAYLIGHT
TZOFFSETFROM:-0900
TZOFFSETTO:-0800
TZNAME:AKDT
DTSTART:20250309T110000
END:DAYLIGHT
BEGIN:STANDARD
TZOFFSETFROM:-0800
TZOFFSETTO:-0900
TZNAME:AKST
DTSTART:20251102T100000
END:STANDARD
BEGIN:DAYLIGHT
TZOFFSETFROM:-0900
TZOFFSETTO:-0800
TZNAME:AKDT
DTSTART:20260308T110000
END:DAYLIGHT
BEGIN:STANDARD
TZOFFSETFROM:-0800
TZOFFSETTO:-0900
TZNAME:AKST
DTSTART:20261101T100000
END:STANDARD
END:VTIMEZONE
BEGIN:VEVENT
DTSTART;TZID=America/Anchorage:20250411T180000
DTEND;TZID=America/Anchorage:20250411T193000
DTSTAMP:20260421T183408
CREATED:20250112T035618Z
LAST-MODIFIED:20250112T035618Z
UID:10003112-1744394400-1744399800@mountaincity.church
SUMMARY:Secret Church
DESCRIPTION:Secret Church is a powerful\, intense\, and immersive gathering designed to dive deep into Scripture\, often lasting several hours\, where believers can grow in their faith and understanding of God’s Word. Inspired by the global underground church movement\, it offers a unique opportunity to explore the Bible in a focused and meaningful way\, often with live worship and prayer. Cost is $10 per person. For more information\, contact Josh Velez at jvelez@mountaincity.church.
URL:https://mountaincity.church/events/secret-church/
LOCATION:Mountain City Student Union
CATEGORIES:Young Adults
END:VEVENT
BEGIN:VEVENT
DTSTART;TZID=America/Anchorage:20250420T090000
DTEND;TZID=America/Anchorage:20250420T223000
DTSTAMP:20260421T183408
CREATED:20250112T040053Z
LAST-MODIFIED:20250112T040053Z
UID:10003114-1745139600-1745188200@mountaincity.church
SUMMARY:Easter Sunday
DESCRIPTION:Easter is a joyful celebration of the resurrection of Jesus Christ\, marking the victory of life over death and the hope of eternal salvation. It’s a time for families and communities to come together in worship\, reflection\, and celebration of God’s incredible love and grace. We hope you’ll join us at one of our two services. For more information\, visit mountaincity.church/easter.
URL:https://mountaincity.church/events/easter-sunday/2025-04-20/1/
LOCATION:Mountain City Church Auditorium\, 6401 E Northern Lights Blvd\, Anchorage\, AK\, 99504\, United States
CATEGORIES:Kids,Men,Seniors,Tiny Kids,Women,Young Adults,Youth
END:VEVENT
BEGIN:VEVENT
DTSTART;TZID=America/Anchorage:20250420T110000
DTEND;TZID=America/Anchorage:20250420T123000
DTSTAMP:20260421T183408
CREATED:20250112T040053Z
LAST-MODIFIED:20250112T040053Z
UID:10003115-1745146800-1745152200@mountaincity.church
SUMMARY:Easter Sunday
DESCRIPTION:Easter is a joyful celebration of the resurrection of Jesus Christ\, marking the victory of life over death and the hope of eternal salvation. It’s a time for families and communities to come together in worship\, reflection\, and celebration of God’s incredible love and grace. We hope you’ll join us at one of our two services. For more information\, visit mountaincity.church/easter.
URL:https://mountaincity.church/events/easter-sunday/2025-04-20/2/
LOCATION:Mountain City Church Auditorium\, 6401 E Northern Lights Blvd\, Anchorage\, AK\, 99504\, United States
CATEGORIES:Kids,Men,Seniors,Tiny Kids,Women,Young Adults,Youth
END:VEVENT
END:VCALENDAR