BEGIN:VCALENDAR
VERSION:2.0
PRODID:-//Mountain City Church - ECPv6.15.19//NONSGML v1.0//EN
CALSCALE:GREGORIAN
METHOD:PUBLISH
X-ORIGINAL-URL:https://mountaincity.church
X-WR-CALDESC:Events for Mountain City Church
REFRESH-INTERVAL;VALUE=DURATION:PT1H
X-Robots-Tag:noindex
X-PUBLISHED-TTL:PT1H
BEGIN:VTIMEZONE
TZID:America/Anchorage
BEGIN:DAYLIGHT
TZOFFSETFROM:-0900
TZOFFSETTO:-0800
TZNAME:AKDT
DTSTART:20230312T110000
END:DAYLIGHT
BEGIN:STANDARD
TZOFFSETFROM:-0800
TZOFFSETTO:-0900
TZNAME:AKST
DTSTART:20231105T100000
END:STANDARD
BEGIN:DAYLIGHT
TZOFFSETFROM:-0900
TZOFFSETTO:-0800
TZNAME:AKDT
DTSTART:20240310T110000
END:DAYLIGHT
BEGIN:STANDARD
TZOFFSETFROM:-0800
TZOFFSETTO:-0900
TZNAME:AKST
DTSTART:20241103T100000
END:STANDARD
BEGIN:DAYLIGHT
TZOFFSETFROM:-0900
TZOFFSETTO:-0800
TZNAME:AKDT
DTSTART:20250309T110000
END:DAYLIGHT
BEGIN:STANDARD
TZOFFSETFROM:-0800
TZOFFSETTO:-0900
TZNAME:AKST
DTSTART:20251102T100000
END:STANDARD
END:VTIMEZONE
BEGIN:VEVENT
DTSTART;VALUE=DATE:20241105
DTEND;VALUE=DATE:20241106
DTSTAMP:20260422T023637
CREATED:20241029T000906Z
LAST-MODIFIED:20241029T000906Z
UID:10003010-1730764800-1730851199@mountaincity.church
SUMMARY:Vote!
DESCRIPTION:Remember to vote in this November election! You can find a digital voter guide here
URL:https://mountaincity.church/events/vote/
CATEGORIES:Men,Seniors,Women,Young Adults
END:VEVENT
BEGIN:VEVENT
DTSTART;TZID=America/Anchorage:20241116T130000
DTEND;TZID=America/Anchorage:20241116T150000
DTSTAMP:20260422T023637
CREATED:20240902T000753Z
LAST-MODIFIED:20240902T000753Z
UID:10002600-1731762000-1731769200@mountaincity.church
SUMMARY:OCC Packing Party
DESCRIPTION:Did you know\, Mountain City Church is the drop-off location for Operation Christmas Child shoeboxes in Alaska? Churches from around the state bring boxes here to send all over the world to kids less fortunate. Starting in November you can pick up a box\, fill it\, and bring it back. We are also going to pack boxes as a church family on November 16th from 1-3pm in the Auditorium Lobby. For more information\, email occakministry@gmail.com
URL:https://mountaincity.church/events/occ-packing-party/
LOCATION:Auditorium Lobby
CATEGORIES:Kids,Men,Seniors,Women,Young Adults,Youth
END:VEVENT
END:VCALENDAR