BEGIN:VCALENDAR
VERSION:2.0
PRODID:-//Mountain City Church - ECPv6.15.19//NONSGML v1.0//EN
CALSCALE:GREGORIAN
METHOD:PUBLISH
X-ORIGINAL-URL:https://mountaincity.church
X-WR-CALDESC:Events for Mountain City Church
REFRESH-INTERVAL;VALUE=DURATION:PT1H
X-Robots-Tag:noindex
X-PUBLISHED-TTL:PT1H
BEGIN:VTIMEZONE
TZID:America/Anchorage
BEGIN:DAYLIGHT
TZOFFSETFROM:-0900
TZOFFSETTO:-0800
TZNAME:AKDT
DTSTART:20250309T110000
END:DAYLIGHT
BEGIN:STANDARD
TZOFFSETFROM:-0800
TZOFFSETTO:-0900
TZNAME:AKST
DTSTART:20251102T100000
END:STANDARD
BEGIN:DAYLIGHT
TZOFFSETFROM:-0900
TZOFFSETTO:-0800
TZNAME:AKDT
DTSTART:20260308T110000
END:DAYLIGHT
BEGIN:STANDARD
TZOFFSETFROM:-0800
TZOFFSETTO:-0900
TZNAME:AKST
DTSTART:20261101T100000
END:STANDARD
BEGIN:DAYLIGHT
TZOFFSETFROM:-0900
TZOFFSETTO:-0800
TZNAME:AKDT
DTSTART:20270314T110000
END:DAYLIGHT
BEGIN:STANDARD
TZOFFSETFROM:-0800
TZOFFSETTO:-0900
TZNAME:AKST
DTSTART:20271107T100000
END:STANDARD
END:VTIMEZONE
BEGIN:VEVENT
DTSTART;TZID=America/Anchorage:20260726T103000
DTEND;TZID=America/Anchorage:20260726T113000
DTSTAMP:20260420T110225
CREATED:20260330T164952Z
LAST-MODIFIED:20260330T164952Z
UID:10003644-1785061800-1785065400@mountaincity.church
SUMMARY:Baptism 101
DESCRIPTION:Baptism is a public celebration of your decision to follow Jesus. That’s a BIG DEAL! In the Bible\, Jesus tells anyone who follows Him to get baptized. Because of that\, here at Mountain City Church\, we encourage everyone who has decided to follow Jesus to get baptized. Take our Baptism 101 class to learn more about what it means to be baptized. \nFor more details or to register\, go to mountaincity.church/baptism or contact baptism@mountaincity.church.
URL:https://mountaincity.church/events/baptism-101-3/2026-07-26/
CATEGORIES:Kids,Men,Seniors,Women,Young Adults,Youth
END:VEVENT
BEGIN:VEVENT
DTSTART;TZID=America/Anchorage:20260726T180000
DTEND;TZID=America/Anchorage:20260726T200000
DTSTAMP:20260420T110225
CREATED:20260331T025340Z
LAST-MODIFIED:20260331T025340Z
UID:10003669-1785088800-1785096000@mountaincity.church
SUMMARY:Make Heaven Crowded Event
DESCRIPTION:The Make Heaven Crowded Event is a Gospel-centered TPUSA Faith gathering calling people to repentance\, faith\, and bold obedience to Jesus. Join us for a night of worship\, preaching\, and ministry. Come expectant and bring someone who needs hope. For more details or to register\, go to makeheavencrowdedtour.com or email Cody Anderson at canderson@mountaincity.church.
URL:https://mountaincity.church/events/make-heaven-crowded-event/
LOCATION:Mountain City Church Auditorium\, 6401 E Northern Lights Blvd\, Anchorage\, AK\, 99504\, United States
END:VEVENT
END:VCALENDAR