BEGIN:VCALENDAR
VERSION:2.0
PRODID:-//Mountain City Church - ECPv6.15.19//NONSGML v1.0//EN
CALSCALE:GREGORIAN
METHOD:PUBLISH
X-WR-CALNAME:Mountain City Church
X-ORIGINAL-URL:https://mountaincity.church
X-WR-CALDESC:Events for Mountain City Church
REFRESH-INTERVAL;VALUE=DURATION:PT1H
X-Robots-Tag:noindex
X-PUBLISHED-TTL:PT1H
BEGIN:VTIMEZONE
TZID:America/Anchorage
BEGIN:DAYLIGHT
TZOFFSETFROM:-0900
TZOFFSETTO:-0800
TZNAME:AKDT
DTSTART:20250309T110000
END:DAYLIGHT
BEGIN:STANDARD
TZOFFSETFROM:-0800
TZOFFSETTO:-0900
TZNAME:AKST
DTSTART:20251102T100000
END:STANDARD
BEGIN:DAYLIGHT
TZOFFSETFROM:-0900
TZOFFSETTO:-0800
TZNAME:AKDT
DTSTART:20260308T110000
END:DAYLIGHT
BEGIN:STANDARD
TZOFFSETFROM:-0800
TZOFFSETTO:-0900
TZNAME:AKST
DTSTART:20261101T100000
END:STANDARD
BEGIN:DAYLIGHT
TZOFFSETFROM:-0900
TZOFFSETTO:-0800
TZNAME:AKDT
DTSTART:20270314T110000
END:DAYLIGHT
BEGIN:STANDARD
TZOFFSETFROM:-0800
TZOFFSETTO:-0900
TZNAME:AKST
DTSTART:20271107T100000
END:STANDARD
END:VTIMEZONE
BEGIN:VEVENT
DTSTART;TZID=America/Anchorage:20260418T140000
DTEND;TZID=America/Anchorage:20260418T160000
DTSTAMP:20260420T065202
CREATED:20251223T213031Z
LAST-MODIFIED:20260331T013645Z
UID:10003517-1776520800-1776528000@mountaincity.church
SUMMARY:Mother - Daughter Tea
DESCRIPTION:A sweet afternoon designed to celebrate the special bond between moms and daughters! Enjoy tea\, delicious desserts\, and meaningful moments together\, along with an encouraging devotional about growing into the women God created us to be – full of grace\, strength\, and faith. \nRegistration for this event is full; however\, you can join our waitlist here. \n 
URL:https://mountaincity.church/events/mother-daughter-tea/
LOCATION:Room 208
CATEGORIES:Kids,Women
END:VEVENT
END:VCALENDAR